{"text_format":"1","workbook":"xlsx","n_sheets":5,"sheets":["Transacción","Base Datos","Control Inv","Indices","Consultas"],"not_rendered":{"charts":1,"images":2,"macros":1,"external_links":0,"defined_names":2,"comments":1,"pivot_tables":0},"unopened":[],"bounds":{"document_bytes":16777216,"sheet_cells":100000,"rows_first":2000,"rows_last":500,"rows_between":2000,"halvings":0,"cell_chars":16384,"cell_head_chars":4096},"cells_cut":0,"cells_raw":0,"read":"whole","date_system":"1900"}

{"sheet":"Transacción","index":0,"n_rows":26,"n_cols":34,"rows_kept":26,"cut":false,"hidden":false,"merged":[[3,4,3,5],[1,1,2,3]]}
[]
[null,"TRANSACCIÓN DE PRODUCTOS",null,null,null,null,null,null,null,1]
[]
[null,"Fecha:",{"$f":"TODAY()","v":"2024-04-04"},"Consecutivo:",{"$f":"IF(C6=\"ENTRADA\",'Base Datos'!K3+1,'Base Datos'!L3+1)","v":3}]
[]
[null,"Transacción:","SALIDA",null,null,null,null,null,null,null,null,null,null,null,null,null,null,null,null,null,null,null,null,null,null,null,"Archivo Plano"]
[]
[null,"Código","Descripción Producto","Referencia","Und/Med.","Cantidad",null,"Saldo/Act.",null,null,null,null,null,null,null,null,null,null,null,null,null,null,null,null,null,null,"Fecha","Conse","Transacción","Código","Descripción","Referencia ","Und/Med","Cantidad"]
[null,{"$f":"IFERROR(INDEX('Control Inv'!$B$6:$E$10000,MATCH(C9,'Control Inv'!$C$6:$C$10000,0),1),0)","v":0},null,{"$f":"IFERROR((INDEX('Control Inv'!$B$6:$E$10000,MATCH(C9,'Control Inv'!$C$6:$C$10000,0),3)),0)","v":0},{"$f":"IFERROR((INDEX('Control Inv'!$B$6:$E$10000,MATCH(C9,'Control Inv'!$C$6:$C$10000,0),4)),0)","v":0},null,null,{"$f":"IF($C$6=\"ENTRADA\",INDEX('Control Inv'!$B$6:$J$10000,MATCH(C9,'Control Inv'!$C$6:$C$10000,0),9)+F9,INDEX('Control Inv'!$B$6:$J$10000,MATCH(C9,'Control Inv'!$C$6:$C$10000,0),9)-F9)","v":0},null,null,null,null,null,null,null,null,null,null,null,null,null,null,null,null,null,null,{"$f":"IF(AH9<>0,$C$4,0)","v":"00:00:00"},{"$f":"IF(AH9<>0,$E$4,0)","v":0},{"$f":"IF(AH9<>0,$C$6,0)","v":0},{"$f":"B9","v":0},{"$f":"C9","v":0},{"$f":"D9","v":0},{"$f":"E9","v":0},{"$f":"F9","v":0}]
[null,{"$f":"IFERROR(INDEX('Control Inv'!$B$6:$E$10000,MATCH(C10,'Control Inv'!$C$6:$C$10000,0),1),0)","v":0},null,{"$f":"IFERROR((INDEX('Control Inv'!$B$6:$E$10000,MATCH(C10,'Control Inv'!$C$6:$C$10000,0),3)),0)","v":0},{"$f":"IFERROR((INDEX('Control Inv'!$B$6:$E$10000,MATCH(C10,'Control Inv'!$C$6:$C$10000,0),4)),0)","v":0},null,null,{"$f":"IF($C$6=\"ENTRADA\",INDEX('Control Inv'!$B$6:$J$10000,MATCH(C10,'Control Inv'!$C$6:$C$10000,0),9)+F10,INDEX('Control Inv'!$B$6:$J$10000,MATCH(C10,'Control Inv'!$C$6:$C$10000,0),9)-F10)","v":0},null,null,null,null,null,null,null,null,null,null,null,null,null,null,null,null,null,null,{"$f":"IF(AH10<>0,$C$4,0)","v":"00:00:00"},{"$f":"IF(AH10<>0,$E$4,0)","v":0},{"$f":"IF(AH10<>0,$C$6,0)","v":0},{"$f":"B10","v":0},{"$f":"C10","v":0},{"$f":"D10","v":0},{"$f":"E10","v":0},{"$f":"F10","v":0}]
[null,{"$f":"IFERROR(INDEX('Control Inv'!$B$6:$E$10000,MATCH(C11,'Control Inv'!$C$6:$C$10000,0),1),0)","v":0},null,{"$f":"IFERROR((INDEX('Control Inv'!$B$6:$E$10000,MATCH(C11,'Control Inv'!$C$6:$C$10000,0),3)),0)","v":0},{"$f":"IFERROR((INDEX('Control Inv'!$B$6:$E$10000,MATCH(C11,'Control Inv'!$C$6:$C$10000,0),4)),0)","v":0},null,null,{"$f":"IF($C$6=\"ENTRADA\",INDEX('Control Inv'!$B$6:$J$10000,MATCH(C11,'Control Inv'!$C$6:$C$10000,0),9)+F11,INDEX('Control Inv'!$B$6:$J$10000,MATCH(C11,'Control Inv'!$C$6:$C$10000,0),9)-F11)","v":0},null,null,null,null,null,null,null,null,null,null,null,null,null,null,null,null,null,null,"00:00:00",0,0,0,0,0,0,0]
[null,{"$f":"IFERROR(INDEX('Control Inv'!$B$6:$E$10000,MATCH(C12,'Control Inv'!$C$6:$C$10000,0),1),0)","v":0},null,{"$f":"IFERROR((INDEX('Control Inv'!$B$6:$E$10000,MATCH(C12,'Control Inv'!$C$6:$C$10000,0),3)),0)","v":0},{"$f":"IFERROR((INDEX('Control Inv'!$B$6:$E$10000,MATCH(C12,'Control Inv'!$C$6:$C$10000,0),4)),0)","v":0},null,null,{"$f":"IF($C$6=\"ENTRADA\",INDEX('Control Inv'!$B$6:$J$10000,MATCH(C12,'Control Inv'!$C$6:$C$10000,0),9)+F12,INDEX('Control Inv'!$B$6:$J$10000,MATCH(C12,'Control Inv'!$C$6:$C$10000,0),9)-F12)","v":0},null,null,null,null,null,null,null,null,null,null,null,null,null,null,null,null,null,null,"00:00:00",0,0,0,0,0,0,0]
[null,{"$f":"IFERROR(INDEX('Control Inv'!$B$6:$E$10000,MATCH(C13,'Control Inv'!$C$6:$C$10000,0),1),0)","v":0},null,{"$f":"IFERROR((INDEX('Control Inv'!$B$6:$E$10000,MATCH(C13,'Control Inv'!$C$6:$C$10000,0),3)),0)","v":0},{"$f":"IFERROR((INDEX('Control Inv'!$B$6:$E$10000,MATCH(C13,'Control Inv'!$C$6:$C$10000,0),4)),0)","v":0},null,null,{"$f":"IF($C$6=\"ENTRADA\",INDEX('Control Inv'!$B$6:$J$10000,MATCH(C13,'Control Inv'!$C$6:$C$10000,0),9)+F13,INDEX('Control Inv'!$B$6:$J$10000,MATCH(C13,'Control Inv'!$C$6:$C$10000,0),9)-F13)","v":0},null,null,null,null,null,null,null,null,null,null,null,null,null,null,null,null,null,null,"00:00:00",0,0,0,0,0,0,0]
[null,{"$f":"IFERROR(INDEX('Control Inv'!$B$6:$E$10000,MATCH(C14,'Control Inv'!$C$6:$C$10000,0),1),0)","v":0},null,{"$f":"IFERROR((INDEX('Control Inv'!$B$6:$E$10000,MATCH(C14,'Control Inv'!$C$6:$C$10000,0),3)),0)","v":0},{"$f":"IFERROR((INDEX('Control Inv'!$B$6:$E$10000,MATCH(C14,'Control Inv'!$C$6:$C$10000,0),4)),0)","v":0},null,null,{"$f":"IF($C$6=\"ENTRADA\",INDEX('Control Inv'!$B$6:$J$10000,MATCH(C14,'Control Inv'!$C$6:$C$10000,0),9)+F14,INDEX('Control Inv'!$B$6:$J$10000,MATCH(C14,'Control Inv'!$C$6:$C$10000,0),9)-F14)","v":0},null,null,null,null,null,null,null,null,null,null,null,null,null,null,null,null,null,null,"00:00:00",0,0,0,0,0,0,0]
[null,{"$f":"IFERROR(INDEX('Control Inv'!$B$6:$E$10000,MATCH(C15,'Control Inv'!$C$6:$C$10000,0),1),0)","v":0},null,{"$f":"IFERROR((INDEX('Control Inv'!$B$6:$E$10000,MATCH(C15,'Control Inv'!$C$6:$C$10000,0),3)),0)","v":0},{"$f":"IFERROR((INDEX('Control Inv'!$B$6:$E$10000,MATCH(C15,'Control Inv'!$C$6:$C$10000,0),4)),0)","v":0},null,null,{"$f":"IF($C$6=\"ENTRADA\",INDEX('Control Inv'!$B$6:$J$10000,MATCH(C15,'Control Inv'!$C$6:$C$10000,0),9)+F15,INDEX('Control Inv'!$B$6:$J$10000,MATCH(C15,'Control Inv'!$C$6:$C$10000,0),9)-F15)","v":0},null,null,null,null,null,null,null,null,null,null,null,null,null,null,null,null,null,null,"00:00:00",0,0,0,0,0,0,0]
[null,{"$f":"IFERROR(INDEX('Control Inv'!$B$6:$E$10000,MATCH(C16,'Control Inv'!$C$6:$C$10000,0),1),0)","v":0},null,{"$f":"IFERROR((INDEX('Control Inv'!$B$6:$E$10000,MATCH(C16,'Control Inv'!$C$6:$C$10000,0),3)),0)","v":0},{"$f":"IFERROR((INDEX('Control Inv'!$B$6:$E$10000,MATCH(C16,'Control Inv'!$C$6:$C$10000,0),4)),0)","v":0},null,null,{"$f":"IF($C$6=\"ENTRADA\",INDEX('Control Inv'!$B$6:$J$10000,MATCH(C16,'Control Inv'!$C$6:$C$10000,0),9)+F16,INDEX('Control Inv'!$B$6:$J$10000,MATCH(C16,'Control Inv'!$C$6:$C$10000,0),9)-F16)","v":0},null,null,null,null,null,null,null,null,null,null,null,null,null,null,null,null,null,null,"00:00:00",0,0,0,0,0,0,0]
[null,{"$f":"IFERROR(INDEX('Control Inv'!$B$6:$E$10000,MATCH(C17,'Control Inv'!$C$6:$C$10000,0),1),0)","v":0},null,{"$f":"IFERROR((INDEX('Control Inv'!$B$6:$E$10000,MATCH(C17,'Control Inv'!$C$6:$C$10000,0),3)),0)","v":0},{"$f":"IFERROR((INDEX('Control Inv'!$B$6:$E$10000,MATCH(C17,'Control Inv'!$C$6:$C$10000,0),4)),0)","v":0},null,null,{"$f":"IF($C$6=\"ENTRADA\",INDEX('Control Inv'!$B$6:$J$10000,MATCH(C17,'Control Inv'!$C$6:$C$10000,0),9)+F17,INDEX('Control Inv'!$B$6:$J$10000,MATCH(C17,'Control Inv'!$C$6:$C$10000,0),9)-F17)","v":0},null,null,null,null,null,null,null,null,null,null,null,null,null,null,null,null,null,null,"00:00:00",0,0,0,0,0,0,0]
[null,{"$f":"IFERROR(INDEX('Control Inv'!$B$6:$E$10000,MATCH(C18,'Control Inv'!$C$6:$C$10000,0),1),0)","v":0},null,{"$f":"IFERROR((INDEX('Control Inv'!$B$6:$E$10000,MATCH(C18,'Control Inv'!$C$6:$C$10000,0),3)),0)","v":0},{"$f":"IFERROR((INDEX('Control Inv'!$B$6:$E$10000,MATCH(C18,'Control Inv'!$C$6:$C$10000,0),4)),0)","v":0},null,null,{"$f":"IF($C$6=\"ENTRADA\",INDEX('Control Inv'!$B$6:$J$10000,MATCH(C18,'Control Inv'!$C$6:$C$10000,0),9)+F18,INDEX('Control Inv'!$B$6:$J$10000,MATCH(C18,'Control Inv'!$C$6:$C$10000,0),9)-F18)","v":0},null,null,null,null,null,null,null,null,null,null,null,null,null,null,null,null,null,null,"00:00:00",0,0,0,0,0,0,0]
[null,{"$f":"IFERROR(INDEX('Control Inv'!$B$6:$E$10000,MATCH(C19,'Control Inv'!$C$6:$C$10000,0),1),0)","v":0},null,{"$f":"IFERROR((INDEX('Control Inv'!$B$6:$E$10000,MATCH(C19,'Control Inv'!$C$6:$C$10000,0),3)),0)","v":0},{"$f":"IFERROR((INDEX('Control Inv'!$B$6:$E$10000,MATCH(C19,'Control Inv'!$C$6:$C$10000,0),4)),0)","v":0},null,null,{"$f":"IF($C$6=\"ENTRADA\",INDEX('Control Inv'!$B$6:$J$10000,MATCH(C19,'Control Inv'!$C$6:$C$10000,0),9)+F19,INDEX('Control Inv'!$B$6:$J$10000,MATCH(C19,'Control Inv'!$C$6:$C$10000,0),9)-F19)","v":0},null,null,null,null,null,null,null,null,null,null,null,null,null,null,null,null,null,null,"00:00:00",0,0,0,0,0,0,0]
[null,{"$f":"IFERROR(INDEX('Control Inv'!$B$6:$E$10000,MATCH(C20,'Control Inv'!$C$6:$C$10000,0),1),0)","v":0},null,{"$f":"IFERROR((INDEX('Control Inv'!$B$6:$E$10000,MATCH(C20,'Control Inv'!$C$6:$C$10000,0),3)),0)","v":0},{"$f":"IFERROR((INDEX('Control Inv'!$B$6:$E$10000,MATCH(C20,'Control Inv'!$C$6:$C$10000,0),4)),0)","v":0},null,null,{"$f":"IF($C$6=\"ENTRADA\",INDEX('Control Inv'!$B$6:$J$10000,MATCH(C20,'Control Inv'!$C$6:$C$10000,0),9)+F20,INDEX('Control Inv'!$B$6:$J$10000,MATCH(C20,'Control Inv'!$C$6:$C$10000,0),9)-F20)","v":0},null,null,null,null,null,null,null,null,null,null,null,null,null,null,null,null,null,null,"00:00:00",0,0,0,0,0,0,0]
[null,{"$f":"IFERROR(INDEX('Control Inv'!$B$6:$E$10000,MATCH(C21,'Control Inv'!$C$6:$C$10000,0),1),0)","v":0},null,{"$f":"IFERROR((INDEX('Control Inv'!$B$6:$E$10000,MATCH(C21,'Control Inv'!$C$6:$C$10000,0),3)),0)","v":0},{"$f":"IFERROR((INDEX('Control Inv'!$B$6:$E$10000,MATCH(C21,'Control Inv'!$C$6:$C$10000,0),4)),0)","v":0},null,null,{"$f":"IF($C$6=\"ENTRADA\",INDEX('Control Inv'!$B$6:$J$10000,MATCH(C21,'Control Inv'!$C$6:$C$10000,0),9)+F21,INDEX('Control Inv'!$B$6:$J$10000,MATCH(C21,'Control Inv'!$C$6:$C$10000,0),9)-F21)","v":0},null,null,null,null,null,null,null,null,null,null,null,null,null,null,null,null,null,null,"00:00:00",0,0,0,0,0,0,0]
[null,{"$f":"IFERROR(INDEX('Control Inv'!$B$6:$E$10000,MATCH(C22,'Control Inv'!$C$6:$C$10000,0),1),0)","v":0},null,{"$f":"IFERROR((INDEX('Control Inv'!$B$6:$E$10000,MATCH(C22,'Control Inv'!$C$6:$C$10000,0),3)),0)","v":0},{"$f":"IFERROR((INDEX('Control Inv'!$B$6:$E$10000,MATCH(C22,'Control Inv'!$C$6:$C$10000,0),4)),0)","v":0},null,null,{"$f":"IF($C$6=\"ENTRADA\",INDEX('Control Inv'!$B$6:$J$10000,MATCH(C22,'Control Inv'!$C$6:$C$10000,0),9)+F22,INDEX('Control Inv'!$B$6:$J$10000,MATCH(C22,'Control Inv'!$C$6:$C$10000,0),9)-F22)","v":0},null,null,null,null,null,null,null,null,null,null,null,null,null,null,null,null,null,null,"00:00:00",0,0,0,0,0,0,0]
[null,{"$f":"IFERROR(INDEX('Control Inv'!$B$6:$E$10000,MATCH(C23,'Control Inv'!$C$6:$C$10000,0),1),0)","v":0},null,{"$f":"IFERROR((INDEX('Control Inv'!$B$6:$E$10000,MATCH(C23,'Control Inv'!$C$6:$C$10000,0),3)),0)","v":0},{"$f":"IFERROR((INDEX('Control Inv'!$B$6:$E$10000,MATCH(C23,'Control Inv'!$C$6:$C$10000,0),4)),0)","v":0},null,null,{"$f":"IF($C$6=\"ENTRADA\",INDEX('Control Inv'!$B$6:$J$10000,MATCH(C23,'Control Inv'!$C$6:$C$10000,0),9)+F23,INDEX('Control Inv'!$B$6:$J$10000,MATCH(C23,'Control Inv'!$C$6:$C$10000,0),9)-F23)","v":0},null,null,null,null,null,null,null,null,null,null,null,null,null,null,null,null,null,null,"00:00:00",0,0,0,0,0,0,0]
[null,null,null,"Total de unidades",null,{"$f":"SUM(F9:F23)","v":0},null,{"$f":"SUM(H9:H23)","v":0}]
[]
[null,null,null,null,4]

{"sheet":"Base Datos","index":1,"n_rows":3000,"n_cols":12,"rows_kept":3000,"cut":false,"hidden":false,"merged":[[1,1,1,4]]}
[]
[null,"BASE DE DATOS MOVIMIENTOS"]
[null,null,null,null,null,null,null,null,null,null,{"$f":"MAX(K5:K3000)","v":3},{"$f":"MAX(L5:L3000)","v":2}]
[null,"Fecha","Conse","Transacción","Codigo","Descripción","Referencia ","Und/Med","Cantidad","ID","E","S"]
[null,"2021-11-01",1,"ENTRADA",485,"Acople Pista 14-11mm","FX036","Unidad",800,{"$f":"CONCATENATE(LEFT(D5,1),E5)","v":"E485"},{"$f":"IF(D5=\"ENTRADA\",C5,0)","v":1},{"$f":"IF(D5=\"SALIDA\",C5,0)","v":0}]
[null,"2021-11-01",1,"ENTRADA",784,"Pasador FP 343",343,"Unidad",400,{"$f":"CONCATENATE(LEFT(D6,1),E6)","v":"E784"},{"$f":"IF(D6=\"ENTRADA\",C6,0)","v":1},{"$f":"IF(D6=\"SALIDA\",C6,0)","v":0}]
[null,"2021-11-01",1,"ENTRADA",957,"Tornilo Central 5/16\" X 3 1/2\"","Galvanizado","Unidad",1000,"E957",{"$f":"IF(D7=\"ENTRADA\",C7,0)","v":1},{"$f":"IF(D7=\"SALIDA\",C7,0)","v":0}]
[null,"2021-11-01",1,"SALIDA",957,"Tornilo Central 5/16\" X 3 1/2\"","Galvanizado","Unidad",7500,"S957",0,1]
[null,"2021-11-01",1,"SALIDA",942,"Pegante sintetico","Acrilico","Litros",50,"S942",0,1]
[null,"2021-11-01",2,"ENTRADA",942,"Pegante sintetico","Acrilico","Litros",200,"E942",2,0]
[null,"2021-11-01",2,"SALIDA",123,"Arandela 1 1/2\" SUP",1035,"Unidad",280,"S123",0,2]
[null,"2021-11-01",3,"ENTRADA",957,"Tornilo Central 5/16\" X 3 1/2\"","Galvanizado","Unidad",500,"E957",3,0]
[null,"00:00:00",0,0,0,0,0,0,0,"00",0,0]
[null,"00:00:00",0,0,0,0,0,0,0,"00",0,0]
[null,"00:00:00",0,0,0,0,0,0,0,"00",0,0]
[null,"00:00:00",0,0,0,0,0,0,0,"00",0,0]
[null,"00:00:00",0,0,0,0,0,0,0,"00",0,0]
[null,"00:00:00",0,0,0,0,0,0,0,"00",0,0]
[null,"00:00:00",0,0,0,0,0,0,0,"00",0,0]
[null,"00:00:00",0,0,0,0,0,0,0,"00",0,0]
[null,"00:00:00",0,0,0,0,0,0,0,"00",0,0]
[null,"00:00:00",0,0,0,0,0,0,0,"00",0,0]
[null,"00:00:00",0,0,0,0,0,0,0,"00",0,0]
[null,"00:00:00",0,0,0,0,0,0,0,"00",0,0]
[null,"00:00:00",0,0,0,0,0,0,0,"00",0,0]
[null,"00:00:00",0,0,0,0,0,0,0,"00",0,0]
[null,"00:00:00",0,0,0,0,0,0,0,"00",0,0]
[null,null,null,null,null,null,null,null,null,"",0,0]
[null,null,null,null,null,null,null,null,null,"",0,0]
[null,null,null,null,null,null,null,null,null,"",0,0]
[null,null,null,null,null,null,null,null,null,"",0,0]
[null,null,null,null,null,null,null,null,null,"",0,0]
[null,null,null,null,null,null,null,null,null,"",0,0]
[null,null,null,null,null,null,null,null,null,"",0,0]
[null,null,null,null,null,null,null,null,null,"",0,0]
[null,null,null,null,null,null,null,null,null,"",0,0]
[null,null,null,null,null,null,null,null,null,"",0,0]
[null,null,null,null,null,null,null,null,null,"",0,0]
[null,null,null,null,null,null,null,null,null,"",0,0]
[null,null,null,null,null,null,null,null,null,"",0,0]
[null,null,null,null,null,null,null,null,null,"",0,0]
[null,null,null,null,null,null,null,null,null,"",0,0]
[null,null,null,null,null,null,null,null,null,"",0,0]
[null,null,null,null,null,null,null,null,null,"",0,0]
[null,null,null,null,null,null,null,null,null,"",0,0]
[null,null,null,null,null,null,null,null,null,"",0,0]
[null,null,null,null,null,null,null,null,null,"",0,0]
[null,null,null,null,null,null,null,null,null,"",0,0]
[null,null,null,null,null,null,null,null,null,"",0,0]
[null,null,null,null,null,null,null,null,null,"",0,0]
[null,null,null,null,null,null,null,null,null,"",0,0]
[null,null,null,null,null,null,null,null,null,"",0,0]
[null,null,null,null,null,null,null,null,null,"",0,0]
[null,null,null,null,null,null,null,null,null,"",0,0]
[null,null,null,null,null,null,null,null,null,"",0,0]
[null,null,null,null,null,null,null,null,null,"",0,0]
[null,null,null,null,null,null,null,null,null,"",0,0]
[null,null,null,null,null,null,null,null,null,"",0,0]
[null,null,null,null,null,null,null,null,null,"",0,0]
[null,null,null,null,null,null,null,null,null,"",0,0]
[null,null,null,null,null,null,null,null,null,"",0,0]
[null,null,null,null,null,null,null,null,null,"",0,0]
[null,null,null,null,null,null,null,null,null,"",0,0]
[null,null,null,null,null,null,null,null,null,"",0,0]
[null,null,null,null,null,null,null,null,null,"",0,0]
[null,null,null,null,null,null,null,null,null,"",0,0]
[null,null,null,null,null,null,null,null,null,"",0,0]
[null,null,null,null,null,null,null,null,null,"",0,0]
[null,null,null,null,null,null,null,null,null,"",0,0]
[null,null,null,null,null,null,null,null,null,{"$f":"CONCATENATE(LEFT(D70,1),E70)","v":""},0,0]
[null,null,null,null,null,null,null,null,null,"",{"$f":"IF(D71=\"ENTRADA\",C71,0)","v":0},{"$f":"IF(D71=\"SALIDA\",C71,0)","v":0}]
[null,null,null,null,null,null,null,null,null,"",0,0]
[null,null,null,null,null,null,null,null,null,"",0,0]
[null,null,null,null,null,null,null,null,null,"",0,0]
[null,null,null,null,null,null,null,null,null,"",0,0]
[null,null,null,null,null,null,null,null,null,"",0,0]
[null,null,null,null,null,null,null,null,null,"",0,0]
[null,null,null,null,null,null,null,null,null,"",0,0]
[null,null,null,null,null,null,null,null,null,"",0,0]
[null,null,null,null,null,null,null,null,null,"",0,0]
[null,null,null,null,null,null,null,null,null,"",0,0]
[null,null,null,null,null,null,null,null,null,"",0,0]
[null,null,null,null,null,null,null,null,null,"",0,0]
[null,null,null,null,null,null,null,null,null,"",0,0]
[null,null,null,null,null,null,null,null,null,"",0,0]
[null,null,null,null,null,null,null,null,null,"",0,0]
[null,null,null,null,null,null,null,null,null,"",0,0]
[null,null,null,null,null,null,null,null,null,"",0,0]
[null,null,null,null,null,null,null,null,null,"",0,0]
[null,null,null,null,null,null,null,null,null,"",0,0]
[null,null,null,null,null,null,null,null,null,"",0,0]
[null,null,null,null,null,null,null,null,null,"",0,0]
[null,null,null,null,null,null,null,null,null,"",0,0]
[null,null,null,null,null,null,null,null,null,"",0,0]
[null,null,null,null,null,null,null,null,null,"",0,0]
[null,null,null,null,null,null,null,null,null,"",0,0]
[null,null,null,null,null,null,null,null,null,"",0,0]
[null,null,null,null,null,null,null,null,null,"",0,0]
[null,null,null,null,null,null,null,null,null,"",0,0]
[null,null,null,null,null,null,null,null,null,"",0,0]
[null,null,null,null,null,null,null,null,null,"",0,0]
[null,null,null,null,null,null,null,null,null,"",0,0]
[null,null,null,null,null,null,null,null,null,"",0,0]
[null,null,null,null,null,null,null,null,null,"",0,0]
[null,null,null,null,null,null,null,null,null,"",0,0]
[null,null,null,null,null,null,null,null,null,"",0,0]
[null,null,null,null,null,null,null,null,null,"",0,0]
[null,null,null,null,null,null,null,null,null,"",0,0]
[null,null,null,null,null,null,null,null,null,"",0,0]
[null,null,null,null,null,null,null,null,null,"",0,0]
[null,null,null,null,null,null,null,null,null,"",0,0]
[null,null,null,null,null,null,null,null,null,"",0,0]
[null,null,null,null,null,null,null,null,null,"",0,0]
[null,null,null,null,null,null,null,null,null,"",0,0]
[null,null,null,null,null,null,null,null,null,"",0,0]
[null,null,null,null,null,null,null,null,null,"",0,0]
[null,null,null,null,null,null,null,null,null,"",0,0]
[null,null,null,null,null,null,null,null,null,"",0,0]
[null,null,null,null,null,null,null,null,null,"",0,0]
[null,null,null,null,null,null,null,null,null,"",0,0]
[null,null,null,null,null,null,null,null,null,"",0,0]
[null,null,null,null,null,null,null,null,null,"",0,0]
[null,null,null,null,null,null,null,null,null,"",0,0]
[null,null,null,null,null,null,null,null,null,"",0,0]
[null,null,null,null,null,null,null,null,null,"",0,0]
[null,null,null,null,null,null,null,null,null,"",0,0]
[null,null,null,null,null,null,null,null,null,"",0,0]
[null,null,null,null,null,null,null,null,null,"",0,0]
[null,null,null,null,null,null,null,null,null,"",0,0]
[null,null,null,null,null,null,null,null,null,"",0,0]
[null,null,null,null,null,null,null,null,null,"",0,0]
[null,null,null,null,null,null,null,null,null,"",0,0]
[null,null,null,null,null,null,null,null,null,"",0,0]
[null,null,null,null,null,null,null,null,null,{"$f":"CONCATENATE(LEFT(D134,1),E134)","v":""},0,0]
[null,null,null,null,null,null,null,null,null,"",{"$f":"IF(D135=\"ENTRADA\",C135,0)","v":0},{"$f":"IF(D135=\"SALIDA\",C135,0)","v":0}]
[null,null,null,null,null,null,null,null,null,"",0,0]
[null,null,null,null,null,null,null,null,null,"",0,0]
[null,null,null,null,null,null,null,null,null,"",0,0]
[null,null,null,null,null,null,null,null,null,"",0,0]
[null,null,null,null,null,null,null,null,null,"",0,0]
[null,null,null,null,null,null,null,null,null,"",0,0]
[null,null,null,null,null,null,null,null,null,"",0,0]
[null,null,null,null,null,null,null,null,null,"",0,0]
[null,null,null,null,null,null,null,null,null,"",0,0]
[null,null,null,null,null,null,null,null,null,"",0,0]
[null,null,null,null,null,null,null,null,null,"",0,0]
[null,null,null,null,null,null,null,null,null,"",0,0]
[null,null,null,null,null,null,null,null,null,"",0,0]
[null,null,null,null,null,null,null,null,null,"",0,0]
[null,null,null,null,null,null,null,null,null,"",0,0]
[null,null,null,null,null,null,null,null,null,"",0,0]
[null,null,null,null,null,null,null,null,null,"",0,0]
[null,null,null,null,null,null,null,null,null,"",0,0]
[null,null,null,null,null,null,null,null,null,"",0,0]
[null,null,null,null,null,null,null,null,null,"",0,0]
[null,null,null,null,null,null,null,null,null,"",0,0]
[null,null,null,null,null,null,null,null,null,"",0,0]
[null,null,null,null,null,null,null,null,null,"",0,0]
[null,null,null,null,null,null,null,null,null,"",0,0]
[null,null,null,null,null,null,null,null,null,"",0,0]
[null,null,null,null,null,null,null,null,null,"",0,0]
[null,null,null,null,null,null,null,null,null,"",0,0]
[null,null,null,null,null,null,null,null,null,"",0,0]
[null,null,null,null,null,null,null,null,null,"",0,0]
[null,null,null,null,null,null,null,null,null,"",0,0]
[null,null,null,null,null,null,null,null,null,"",0,0]
[null,null,null,null,null,null,null,null,null,"",0,0]
[null,null,null,null,null,null,null,null,null,"",0,0]
[null,null,null,null,null,null,null,null,null,"",0,0]
[null,null,null,null,null,null,null,null,null,"",0,0]
[null,null,null,null,null,null,null,null,null,"",0,0]
[null,null,null,null,null,null,null,null,null,"",0,0]
[null,null,null,null,null,null,null,null,null,"",0,0]
[null,null,null,null,null,null,null,null,null,"",0,0]
[null,null,null,null,null,null,null,null,null,"",0,0]
[null,null,null,null,null,null,null,null,null,"",0,0]
[null,null,null,null,null,null,null,null,null,"",0,0]
[null,null,null,null,null,null,null,null,null,"",0,0]
[null,null,null,null,null,null,null,null,null,"",0,0]
[null,null,null,null,null,null,null,null,null,"",0,0]
[null,null,null,null,null,null,null,null,null,"",0,0]
[null,null,null,null,null,null,null,null,null,"",0,0]
[null,null,null,null,null,null,null,null,null,"",0,0]
[null,null,null,null,null,null,null,null,null,"",0,0]
[null,null,null,null,null,null,null,null,null,"",0,0]
[null,null,null,null,null,null,null,null,null,"",0,0]
[null,null,null,null,null,null,null,null,null,"",0,0]
[null,null,null,null,null,null,null,null,null,"",0,0]
[null,null,null,null,null,null,null,null,null,"",0,0]
[null,null,null,null,null,null,null,null,null,"",0,0]
[null,null,null,null,null,null,null,null,null,"",0,0]
[null,null,null,null,null,null,null,null,null,"",0,0]
[null,null,null,null,null,null,null,null,null,"",0,0]
[null,null,null,null,null,null,null,null,null,"",0,0]
[null,null,null,null,null,null,null,null,null,"",0,0]
[null,null,null,null,null,null,null,null,null,"",0,0]
[null,null,null,null,null,null,null,null,null,"",0,0]
[null,null,null,null,null,null,null,null,null,{"$f":"CONCATENATE(LEFT(D198,1),E198)","v":""},0,0]
[null,null,null,null,null,null,null,null,null,"",{"$f":"IF(D199=\"ENTRADA\",C199,0)","v":0},{"$f":"IF(D199=\"SALIDA\",C199,0)","v":0}]
[null,null,null,null,null,null,null,null,null,"",0,0]
[null,null,null,null,null,null,null,null,null,"",0,0]
[null,null,null,null,null,null,null,null,null,"",0,0]
[null,null,null,null,null,null,null,null,null,"",0,0]
[null,null,null,null,null,null,null,null,null,"",0,0]
[null,null,null,null,null,null,null,null,null,"",0,0]
[null,null,null,null,null,null,null,null,null,"",0,0]
[null,null,null,null,null,null,null,null,null,"",0,0]
[null,null,null,null,null,null,null,null,null,"",0,0]
[null,null,null,null,null,null,null,null,null,"",0,0]
[null,null,null,null,null,null,null,null,null,"",0,0]
[null,null,null,null,null,null,null,null,null,"",0,0]
[null,null,null,null,null,null,null,null,null,"",0,0]
[null,null,null,null,null,null,null,null,null,"",0,0]
[null,null,null,null,null,null,null,null,null,"",0,0]
[null,null,null,null,null,null,null,null,null,"",0,0]
[null,null,null,null,null,null,null,null,null,"",0,0]
[null,null,null,null,null,null,null,null,null,"",0,0]
[null,null,null,null,null,null,null,null,null,"",0,0]
[null,null,null,null,null,null,null,null,null,"",0,0]
[null,null,null,null,null,null,null,null,null,"",0,0]
[null,null,null,null,null,null,null,null,null,"",0,0]
[null,null,null,null,null,null,null,null,null,"",0,0]
[null,null,null,null,null,null,null,null,null,"",0,0]
[null,null,null,null,null,null,null,null,null,"",0,0]
[null,null,null,null,null,null,null,null,null,"",0,0]
[null,null,null,null,null,null,null,null,null,"",0,0]
[null,null,null,null,null,null,null,null,null,"",0,0]
[null,null,null,null,null,null,null,null,null,"",0,0]
[null,null,null,null,null,null,null,null,null,"",0,0]
[null,null,null,null,null,null,null,null,null,"",0,0]
[null,null,null,null,null,null,null,null,null,"",0,0]
[null,null,null,null,null,null,null,null,null,"",0,0]
[null,null,null,null,null,null,null,null,null,"",0,0]
[null,null,null,null,null,null,null,null,null,"",0,0]
[null,null,null,null,null,null,null,null,null,"",0,0]
[null,null,null,null,null,null,null,null,null,"",0,0]
[null,null,null,null,null,null,null,null,null,"",0,0]
[null,null,null,null,null,null,null,null,null,"",0,0]
[null,null,null,null,null,null,null,null,null,"",0,0]
[null,null,null,null,null,null,null,null,null,"",0,0]
[null,null,null,null,null,null,null,null,null,"",0,0]
[null,null,null,null,null,null,null,null,null,"",0,0]
[null,null,null,null,null,null,null,null,null,"",0,0]
[null,null,null,null,null,null,null,null,null,"",0,0]
[null,null,null,null,null,null,null,null,null,"",0,0]
[null,null,null,null,null,null,null,null,null,"",0,0]
[null,null,null,null,null,null,null,null,null,"",0,0]
[null,null,null,null,null,null,null,null,null,"",0,0]
[null,null,null,null,null,null,null,null,null,"",0,0]
[null,null,null,null,null,null,null,null,null,"",0,0]
[null,null,null,null,null,null,null,null,null,"",0,0]
[null,null,null,null,null,null,null,null,null,"",0,0]
[null,null,null,null,null,null,null,null,null,"",0,0]
[null,null,null,null,null,null,null,null,null,"",0,0]
[null,null,null,null,null,null,null,null,null,"",0,0]
[null,null,null,null,null,null,null,null,null,"",0,0]
[null,null,null,null,null,null,null,null,null,"",0,0]
[null,null,null,null,null,null,null,null,null,"",0,0]
[null,null,null,null,null,null,null,null,null,"",0,0]
[null,null,null,null,null,null,null,null,null,"",0,0]
[null,null,null,null,null,null,null,null,null,"",0,0]
[null,null,null,null,null,null,null,null,null,{"$f":"CONCATENATE(LEFT(D262,1),E262)","v":""},0,0]
[null,null,null,null,null,null,null,null,null,"",{"$f":"IF(D263=\"ENTRADA\",C263,0)","v":0},{"$f":"IF(D263=\"SALIDA\",C263,0)","v":0}]
[null,null,null,null,null,null,null,null,null,"",0,0]
[null,null,null,null,null,null,null,null,null,"",0,0]
[null,null,null,null,null,null,null,null,null,"",0,0]
[null,null,null,null,null,null,null,null,null,"",0,0]
[null,null,null,null,null,null,null,null,null,"",0,0]
[null,null,null,null,null,null,null,null,null,"",0,0]
[null,null,null,null,null,null,null,null,null,"",0,0]
[null,null,null,null,null,null,null,null,null,"",0,0]
[null,null,null,null,null,null,null,null,null,"",0,0]
[null,null,null,null,null,null,null,null,null,"",0,0]
[null,null,null,null,null,null,null,null,null,"",0,0]
[null,null,null,null,null,null,null,null,null,"",0,0]
[null,null,null,null,null,null,null,null,null,"",0,0]
[null,null,null,null,null,null,null,null,null,"",0,0]
[null,null,null,null,null,null,null,null,null,"",0,0]
[null,null,null,null,null,null,null,null,null,"",0,0]
[null,null,null,null,null,null,null,null,null,"",0,0]
[null,null,null,null,null,null,null,null,null,"",0,0]
[null,null,null,null,null,null,null,null,null,"",0,0]
[null,null,null,null,null,null,null,null,null,"",0,0]
[null,null,null,null,null,null,null,null,null,"",0,0]
[null,null,null,null,null,null,null,null,null,"",0,0]
[null,null,null,null,null,null,null,null,null,"",0,0]
[null,null,null,null,null,null,null,null,null,"",0,0]
[null,null,null,null,null,null,null,null,null,"",0,0]
[null,null,null,null,null,null,null,null,null,"",0,0]
[null,null,null,null,null,null,null,null,null,"",0,0]
[null,null,null,null,null,null,null,null,null,"",0,0]
[null,null,null,null,null,null,null,null,null,"",0,0]
[null,null,null,null,null,null,null,null,null,"",0,0]
[null,null,null,null,null,null,null,null,null,"",0,0]
[null,null,null,null,null,null,null,null,null,"",0,0]
[null,null,null,null,null,null,null,null,null,"",0,0]
[null,null,null,null,null,null,null,null,null,"",0,0]
[null,null,null,null,null,null,null,null,null,"",0,0]
[null,null,null,null,null,null,null,null,null,"",0,0]
[null,null,null,null,null,null,null,null,null,"",0,0]
[null,null,null,null,null,null,null,null,null,"",0,0]
[null,null,null,null,null,null,null,null,null,"",0,0]
[null,null,null,null,null,null,null,null,null,"",0,0]
[null,null,null,null,null,null,null,null,null,"",0,0]
[null,null,null,null,null,null,null,null,null,"",0,0]
[null,null,null,null,null,null,null,null,null,"",0,0]
[null,null,null,null,null,null,null,null,null,"",0,0]
[null,null,null,null,null,null,null,null,null,"",0,0]
[null,null,null,null,null,null,null,null,null,"",0,0]
[null,null,null,null,null,null,null,null,null,"",0,0]
[null,null,null,null,null,null,null,null,null,"",0,0]
[null,null,null,null,null,null,null,null,null,"",0,0]
[null,null,null,null,null,null,null,null,null,"",0,0]
[null,null,null,null,null,null,null,null,null,"",0,0]
[null,null,null,null,null,null,null,null,null,"",0,0]
[null,null,null,null,null,null,null,null,null,"",0,0]
[null,null,null,null,null,null,null,null,null,"",0,0]
[null,null,null,null,null,null,null,null,null,"",0,0]
[null,null,null,null,null,null,null,null,null,"",0,0]
[null,null,null,null,null,null,null,null,null,"",0,0]
[null,null,null,null,null,null,null,null,null,"",0,0]
[null,null,null,null,null,null,null,null,null,"",0,0]
[null,null,null,null,null,null,null,null,null,"",0,0]
[null,null,null,null,null,null,null,null,null,"",0,0]
[null,null,null,null,null,null,null,null,null,"",0,0]
[null,null,null,null,null,null,null,null,null,{"$f":"CONCATENATE(LEFT(D326,1),E326)","v":""},0,0]
[null,null,null,null,null,null,null,null,null,"",{"$f":"IF(D327=\"ENTRADA\",C327,0)","v":0},{"$f":"IF(D327=\"SALIDA\",C327,0)","v":0}]
[null,null,null,null,null,null,null,null,null,"",0,0]
[null,null,null,null,null,null,null,null,null,"",0,0]
[null,null,null,null,null,null,null,null,null,"",0,0]
[null,null,null,null,null,null,null,null,null,"",0,0]
[null,null,null,null,null,null,null,null,null,"",0,0]
[null,null,null,null,null,null,null,null,null,"",0,0]
[null,null,null,null,null,null,null,null,null,"",0,0]
[null,null,null,null,null,null,null,null,null,"",0,0]
[null,null,null,null,null,null,null,null,null,"",0,0]
[null,null,null,null,null,null,null,null,null,"",0,0]
[null,null,null,null,null,null,null,null,null,"",0,0]
[null,null,null,null,null,null,null,null,null,"",0,0]
[null,null,null,null,null,null,null,null,null,"",0,0]
[null,null,null,null,null,null,null,null,null,"",0,0]
[null,null,null,null,null,null,null,null,null,"",0,0]
[null,null,null,null,null,null,null,null,null,"",0,0]
[null,null,null,null,null,null,null,null,null,"",0,0]
[null,null,null,null,null,null,null,null,null,"",0,0]
[null,null,null,null,null,null,null,null,null,"",0,0]
[null,null,null,null,null,null,null,null,null,"",0,0]
[null,null,null,null,null,null,null,null,null,"",0,0]
[null,null,null,null,null,null,null,null,null,"",0,0]
[null,null,null,null,null,null,null,null,null,"",0,0]
[null,null,null,null,null,null,null,null,null,"",0,0]
[null,null,null,null,null,null,null,null,null,"",0,0]
[null,null,null,null,null,null,null,null,null,"",0,0]
[null,null,null,null,null,null,null,null,null,"",0,0]
[null,null,null,null,null,null,null,null,null,"",0,0]
[null,null,null,null,null,null,null,null,null,"",0,0]
[null,null,null,null,null,null,null,null,null,"",0,0]
[null,null,null,null,null,null,null,null,null,"",0,0]
[null,null,null,null,null,null,null,null,null,"",0,0]
[null,null,null,null,null,null,null,null,null,"",0,0]
[null,null,null,null,null,null,null,null,null,"",0,0]
[null,null,null,null,null,null,null,null,null,"",0,0]
[null,null,null,null,null,null,null,null,null,"",0,0]
[null,null,null,null,null,null,null,null,null,"",0,0]
[null,null,null,null,null,null,null,null,null,"",0,0]
[null,null,null,null,null,null,null,null,null,"",0,0]
[null,null,null,null,null,null,null,null,null,"",0,0]
[null,null,null,null,null,null,null,null,null,"",0,0]
[null,null,null,null,null,null,null,null,null,"",0,0]
[null,null,null,null,null,null,null,null,null,"",0,0]
[null,null,null,null,null,null,null,null,null,"",0,0]
[null,null,null,null,null,null,null,null,null,"",0,0]
[null,null,null,null,null,null,null,null,null,"",0,0]
[null,null,null,null,null,null,null,null,null,"",0,0]
[null,null,null,null,null,null,null,null,null,"",0,0]
[null,null,null,null,null,null,null,null,null,"",0,0]
[null,null,null,null,null,null,null,null,null,"",0,0]
[null,null,null,null,null,null,null,null,null,"",0,0]
[null,null,null,null,null,null,null,null,null,"",0,0]
[null,null,null,null,null,null,null,null,null,"",0,0]
[null,null,null,null,null,null,null,null,null,"",0,0]
[null,null,null,null,null,null,null,null,null,"",0,0]
[null,null,null,null,null,null,null,null,null,"",0,0]
[null,null,null,null,null,null,null,null,null,"",0,0]
[null,null,null,null,null,null,null,null,null,"",0,0]
[null,null,null,null,null,null,null,null,null,"",0,0]
[null,null,null,null,null,null,null,null,null,"",0,0]
[null,null,null,null,null,null,null,null,null,"",0,0]
[null,null,null,null,null,null,null,null,null,"",0,0]
[null,null,null,null,null,null,null,null,null,{"$f":"CONCATENATE(LEFT(D390,1),E390)","v":""},0,0]
[null,null,null,null,null,null,null,null,null,"",{"$f":"IF(D391=\"ENTRADA\",C391,0)","v":0},{"$f":"IF(D391=\"SALIDA\",C391,0)","v":0}]
[null,null,null,null,null,null,null,null,null,"",0,0]
[null,null,null,null,null,null,null,null,null,"",0,0]
[null,null,null,null,null,null,null,null,null,"",0,0]
[null,null,null,null,null,null,null,null,null,"",0,0]
[null,null,null,null,null,null,null,null,null,"",0,0]
[null,null,null,null,null,null,null,null,null,"",0,0]
[null,null,null,null,null,null,null,null,null,"",0,0]
[null,null,null,null,null,null,null,null,null,"",0,0]
[null,null,null,null,null,null,null,null,null,"",0,0]
[null,null,null,null,null,null,null,null,null,"",0,0]
[null,null,null,null,null,null,null,null,null,"",0,0]
[null,null,null,null,null,null,null,null,null,"",0,0]
[null,null,null,null,null,null,null,null,null,"",0,0]
[null,null,null,null,null,null,null,null,null,"",0,0]
[null,null,null,null,null,null,null,null,null,"",0,0]
[null,null,null,null,null,null,null,null,null,"",0,0]
[null,null,null,null,null,null,null,null,null,"",0,0]
[null,null,null,null,null,null,null,null,null,"",0,0]
[null,null,null,null,null,null,null,null,null,"",0,0]
[null,null,null,null,null,null,null,null,null,"",0,0]
[null,null,null,null,null,null,null,null,null,"",0,0]
[null,null,null,null,null,null,null,null,null,"",0,0]
[null,null,null,null,null,null,null,null,null,"",0,0]
[null,null,null,null,null,null,null,null,null,"",0,0]
[null,null,null,null,null,null,null,null,null,"",0,0]
[null,null,null,null,null,null,null,null,null,"",0,0]
[null,null,null,null,null,null,null,null,null,"",0,0]
[null,null,null,null,null,null,null,null,null,"",0,0]
[null,null,null,null,null,null,null,null,null,"",0,0]
[null,null,null,null,null,null,null,null,null,"",0,0]
[null,null,null,null,null,null,null,null,null,"",0,0]
[null,null,null,null,null,null,null,null,null,"",0,0]
[null,null,null,null,null,null,null,null,null,"",0,0]
[null,null,null,null,null,null,null,null,null,"",0,0]
[null,null,null,null,null,null,null,null,null,"",0,0]
[null,null,null,null,null,null,null,null,null,"",0,0]
[null,null,null,null,null,null,null,null,null,"",0,0]
[null,null,null,null,null,null,null,null,null,"",0,0]
[null,null,null,null,null,null,null,null,null,"",0,0]
[null,null,null,null,null,null,null,null,null,"",0,0]
[null,null,null,null,null,null,null,null,null,"",0,0]
[null,null,null,null,null,null,null,null,null,"",0,0]
[null,null,null,null,null,null,null,null,null,"",0,0]
[null,null,null,null,null,null,null,null,null,"",0,0]
[null,null,null,null,null,null,null,null,null,"",0,0]
[null,null,null,null,null,null,null,null,null,"",0,0]
[null,null,null,null,null,null,null,null,null,"",0,0]
[null,null,null,null,null,null,null,null,null,"",0,0]
[null,null,null,null,null,null,null,null,null,"",0,0]
[null,null,null,null,null,null,null,null,null,"",0,0]
[null,null,null,null,null,null,null,null,null,"",0,0]
[null,null,null,null,null,null,null,null,null,"",0,0]
[null,null,null,null,null,null,null,null,null,"",0,0]
[null,null,null,null,null,null,null,null,null,"",0,0]
[null,null,null,null,null,null,null,null,null,"",0,0]
[null,null,null,null,null,null,null,null,null,"",0,0]
[null,null,null,null,null,null,null,null,null,"",0,0]
[null,null,null,null,null,null,null,null,null,"",0,0]
[null,null,null,null,null,null,null,null,null,"",0,0]
[null,null,null,null,null,null,null,null,null,"",0,0]
[null,null,null,null,null,null,null,null,null,"",0,0]
[null,null,null,null,null,null,null,null,null,"",0,0]
[null,null,null,null,null,null,null,null,null,{"$f":"CONCATENATE(LEFT(D454,1),E454)","v":""},0,0]
[null,null,null,null,null,null,null,null,null,"",{"$f":"IF(D455=\"ENTRADA\",C455,0)","v":0},{"$f":"IF(D455=\"SALIDA\",C455,0)","v":0}]
[null,null,null,null,null,null,null,null,null,"",0,0]
[null,null,null,null,null,null,null,null,null,"",0,0]
[null,null,null,null,null,null,null,null,null,"",0,0]
[null,null,null,null,null,null,null,null,null,"",0,0]
[null,null,null,null,null,null,null,null,null,"",0,0]
[null,null,null,null,null,null,null,null,null,"",0,0]
[null,null,null,null,null,null,null,null,null,"",0,0]
[null,null,null,null,null,null,null,null,null,"",0,0]
[null,null,null,null,null,null,null,null,null,"",0,0]
[null,null,null,null,null,null,null,null,null,"",0,0]
[null,null,null,null,null,null,null,null,null,"",0,0]
[null,null,null,null,null,null,null,null,null,"",0,0]
[null,null,null,null,null,null,null,null,null,"",0,0]
[null,null,null,null,null,null,null,null,null,"",0,0]
[null,null,null,null,null,null,null,null,null,"",0,0]
[null,null,null,null,null,null,null,null,null,"",0,0]
[null,null,null,null,null,null,null,null,null,"",0,0]
[null,null,null,null,null,null,null,null,null,"",0,0]
[null,null,null,null,null,null,null,null,null,"",0,0]
[null,null,null,null,null,null,null,null,null,"",0,0]
[null,null,null,null,null,null,null,null,null,"",0,0]
[null,null,null,null,null,null,null,null,null,"",0,0]
[null,null,null,null,null,null,null,null,null,"",0,0]
[null,null,null,null,null,null,null,null,null,"",0,0]
[null,null,null,null,null,null,null,null,null,"",0,0]
[null,null,null,null,null,null,null,null,null,"",0,0]
[null,null,null,null,null,null,null,null,null,"",0,0]
[null,null,null,null,null,null,null,null,null,"",0,0]
[null,null,null,null,null,null,null,null,null,"",0,0]
[null,null,null,null,null,null,null,null,null,"",0,0]
[null,null,null,null,null,null,null,null,null,"",0,0]
[null,null,null,null,null,null,null,null,null,"",0,0]
[null,null,null,null,null,null,null,null,null,"",0,0]
[null,null,null,null,null,null,null,null,null,"",0,0]
[null,null,null,null,null,null,null,null,null,"",0,0]
[null,null,null,null,null,null,null,null,null,"",0,0]
[null,null,null,null,null,null,null,null,null,"",0,0]
[null,null,null,null,null,null,null,null,null,"",0,0]
[null,null,null,null,null,null,null,null,null,"",0,0]
[null,null,null,null,null,null,null,null,null,"",0,0]
[null,null,null,null,null,null,null,null,null,"",0,0]
[null,null,null,null,null,null,null,null,null,"",0,0]
[null,null,null,null,null,null,null,null,null,"",0,0]
[null,null,null,null,null,null,null,null,null,"",0,0]
[null,null,null,null,null,null,null,null,null,"",0,0]
[null,null,null,null,null,null,null,null,null,"",0,0]
[null,null,null,null,null,null,null,null,null,"",0,0]
[null,null,null,null,null,null,null,null,null,"",0,0]
[null,null,null,null,null,null,null,null,null,"",0,0]
[null,null,null,null,null,null,null,null,null,"",0,0]
[null,null,null,null,null,null,null,null,null,"",0,0]
[null,null,null,null,null,null,null,null,null,"",0,0]
[null,null,null,null,null,null,null,null,null,"",0,0]
[null,null,null,null,null,null,null,null,null,"",0,0]
[null,null,null,null,null,null,null,null,null,"",0,0]
[null,null,null,null,null,null,null,null,null,"",0,0]
[null,null,null,null,null,null,null,null,null,"",0,0]
[null,null,null,null,null,null,null,null,null,"",0,0]
[null,null,null,null,null,null,null,null,null,"",0,0]
[null,null,null,null,null,null,null,null,null,"",0,0]
[null,null,null,null,null,null,null,null,null,"",0,0]
[null,null,null,null,null,null,null,null,null,"",0,0]
[null,null,null,null,null,null,null,null,null,{"$f":"CONCATENATE(LEFT(D518,1),E518)","v":""},0,0]
[null,null,null,null,null,null,null,null,null,"",{"$f":"IF(D519=\"ENTRADA\",C519,0)","v":0},{"$f":"IF(D519=\"SALIDA\",C519,0)","v":0}]
[null,null,null,null,null,null,null,null,null,"",0,0]
[null,null,null,null,null,null,null,null,null,"",0,0]
[null,null,null,null,null,null,null,null,null,"",0,0]
[null,null,null,null,null,null,null,null,null,"",0,0]
[null,null,null,null,null,null,null,null,null,"",0,0]
[null,null,null,null,null,null,null,null,null,"",0,0]
[null,null,null,null,null,null,null,null,null,"",0,0]
[null,null,null,null,null,null,null,null,null,"",0,0]
[null,null,null,null,null,null,null,null,null,"",0,0]
[null,null,null,null,null,null,null,null,null,"",0,0]
[null,null,null,null,null,null,null,null,null,"",0,0]
[null,null,null,null,null,null,null,null,null,"",0,0]
[null,null,null,null,null,null,null,null,null,"",0,0]
[null,null,null,null,null,null,null,null,null,"",0,0]
[null,null,null,null,null,null,null,null,null,"",0,0]
[null,null,null,null,null,null,null,null,null,"",0,0]
[null,null,null,null,null,null,null,null,null,"",0,0]
[null,null,null,null,null,null,null,null,null,"",0,0]
[null,null,null,null,null,null,null,null,null,"",0,0]
[null,null,null,null,null,null,null,null,null,"",0,0]
[null,null,null,null,null,null,null,null,null,"",0,0]
[null,null,null,null,null,null,null,null,null,"",0,0]
[null,null,null,null,null,null,null,null,null,"",0,0]
[null,null,null,null,null,null,null,null,null,"",0,0]
[null,null,null,null,null,null,null,null,null,"",0,0]
[null,null,null,null,null,null,null,null,null,"",0,0]
[null,null,null,null,null,null,null,null,null,"",0,0]
[null,null,null,null,null,null,null,null,null,"",0,0]
[null,null,null,null,null,null,null,null,null,"",0,0]
[null,null,null,null,null,null,null,null,null,"",0,0]
[null,null,null,null,null,null,null,null,null,"",0,0]
[null,null,null,null,null,null,null,null,null,"",0,0]
[null,null,null,null,null,null,null,null,null,"",0,0]
[null,null,null,null,null,null,null,null,null,"",0,0]
[null,null,null,null,null,null,null,null,null,"",0,0]
[null,null,null,null,null,null,null,null,null,"",0,0]
[null,null,null,null,null,null,null,null,null,"",0,0]
[null,null,null,null,null,null,null,null,null,"",0,0]
[null,null,null,null,null,null,null,null,null,"",0,0]
[null,null,null,null,null,null,null,null,null,"",0,0]
[null,null,null,null,null,null,null,null,null,"",0,0]
[null,null,null,null,null,null,null,null,null,"",0,0]
[null,null,null,null,null,null,null,null,null,"",0,0]
[null,null,null,null,null,null,null,null,null,"",0,0]
[null,null,null,null,null,null,null,null,null,"",0,0]
[null,null,null,null,null,null,null,null,null,"",0,0]
[null,null,null,null,null,null,null,null,null,"",0,0]
[null,null,null,null,null,null,null,null,null,"",0,0]
[null,null,null,null,null,null,null,null,null,"",0,0]
[null,null,null,null,null,null,null,null,null,"",0,0]
[null,null,null,null,null,null,null,null,null,"",0,0]
[null,null,null,null,null,null,null,null,null,"",0,0]
[null,null,null,null,null,null,null,null,null,"",0,0]
[null,null,null,null,null,null,null,null,null,"",0,0]
[null,null,null,null,null,null,null,null,null,"",0,0]
[null,null,null,null,null,null,null,null,null,"",0,0]
[null,null,null,null,null,null,null,null,null,"",0,0]
[null,null,null,null,null,null,null,null,null,"",0,0]
[null,null,null,null,null,null,null,null,null,"",0,0]
[null,null,null,null,null,null,null,null,null,"",0,0]
[null,null,null,null,null,null,null,null,null,"",0,0]
[null,null,null,null,null,null,null,null,null,"",0,0]
[null,null,null,null,null,null,null,null,null,{"$f":"CONCATENATE(LEFT(D582,1),E582)","v":""},0,0]
[null,null,null,null,null,null,null,null,null,"",{"$f":"IF(D583=\"ENTRADA\",C583,0)","v":0},{"$f":"IF(D583=\"SALIDA\",C583,0)","v":0}]
[null,null,null,null,null,null,null,null,null,"",0,0]
[null,null,null,null,null,null,null,null,null,"",0,0]
[null,null,null,null,null,null,null,null,null,"",0,0]
[null,null,null,null,null,null,null,null,null,"",0,0]
[null,null,null,null,null,null,null,null,null,"",0,0]
[null,null,null,null,null,null,null,null,null,"",0,0]
[null,null,null,null,null,null,null,null,null,"",0,0]
[null,null,null,null,null,null,null,null,null,"",0,0]
[null,null,null,null,null,null,null,null,null,"",0,0]
[null,null,null,null,null,null,null,null,null,"",0,0]
[null,null,null,null,null,null,null,null,null,"",0,0]
[null,null,null,null,null,null,null,null,null,"",0,0]
[null,null,null,null,null,null,null,null,null,"",0,0]
[null,null,null,null,null,null,null,null,null,"",0,0]
[null,null,null,null,null,null,null,null,null,"",0,0]
[null,null,null,null,null,null,null,null,null,"",0,0]
[null,null,null,null,null,null,null,null,null,"",0,0]
[null,null,null,null,null,null,null,null,null,"",0,0]
[null,null,null,null,null,null,null,null,null,"",0,0]
[null,null,null,null,null,null,null,null,null,"",0,0]
[null,null,null,null,null,null,null,null,null,"",0,0]
[null,null,null,null,null,null,null,null,null,"",0,0]
[null,null,null,null,null,null,null,null,null,"",0,0]
[null,null,null,null,null,null,null,null,null,"",0,0]
[null,null,null,null,null,null,null,null,null,"",0,0]
[null,null,null,null,null,null,null,null,null,"",0,0]
[null,null,null,null,null,null,null,null,null,"",0,0]
[null,null,null,null,null,null,null,null,null,"",0,0]
[null,null,null,null,null,null,null,null,null,"",0,0]
[null,null,null,null,null,null,null,null,null,"",0,0]
[null,null,null,null,null,null,null,null,null,"",0,0]
[null,null,null,null,null,null,null,null,null,"",0,0]
[null,null,null,null,null,null,null,null,null,"",0,0]
[null,null,null,null,null,null,null,null,null,"",0,0]
[null,null,null,null,null,null,null,null,null,"",0,0]
[null,null,null,null,null,null,null,null,null,"",0,0]
[null,null,null,null,null,null,null,null,null,"",0,0]
[null,null,null,null,null,null,null,null,null,"",0,0]
[null,null,null,null,null,null,null,null,null,"",0,0]
[null,null,null,null,null,null,null,null,null,"",0,0]
[null,null,null,null,null,null,null,null,null,"",0,0]
[null,null,null,null,null,null,null,null,null,"",0,0]
[null,null,null,null,null,null,null,null,null,"",0,0]
[null,null,null,null,null,null,null,null,null,"",0,0]
[null,null,null,null,null,null,null,null,null,"",0,0]
[null,null,null,null,null,null,null,null,null,"",0,0]
[null,null,null,null,null,null,null,null,null,"",0,0]
[null,null,null,null,null,null,null,null,null,"",0,0]
[null,null,null,null,null,null,null,null,null,"",0,0]
[null,null,null,null,null,null,null,null,null,"",0,0]
[null,null,null,null,null,null,null,null,null,"",0,0]
[null,null,null,null,null,null,null,null,null,"",0,0]
[null,null,null,null,null,null,null,null,null,"",0,0]
[null,null,null,null,null,null,null,null,null,"",0,0]
[null,null,null,null,null,null,null,null,null,"",0,0]
[null,null,null,null,null,null,null,null,null,"",0,0]
[null,null,null,null,null,null,null,null,null,"",0,0]
[null,null,null,null,null,null,null,null,null,"",0,0]
[null,null,null,null,null,null,null,null,null,"",0,0]
[null,null,null,null,null,null,null,null,null,"",0,0]
[null,null,null,null,null,null,null,null,null,"",0,0]
[null,null,null,null,null,null,null,null,null,"",0,0]
[null,null,null,null,null,null,null,null,null,{"$f":"CONCATENATE(LEFT(D646,1),E646)","v":""},0,0]
[null,null,null,null,null,null,null,null,null,"",{"$f":"IF(D647=\"ENTRADA\",C647,0)","v":0},{"$f":"IF(D647=\"SALIDA\",C647,0)","v":0}]
[null,null,null,null,null,null,null,null,null,"",0,0]
[null,null,null,null,null,null,null,null,null,"",0,0]
[null,null,null,null,null,null,null,null,null,"",0,0]
[null,null,null,null,null,null,null,null,null,"",0,0]
[null,null,null,null,null,null,null,null,null,"",0,0]
[null,null,null,null,null,null,null,null,null,"",0,0]
[null,null,null,null,null,null,null,null,null,"",0,0]
[null,null,null,null,null,null,null,null,null,"",0,0]
[null,null,null,null,null,null,null,null,null,"",0,0]
[null,null,null,null,null,null,null,null,null,"",0,0]
[null,null,null,null,null,null,null,null,null,"",0,0]
[null,null,null,null,null,null,null,null,null,"",0,0]
[null,null,null,null,null,null,null,null,null,"",0,0]
[null,null,null,null,null,null,null,null,null,"",0,0]
[null,null,null,null,null,null,null,null,null,"",0,0]
[null,null,null,null,null,null,null,null,null,"",0,0]
[null,null,null,null,null,null,null,null,null,"",0,0]
[null,null,null,null,null,null,null,null,null,"",0,0]
[null,null,null,null,null,null,null,null,null,"",0,0]
[null,null,null,null,null,null,null,null,null,"",0,0]
[null,null,null,null,null,null,null,null,null,"",0,0]
[null,null,null,null,null,null,null,null,null,"",0,0]
[null,null,null,null,null,null,null,null,null,"",0,0]
[null,null,null,null,null,null,null,null,null,"",0,0]
[null,null,null,null,null,null,null,null,null,"",0,0]
[null,null,null,null,null,null,null,null,null,"",0,0]
[null,null,null,null,null,null,null,null,null,"",0,0]
[null,null,null,null,null,null,null,null,null,"",0,0]
[null,null,null,null,null,null,null,null,null,"",0,0]
[null,null,null,null,null,null,null,null,null,"",0,0]
[null,null,null,null,null,null,null,null,null,"",0,0]
[null,null,null,null,null,null,null,null,null,"",0,0]
[null,null,null,null,null,null,null,null,null,"",0,0]
[null,null,null,null,null,null,null,null,null,"",0,0]
[null,null,null,null,null,null,null,null,null,"",0,0]
[null,null,null,null,null,null,null,null,null,"",0,0]
[null,null,null,null,null,null,null,null,null,"",0,0]
[null,null,null,null,null,null,null,null,null,"",0,0]
[null,null,null,null,null,null,null,null,null,"",0,0]
[null,null,null,null,null,null,null,null,null,"",0,0]
[null,null,null,null,null,null,null,null,null,"",0,0]
[null,null,null,null,null,null,null,null,null,"",0,0]
[null,null,null,null,null,null,null,null,null,"",0,0]
[null,null,null,null,null,null,null,null,null,"",0,0]
[null,null,null,null,null,null,null,null,null,"",0,0]
[null,null,null,null,null,null,null,null,null,"",0,0]
[null,null,null,null,null,null,null,null,null,"",0,0]
[null,null,null,null,null,null,null,null,null,"",0,0]
[null,null,null,null,null,null,null,null,null,"",0,0]
[null,null,null,null,null,null,null,null,null,"",0,0]
[null,null,null,null,null,null,null,null,null,"",0,0]
[null,null,null,null,null,null,null,null,null,"",0,0]
[null,null,null,null,null,null,null,null,null,"",0,0]
[null,null,null,null,null,null,null,null,null,"",0,0]
[null,null,null,null,null,null,null,null,null,"",0,0]
[null,null,null,null,null,null,null,null,null,"",0,0]
[null,null,null,null,null,null,null,null,null,"",0,0]
[null,null,null,null,null,null,null,null,null,"",0,0]
[null,null,null,null,null,null,null,null,null,"",0,0]
[null,null,null,null,null,null,null,null,null,"",0,0]
[null,null,null,null,null,null,null,null,null,"",0,0]
[null,null,null,null,null,null,null,null,null,"",0,0]
[null,null,null,null,null,null,null,null,null,{"$f":"CONCATENATE(LEFT(D710,1),E710)","v":""},0,0]
[null,null,null,null,null,null,null,null,null,"",{"$f":"IF(D711=\"ENTRADA\",C711,0)","v":0},{"$f":"IF(D711=\"SALIDA\",C711,0)","v":0}]
[null,null,null,null,null,null,null,null,null,"",0,0]
[null,null,null,null,null,null,null,null,null,"",0,0]
[null,null,null,null,null,null,null,null,null,"",0,0]
[null,null,null,null,null,null,null,null,null,"",0,0]
[null,null,null,null,null,null,null,null,null,"",0,0]
[null,null,null,null,null,null,null,null,null,"",0,0]
[null,null,null,null,null,null,null,null,null,"",0,0]
[null,null,null,null,null,null,null,null,null,"",0,0]
[null,null,null,null,null,null,null,null,null,"",0,0]
[null,null,null,null,null,null,null,null,null,"",0,0]
[null,null,null,null,null,null,null,null,null,"",0,0]
[null,null,null,null,null,null,null,null,null,"",0,0]
[null,null,null,null,null,null,null,null,null,"",0,0]
[null,null,null,null,null,null,null,null,null,"",0,0]
[null,null,null,null,null,null,null,null,null,"",0,0]
[null,null,null,null,null,null,null,null,null,"",0,0]
[null,null,null,null,null,null,null,null,null,"",0,0]
[null,null,null,null,null,null,null,null,null,"",0,0]
[null,null,null,null,null,null,null,null,null,"",0,0]
[null,null,null,null,null,null,null,null,null,"",0,0]
[null,null,null,null,null,null,null,null,null,"",0,0]
[null,null,null,null,null,null,null,null,null,"",0,0]
[null,null,null,null,null,null,null,null,null,"",0,0]
[null,null,null,null,null,null,null,null,null,"",0,0]
[null,null,null,null,null,null,null,null,null,"",0,0]
[null,null,null,null,null,null,null,null,null,"",0,0]
[null,null,null,null,null,null,null,null,null,"",0,0]
[null,null,null,null,null,null,null,null,null,"",0,0]
[null,null,null,null,null,null,null,null,null,"",0,0]
[null,null,null,null,null,null,null,null,null,"",0,0]
[null,null,null,null,null,null,null,null,null,"",0,0]
[null,null,null,null,null,null,null,null,null,"",0,0]
[null,null,null,null,null,null,null,null,null,"",0,0]
[null,null,null,null,null,null,null,null,null,"",0,0]
[null,null,null,null,null,null,null,null,null,"",0,0]
[null,null,null,null,null,null,null,null,null,"",0,0]
[null,null,null,null,null,null,null,null,null,"",0,0]
[null,null,null,null,null,null,null,null,null,"",0,0]
[null,null,null,null,null,null,null,null,null,"",0,0]
[null,null,null,null,null,null,null,null,null,"",0,0]
[null,null,null,null,null,null,null,null,null,"",0,0]
[null,null,null,null,null,null,null,null,null,"",0,0]
[null,null,null,null,null,null,null,null,null,"",0,0]
[null,null,null,null,null,null,null,null,null,"",0,0]
[null,null,null,null,null,null,null,null,null,"",0,0]
[null,null,null,null,null,null,null,null,null,"",0,0]
[null,null,null,null,null,null,null,null,null,"",0,0]
[null,null,null,null,null,null,null,null,null,"",0,0]
[null,null,null,null,null,null,null,null,null,"",0,0]
[null,null,null,null,null,null,null,null,null,"",0,0]
[null,null,null,null,null,null,null,null,null,"",0,0]
[null,null,null,null,null,null,null,null,null,"",0,0]
[null,null,null,null,null,null,null,null,null,"",0,0]
[null,null,null,null,null,null,null,null,null,"",0,0]
[null,null,null,null,null,null,null,null,null,"",0,0]
[null,null,null,null,null,null,null,null,null,"",0,0]
[null,null,null,null,null,null,null,null,null,"",0,0]
[null,null,null,null,null,null,null,null,null,"",0,0]
[null,null,null,null,null,null,null,null,null,"",0,0]
[null,null,null,null,null,null,null,null,null,"",0,0]
[null,null,null,null,null,null,null,null,null,"",0,0]
[null,null,null,null,null,null,null,null,null,"",0,0]
[null,null,null,null,null,null,null,null,null,{"$f":"CONCATENATE(LEFT(D774,1),E774)","v":""},0,0]
[null,null,null,null,null,null,null,null,null,"",{"$f":"IF(D775=\"ENTRADA\",C775,0)","v":0},{"$f":"IF(D775=\"SALIDA\",C775,0)","v":0}]
[null,null,null,null,null,null,null,null,null,"",0,0]
[null,null,null,null,null,null,null,null,null,"",0,0]
[null,null,null,null,null,null,null,null,null,"",0,0]
[null,null,null,null,null,null,null,null,null,"",0,0]
[null,null,null,null,null,null,null,null,null,"",0,0]
[null,null,null,null,null,null,null,null,null,"",0,0]
[null,null,null,null,null,null,null,null,null,"",0,0]
[null,null,null,null,null,null,null,null,null,"",0,0]
[null,null,null,null,null,null,null,null,null,"",0,0]
[null,null,null,null,null,null,null,null,null,"",0,0]
[null,null,null,null,null,null,null,null,null,"",0,0]
[null,null,null,null,null,null,null,null,null,"",0,0]
[null,null,null,null,null,null,null,null,null,"",0,0]
[null,null,null,null,null,null,null,null,null,"",0,0]
[null,null,null,null,null,null,null,null,null,"",0,0]
[null,null,null,null,null,null,null,null,null,"",0,0]
[null,null,null,null,null,null,null,null,null,"",0,0]
[null,null,null,null,null,null,null,null,null,"",0,0]
[null,null,null,null,null,null,null,null,null,"",0,0]
[null,null,null,null,null,null,null,null,null,"",0,0]
[null,null,null,null,null,null,null,null,null,"",0,0]
[null,null,null,null,null,null,null,null,null,"",0,0]
[null,null,null,null,null,null,null,null,null,"",0,0]
[null,null,null,null,null,null,null,null,null,"",0,0]
[null,null,null,null,null,null,null,null,null,"",0,0]
[null,null,null,null,null,null,null,null,null,"",0,0]
[null,null,null,null,null,null,null,null,null,"",0,0]
[null,null,null,null,null,null,null,null,null,"",0,0]
[null,null,null,null,null,null,null,null,null,"",0,0]
[null,null,null,null,null,null,null,null,null,"",0,0]
[null,null,null,null,null,null,null,null,null,"",0,0]
[null,null,null,null,null,null,null,null,null,"",0,0]
[null,null,null,null,null,null,null,null,null,"",0,0]
[null,null,null,null,null,null,null,null,null,"",0,0]
[null,null,null,null,null,null,null,null,null,"",0,0]
[null,null,null,null,null,null,null,null,null,"",0,0]
[null,null,null,null,null,null,null,null,null,"",0,0]
[null,null,null,null,null,null,null,null,null,"",0,0]
[null,null,null,null,null,null,null,null,null,"",0,0]
[null,null,null,null,null,null,null,null,null,"",0,0]
[null,null,null,null,null,null,null,null,null,"",0,0]
[null,null,null,null,null,null,null,null,null,"",0,0]
[null,null,null,null,null,null,null,null,null,"",0,0]
[null,null,null,null,null,null,null,null,null,"",0,0]
[null,null,null,null,null,null,null,null,null,"",0,0]
[null,null,null,null,null,null,null,null,null,"",0,0]
[null,null,null,null,null,null,null,null,null,"",0,0]
[null,null,null,null,null,null,null,null,null,"",0,0]
[null,null,null,null,null,null,null,null,null,"",0,0]
[null,null,null,null,null,null,null,null,null,"",0,0]
[null,null,null,null,null,null,null,null,null,"",0,0]
[null,null,null,null,null,null,null,null,null,"",0,0]
[null,null,null,null,null,null,null,null,null,"",0,0]
[null,null,null,null,null,null,null,null,null,"",0,0]
[null,null,null,null,null,null,null,null,null,"",0,0]
[null,null,null,null,null,null,null,null,null,"",0,0]
[null,null,null,null,null,null,null,null,null,"",0,0]
[null,null,null,null,null,null,null,null,null,"",0,0]
[null,null,null,null,null,null,null,null,null,"",0,0]
[null,null,null,null,null,null,null,null,null,"",0,0]
[null,null,null,null,null,null,null,null,null,"",0,0]
[null,null,null,null,null,null,null,null,null,"",0,0]
[null,null,null,null,null,null,null,null,null,{"$f":"CONCATENATE(LEFT(D838,1),E838)","v":""},0,0]
[null,null,null,null,null,null,null,null,null,"",{"$f":"IF(D839=\"ENTRADA\",C839,0)","v":0},{"$f":"IF(D839=\"SALIDA\",C839,0)","v":0}]
[null,null,null,null,null,null,null,null,null,"",0,0]
[null,null,null,null,null,null,null,null,null,"",0,0]
[null,null,null,null,null,null,null,null,null,"",0,0]
[null,null,null,null,null,null,null,null,null,"",0,0]
[null,null,null,null,null,null,null,null,null,"",0,0]
[null,null,null,null,null,null,null,null,null,"",0,0]
[null,null,null,null,null,null,null,null,null,"",0,0]
[null,null,null,null,null,null,null,null,null,"",0,0]
[null,null,null,null,null,null,null,null,null,"",0,0]
[null,null,null,null,null,null,null,null,null,"",0,0]
[null,null,null,null,null,null,null,null,null,"",0,0]
[null,null,null,null,null,null,null,null,null,"",0,0]
[null,null,null,null,null,null,null,null,null,"",0,0]
[null,null,null,null,null,null,null,null,null,"",0,0]
[null,null,null,null,null,null,null,null,null,"",0,0]
[null,null,null,null,null,null,null,null,null,"",0,0]
[null,null,null,null,null,null,null,null,null,"",0,0]
[null,null,null,null,null,null,null,null,null,"",0,0]
[null,null,null,null,null,null,null,null,null,"",0,0]
[null,null,null,null,null,null,null,null,null,"",0,0]
[null,null,null,null,null,null,null,null,null,"",0,0]
[null,null,null,null,null,null,null,null,null,"",0,0]
[null,null,null,null,null,null,null,null,null,"",0,0]
[null,null,null,null,null,null,null,null,null,"",0,0]
[null,null,null,null,null,null,null,null,null,"",0,0]
[null,null,null,null,null,null,null,null,null,"",0,0]
[null,null,null,null,null,null,null,null,null,"",0,0]
[null,null,null,null,null,null,null,null,null,"",0,0]
[null,null,null,null,null,null,null,null,null,"",0,0]
[null,null,null,null,null,null,null,null,null,"",0,0]
[null,null,null,null,null,null,null,null,null,"",0,0]
[null,null,null,null,null,null,null,null,null,"",0,0]
[null,null,null,null,null,null,null,null,null,"",0,0]
[null,null,null,null,null,null,null,null,null,"",0,0]
[null,null,null,null,null,null,null,null,null,"",0,0]
[null,null,null,null,null,null,null,null,null,"",0,0]
[null,null,null,null,null,null,null,null,null,"",0,0]
[null,null,null,null,null,null,null,null,null,"",0,0]
[null,null,null,null,null,null,null,null,null,"",0,0]
[null,null,null,null,null,null,null,null,null,"",0,0]
[null,null,null,null,null,null,null,null,null,"",0,0]
[null,null,null,null,null,null,null,null,null,"",0,0]
[null,null,null,null,null,null,null,null,null,"",0,0]
[null,null,null,null,null,null,null,null,null,"",0,0]
[null,null,null,null,null,null,null,null,null,"",0,0]
[null,null,null,null,null,null,null,null,null,"",0,0]
[null,null,null,null,null,null,null,null,null,"",0,0]
[null,null,null,null,null,null,null,null,null,"",0,0]
[null,null,null,null,null,null,null,null,null,"",0,0]
[null,null,null,null,null,null,null,null,null,"",0,0]
[null,null,null,null,null,null,null,null,null,"",0,0]
[null,null,null,null,null,null,null,null,null,"",0,0]
[null,null,null,null,null,null,null,null,null,"",0,0]
[null,null,null,null,null,null,null,null,null,"",0,0]
[null,null,null,null,null,null,null,null,null,"",0,0]
[null,null,null,null,null,null,null,null,null,"",0,0]
[null,null,null,null,null,null,null,null,null,"",0,0]
[null,null,null,null,null,null,null,null,null,"",0,0]
[null,null,null,null,null,null,null,null,null,"",0,0]
[null,null,null,null,null,null,null,null,null,"",0,0]
[null,null,null,null,null,null,null,null,null,"",0,0]
[null,null,null,null,null,null,null,null,null,"",0,0]
[null,null,null,null,null,null,null,null,null,{"$f":"CONCATENATE(LEFT(D902,1),E902)","v":""},0,0]
[null,null,null,null,null,null,null,null,null,"",{"$f":"IF(D903=\"ENTRADA\",C903,0)","v":0},{"$f":"IF(D903=\"SALIDA\",C903,0)","v":0}]
[null,null,null,null,null,null,null,null,null,"",0,0]
[null,null,null,null,null,null,null,null,null,"",0,0]
[null,null,null,null,null,null,null,null,null,"",0,0]
[null,null,null,null,null,null,null,null,null,"",0,0]
[null,null,null,null,null,null,null,null,null,"",0,0]
[null,null,null,null,null,null,null,null,null,"",0,0]
[null,null,null,null,null,null,null,null,null,"",0,0]
[null,null,null,null,null,null,null,null,null,"",0,0]
[null,null,null,null,null,null,null,null,null,"",0,0]
[null,null,null,null,null,null,null,null,null,"",0,0]
[null,null,null,null,null,null,null,null,null,"",0,0]
[null,null,null,null,null,null,null,null,null,"",0,0]
[null,null,null,null,null,null,null,null,null,"",0,0]
[null,null,null,null,null,null,null,null,null,"",0,0]
[null,null,null,null,null,null,null,null,null,"",0,0]
[null,null,null,null,null,null,null,null,null,"",0,0]
[null,null,null,null,null,null,null,null,null,"",0,0]
[null,null,null,null,null,null,null,null,null,"",0,0]
[null,null,null,null,null,null,null,null,null,"",0,0]
[null,null,null,null,null,null,null,null,null,"",0,0]
[null,null,null,null,null,null,null,null,null,"",0,0]
[null,null,null,null,null,null,null,null,null,"",0,0]
[null,null,null,null,null,null,null,null,null,"",0,0]
[null,null,null,null,null,null,null,null,null,"",0,0]
[null,null,null,null,null,null,null,null,null,"",0,0]
[null,null,null,null,null,null,null,null,null,"",0,0]
[null,null,null,null,null,null,null,null,null,"",0,0]
[null,null,null,null,null,null,null,null,null,"",0,0]
[null,null,null,null,null,null,null,null,null,"",0,0]
[null,null,null,null,null,null,null,null,null,"",0,0]
[null,null,null,null,null,null,null,null,null,"",0,0]
[null,null,null,null,null,null,null,null,null,"",0,0]
[null,null,null,null,null,null,null,null,null,"",0,0]
[null,null,null,null,null,null,null,null,null,"",0,0]
[null,null,null,null,null,null,null,null,null,"",0,0]
[null,null,null,null,null,null,null,null,null,"",0,0]
[null,null,null,null,null,null,null,null,null,"",0,0]
[null,null,null,null,null,null,null,null,null,"",0,0]
[null,null,null,null,null,null,null,null,null,"",0,0]
[null,null,null,null,null,null,null,null,null,"",0,0]
[null,null,null,null,null,null,null,null,null,"",0,0]
[null,null,null,null,null,null,null,null,null,"",0,0]
[null,null,null,null,null,null,null,null,null,"",0,0]
[null,null,null,null,null,null,null,null,null,"",0,0]
[null,null,null,null,null,null,null,null,null,"",0,0]
[null,null,null,null,null,null,null,null,null,"",0,0]
[null,null,null,null,null,null,null,null,null,"",0,0]
[null,null,null,null,null,null,null,null,null,"",0,0]
[null,null,null,null,null,null,null,null,null,"",0,0]
[null,null,null,null,null,null,null,null,null,"",0,0]
[null,null,null,null,null,null,null,null,null,"",0,0]
[null,null,null,null,null,null,null,null,null,"",0,0]
[null,null,null,null,null,null,null,null,null,"",0,0]
[null,null,null,null,null,null,null,null,null,"",0,0]
[null,null,null,null,null,null,null,null,null,"",0,0]
[null,null,null,null,null,null,null,null,null,"",0,0]
[null,null,null,null,null,null,null,null,null,"",0,0]
[null,null,null,null,null,null,null,null,null,"",0,0]
[null,null,null,null,null,null,null,null,null,"",0,0]
[null,null,null,null,null,null,null,null,null,"",0,0]
[null,null,null,null,null,null,null,null,null,"",0,0]
[null,null,null,null,null,null,null,null,null,"",0,0]
[null,null,null,null,null,null,null,null,null,{"$f":"CONCATENATE(LEFT(D966,1),E966)","v":""},0,0]
[null,null,null,null,null,null,null,null,null,"",{"$f":"IF(D967=\"ENTRADA\",C967,0)","v":0},{"$f":"IF(D967=\"SALIDA\",C967,0)","v":0}]
[null,null,null,null,null,null,null,null,null,"",0,0]
[null,null,null,null,null,null,null,null,null,"",0,0]
[null,null,null,null,null,null,null,null,null,"",0,0]
[null,null,null,null,null,null,null,null,null,"",0,0]
[null,null,null,null,null,null,null,null,null,"",0,0]
[null,null,null,null,null,null,null,null,null,"",0,0]
[null,null,null,null,null,null,null,null,null,"",0,0]
[null,null,null,null,null,null,null,null,null,"",0,0]
[null,null,null,null,null,null,null,null,null,"",0,0]
[null,null,null,null,null,null,null,null,null,"",0,0]
[null,null,null,null,null,null,null,null,null,"",0,0]
[null,null,null,null,null,null,null,null,null,"",0,0]
[null,null,null,null,null,null,null,null,null,"",0,0]
[null,null,null,null,null,null,null,null,null,"",0,0]
[null,null,null,null,null,null,null,null,null,"",0,0]
[null,null,null,null,null,null,null,null,null,"",0,0]
[null,null,null,null,null,null,null,null,null,"",0,0]
[null,null,null,null,null,null,null,null,null,"",0,0]
[null,null,null,null,null,null,null,null,null,"",0,0]
[null,null,null,null,null,null,null,null,null,"",0,0]
[null,null,null,null,null,null,null,null,null,"",0,0]
[null,null,null,null,null,null,null,null,null,"",0,0]
[null,null,null,null,null,null,null,null,null,"",0,0]
[null,null,null,null,null,null,null,null,null,"",0,0]
[null,null,null,null,null,null,null,null,null,"",0,0]
[null,null,null,null,null,null,null,null,null,"",0,0]
[null,null,null,null,null,null,null,null,null,"",0,0]
[null,null,null,null,null,null,null,null,null,"",0,0]
[null,null,null,null,null,null,null,null,null,"",0,0]
[null,null,null,null,null,null,null,null,null,"",0,0]
[null,null,null,null,null,null,null,null,null,"",0,0]
[null,null,null,null,null,null,null,null,null,"",0,0]
[null,null,null,null,null,null,null,null,null,"",0,0]
[null,null,null,null,null,null,null,null,null,"",0,0]
[null,null,null,null,null,null,null,null,null,"",0,0]
[null,null,null,null,null,null,null,null,null,"",0,0]
[null,null,null,null,null,null,null,null,null,"",0,0]
[null,null,null,null,null,null,null,null,null,"",0,0]
[null,null,null,null,null,null,null,null,null,"",0,0]
[null,null,null,null,null,null,null,null,null,"",0,0]
[null,null,null,null,null,null,null,null,null,"",0,0]
[null,null,null,null,null,null,null,null,null,"",0,0]
[null,null,null,null,null,null,null,null,null,"",0,0]
[null,null,null,null,null,null,null,null,null,"",0,0]
[null,null,null,null,null,null,null,null,null,"",0,0]
[null,null,null,null,null,null,null,null,null,"",0,0]
[null,null,null,null,null,null,null,null,null,"",0,0]
[null,null,null,null,null,null,null,null,null,"",0,0]
[null,null,null,null,null,null,null,null,null,"",0,0]
[null,null,null,null,null,null,null,null,null,"",0,0]
[null,null,null,null,null,null,null,null,null,"",0,0]
[null,null,null,null,null,null,null,null,null,"",0,0]
[null,null,null,null,null,null,null,null,null,"",0,0]
[null,null,null,null,null,null,null,null,null,"",0,0]
[null,null,null,null,null,null,null,null,null,"",0,0]
[null,null,null,null,null,null,null,null,null,"",0,0]
[null,null,null,null,null,null,null,null,null,"",0,0]
[null,null,null,null,null,null,null,null,null,"",0,0]
[null,null,null,null,null,null,null,null,null,"",0,0]
[null,null,null,null,null,null,null,null,null,"",0,0]
[null,null,null,null,null,null,null,null,null,"",0,0]
[null,null,null,null,null,null,null,null,null,"",0,0]
[null,null,null,null,null,null,null,null,null,{"$f":"CONCATENATE(LEFT(D1030,1),E1030)","v":""},0,0]
[null,null,null,null,null,null,null,null,null,"",{"$f":"IF(D1031=\"ENTRADA\",C1031,0)","v":0},{"$f":"IF(D1031=\"SALIDA\",C1031,0)","v":0}]
[null,null,null,null,null,null,null,null,null,"",0,0]
[null,null,null,null,null,null,null,null,null,"",0,0]
[null,null,null,null,null,null,null,null,null,"",0,0]
[null,null,null,null,null,null,null,null,null,"",0,0]
[null,null,null,null,null,null,null,null,null,"",0,0]
[null,null,null,null,null,null,null,null,null,"",0,0]
[null,null,null,null,null,null,null,null,null,"",0,0]
[null,null,null,null,null,null,null,null,null,"",0,0]
[null,null,null,null,null,null,null,null,null,"",0,0]
[null,null,null,null,null,null,null,null,null,"",0,0]
[null,null,null,null,null,null,null,null,null,"",0,0]
[null,null,null,null,null,null,null,null,null,"",0,0]
[null,null,null,null,null,null,null,null,null,"",0,0]
[null,null,null,null,null,null,null,null,null,"",0,0]
[null,null,null,null,null,null,null,null,null,"",0,0]
[null,null,null,null,null,null,null,null,null,"",0,0]
[null,null,null,null,null,null,null,null,null,"",0,0]
[null,null,null,null,null,null,null,null,null,"",0,0]
[null,null,null,null,null,null,null,null,null,"",0,0]
[null,null,null,null,null,null,null,null,null,"",0,0]
[null,null,null,null,null,null,null,null,null,"",0,0]
[null,null,null,null,null,null,null,null,null,"",0,0]
[null,null,null,null,null,null,null,null,null,"",0,0]
[null,null,null,null,null,null,null,null,null,"",0,0]
[null,null,null,null,null,null,null,null,null,"",0,0]
[null,null,null,null,null,null,null,null,null,"",0,0]
[null,null,null,null,null,null,null,null,null,"",0,0]
[null,null,null,null,null,null,null,null,null,"",0,0]
[null,null,null,null,null,null,null,null,null,"",0,0]
[null,null,null,null,null,null,null,null,null,"",0,0]
[null,null,null,null,null,null,null,null,null,"",0,0]
[null,null,null,null,null,null,null,null,null,"",0,0]
[null,null,null,null,null,null,null,null,null,"",0,0]
[null,null,null,null,null,null,null,null,null,"",0,0]
[null,null,null,null,null,null,null,null,null,"",0,0]
[null,null,null,null,null,null,null,null,null,"",0,0]
[null,null,null,null,null,null,null,null,null,"",0,0]
[null,null,null,null,null,null,null,null,null,"",0,0]
[null,null,null,null,null,null,null,null,null,"",0,0]
[null,null,null,null,null,null,null,null,null,"",0,0]
[null,null,null,null,null,null,null,null,null,"",0,0]
[null,null,null,null,null,null,null,null,null,"",0,0]
[null,null,null,null,null,null,null,null,null,"",0,0]
[null,null,null,null,null,null,null,null,null,"",0,0]
[null,null,null,null,null,null,null,null,null,"",0,0]
[null,null,null,null,null,null,null,null,null,"",0,0]
[null,null,null,null,null,null,null,null,null,"",0,0]
[null,null,null,null,null,null,null,null,null,"",0,0]
[null,null,null,null,null,null,null,null,null,"",0,0]
[null,null,null,null,null,null,null,null,null,"",0,0]
[null,null,null,null,null,null,null,null,null,"",0,0]
[null,null,null,null,null,null,null,null,null,"",0,0]
[null,null,null,null,null,null,null,null,null,"",0,0]
[null,null,null,null,null,null,null,null,null,"",0,0]
[null,null,null,null,null,null,null,null,null,"",0,0]
[null,null,null,null,null,null,null,null,null,"",0,0]
[null,null,null,null,null,null,null,null,null,"",0,0]
[null,null,null,null,null,null,null,null,null,"",0,0]
[null,null,null,null,null,null,null,null,null,"",0,0]
[null,null,null,null,null,null,null,null,null,"",0,0]
[null,null,null,null,null,null,null,null,null,"",0,0]
[null,null,null,null,null,null,null,null,null,"",0,0]
[null,null,null,null,null,null,null,null,null,{"$f":"CONCATENATE(LEFT(D1094,1),E1094)","v":""},0,0]
[null,null,null,null,null,null,null,null,null,"",{"$f":"IF(D1095=\"ENTRADA\",C1095,0)","v":0},{"$f":"IF(D1095=\"SALIDA\",C1095,0)","v":0}]
[null,null,null,null,null,null,null,null,null,"",0,0]
[null,null,null,null,null,null,null,null,null,"",0,0]
[null,null,null,null,null,null,null,null,null,"",0,0]
[null,null,null,null,null,null,null,null,null,"",0,0]
[null,null,null,null,null,null,null,null,null,"",0,0]
[null,null,null,null,null,null,null,null,null,"",0,0]
[null,null,null,null,null,null,null,null,null,"",0,0]
[null,null,null,null,null,null,null,null,null,"",0,0]
[null,null,null,null,null,null,null,null,null,"",0,0]
[null,null,null,null,null,null,null,null,null,"",0,0]
[null,null,null,null,null,null,null,null,null,"",0,0]
[null,null,null,null,null,null,null,null,null,"",0,0]
[null,null,null,null,null,null,null,null,null,"",0,0]
[null,null,null,null,null,null,null,null,null,"",0,0]
[null,null,null,null,null,null,null,null,null,"",0,0]
[null,null,null,null,null,null,null,null,null,"",0,0]
[null,null,null,null,null,null,null,null,null,"",0,0]
[null,null,null,null,null,null,null,null,null,"",0,0]
[null,null,null,null,null,null,null,null,null,"",0,0]
[null,null,null,null,null,null,null,null,null,"",0,0]
[null,null,null,null,null,null,null,null,null,"",0,0]
[null,null,null,null,null,null,null,null,null,"",0,0]
[null,null,null,null,null,null,null,null,null,"",0,0]
[null,null,null,null,null,null,null,null,null,"",0,0]
[null,null,null,null,null,null,null,null,null,"",0,0]
[null,null,null,null,null,null,null,null,null,"",0,0]
[null,null,null,null,null,null,null,null,null,"",0,0]
[null,null,null,null,null,null,null,null,null,"",0,0]
[null,null,null,null,null,null,null,null,null,"",0,0]
[null,null,null,null,null,null,null,null,null,"",0,0]
[null,null,null,null,null,null,null,null,null,"",0,0]
[null,null,null,null,null,null,null,null,null,"",0,0]
[null,null,null,null,null,null,null,null,null,"",0,0]
[null,null,null,null,null,null,null,null,null,"",0,0]
[null,null,null,null,null,null,null,null,null,"",0,0]
[null,null,null,null,null,null,null,null,null,"",0,0]
[null,null,null,null,null,null,null,null,null,"",0,0]
[null,null,null,null,null,null,null,null,null,"",0,0]
[null,null,null,null,null,null,null,null,null,"",0,0]
[null,null,null,null,null,null,null,null,null,"",0,0]
[null,null,null,null,null,null,null,null,null,"",0,0]
[null,null,null,null,null,null,null,null,null,"",0,0]
[null,null,null,null,null,null,null,null,null,"",0,0]
[null,null,null,null,null,null,null,null,null,"",0,0]
[null,null,null,null,null,null,null,null,null,"",0,0]
[null,null,null,null,null,null,null,null,null,"",0,0]
[null,null,null,null,null,null,null,null,null,"",0,0]
[null,null,null,null,null,null,null,null,null,"",0,0]
[null,null,null,null,null,null,null,null,null,"",0,0]
[null,null,null,null,null,null,null,null,null,"",0,0]
[null,null,null,null,null,null,null,null,null,"",0,0]
[null,null,null,null,null,null,null,null,null,"",0,0]
[null,null,null,null,null,null,null,null,null,"",0,0]
[null,null,null,null,null,null,null,null,null,"",0,0]
[null,null,null,null,null,null,null,null,null,"",0,0]
[null,null,null,null,null,null,null,null,null,"",0,0]
[null,null,null,null,null,null,null,null,null,"",0,0]
[null,null,null,null,null,null,null,null,null,"",0,0]
[null,null,null,null,null,null,null,null,null,"",0,0]
[null,null,null,null,null,null,null,null,null,"",0,0]
[null,null,null,null,null,null,null,null,null,"",0,0]
[null,null,null,null,null,null,null,null,null,"",0,0]
[null,null,null,null,null,null,null,null,null,{"$f":"CONCATENATE(LEFT(D1158,1),E1158)","v":""},0,0]
[null,null,null,null,null,null,null,null,null,"",{"$f":"IF(D1159=\"ENTRADA\",C1159,0)","v":0},{"$f":"IF(D1159=\"SALIDA\",C1159,0)","v":0}]
[null,null,null,null,null,null,null,null,null,"",0,0]
[null,null,null,null,null,null,null,null,null,"",0,0]
[null,null,null,null,null,null,null,null,null,"",0,0]
[null,null,null,null,null,null,null,null,null,"",0,0]
[null,null,null,null,null,null,null,null,null,"",0,0]
[null,null,null,null,null,null,null,null,null,"",0,0]
[null,null,null,null,null,null,null,null,null,"",0,0]
[null,null,null,null,null,null,null,null,null,"",0,0]
[null,null,null,null,null,null,null,null,null,"",0,0]
[null,null,null,null,null,null,null,null,null,"",0,0]
[null,null,null,null,null,null,null,null,null,"",0,0]
[null,null,null,null,null,null,null,null,null,"",0,0]
[null,null,null,null,null,null,null,null,null,"",0,0]
[null,null,null,null,null,null,null,null,null,"",0,0]
[null,null,null,null,null,null,null,null,null,"",0,0]
[null,null,null,null,null,null,null,null,null,"",0,0]
[null,null,null,null,null,null,null,null,null,"",0,0]
[null,null,null,null,null,null,null,null,null,"",0,0]
[null,null,null,null,null,null,null,null,null,"",0,0]
[null,null,null,null,null,null,null,null,null,"",0,0]
[null,null,null,null,null,null,null,null,null,"",0,0]
[null,null,null,null,null,null,null,null,null,"",0,0]
[null,null,null,null,null,null,null,null,null,"",0,0]
[null,null,null,null,null,null,null,null,null,"",0,0]
[null,null,null,null,null,null,null,null,null,"",0,0]
[null,null,null,null,null,null,null,null,null,"",0,0]
[null,null,null,null,null,null,null,null,null,"",0,0]
[null,null,null,null,null,null,null,null,null,"",0,0]
[null,null,null,null,null,null,null,null,null,"",0,0]
[null,null,null,null,null,null,null,null,null,"",0,0]
[null,null,null,null,null,null,null,null,null,"",0,0]
[null,null,null,null,null,null,null,null,null,"",0,0]
[null,null,null,null,null,null,null,null,null,"",0,0]
[null,null,null,null,null,null,null,null,null,"",0,0]
[null,null,null,null,null,null,null,null,null,"",0,0]
[null,null,null,null,null,null,null,null,null,"",0,0]
[null,null,null,null,null,null,null,null,null,"",0,0]
[null,null,null,null,null,null,null,null,null,"",0,0]
[null,null,null,null,null,null,null,null,null,"",0,0]
[null,null,null,null,null,null,null,null,null,"",0,0]
[null,null,null,null,null,null,null,null,null,"",0,0]
[null,null,null,null,null,null,null,null,null,"",0,0]
[null,null,null,null,null,null,null,null,null,"",0,0]
[null,null,null,null,null,null,null,null,null,"",0,0]
[null,null,null,null,null,null,null,null,null,"",0,0]
[null,null,null,null,null,null,null,null,null,"",0,0]
[null,null,null,null,null,null,null,null,null,"",0,0]
[null,null,null,null,null,null,null,null,null,"",0,0]
[null,null,null,null,null,null,null,null,null,"",0,0]
[null,null,null,null,null,null,null,null,null,"",0,0]
[null,null,null,null,null,null,null,null,null,"",0,0]
[null,null,null,null,null,null,null,null,null,"",0,0]
[null,null,null,null,null,null,null,null,null,"",0,0]
[null,null,null,null,null,null,null,null,null,"",0,0]
[null,null,null,null,null,null,null,null,null,"",0,0]
[null,null,null,null,null,null,null,null,null,"",0,0]
[null,null,null,null,null,null,null,null,null,"",0,0]
[null,null,null,null,null,null,null,null,null,"",0,0]
[null,null,null,null,null,null,null,null,null,"",0,0]
[null,null,null,null,null,null,null,null,null,"",0,0]
[null,null,null,null,null,null,null,null,null,"",0,0]
[null,null,null,null,null,null,null,null,null,"",0,0]
[null,null,null,null,null,null,null,null,null,{"$f":"CONCATENATE(LEFT(D1222,1),E1222)","v":""},0,0]
[null,null,null,null,null,null,null,null,null,"",{"$f":"IF(D1223=\"ENTRADA\",C1223,0)","v":0},{"$f":"IF(D1223=\"SALIDA\",C1223,0)","v":0}]
[null,null,null,null,null,null,null,null,null,"",0,0]
[null,null,null,null,null,null,null,null,null,"",0,0]
[null,null,null,null,null,null,null,null,null,"",0,0]
[null,null,null,null,null,null,null,null,null,"",0,0]
[null,null,null,null,null,null,null,null,null,"",0,0]
[null,null,null,null,null,null,null,null,null,"",0,0]
[null,null,null,null,null,null,null,null,null,"",0,0]
[null,null,null,null,null,null,null,null,null,"",0,0]
[null,null,null,null,null,null,null,null,null,"",0,0]
[null,null,null,null,null,null,null,null,null,"",0,0]
[null,null,null,null,null,null,null,null,null,"",0,0]
[null,null,null,null,null,null,null,null,null,"",0,0]
[null,null,null,null,null,null,null,null,null,"",0,0]
[null,null,null,null,null,null,null,null,null,"",0,0]
[null,null,null,null,null,null,null,null,null,"",0,0]
[null,null,null,null,null,null,null,null,null,"",0,0]
[null,null,null,null,null,null,null,null,null,"",0,0]
[null,null,null,null,null,null,null,null,null,"",0,0]
[null,null,null,null,null,null,null,null,null,"",0,0]
[null,null,null,null,null,null,null,null,null,"",0,0]
[null,null,null,null,null,null,null,null,null,"",0,0]
[null,null,null,null,null,null,null,null,null,"",0,0]
[null,null,null,null,null,null,null,null,null,"",0,0]
[null,null,null,null,null,null,null,null,null,"",0,0]
[null,null,null,null,null,null,null,null,null,"",0,0]
[null,null,null,null,null,null,null,null,null,"",0,0]
[null,null,null,null,null,null,null,null,null,"",0,0]
[null,null,null,null,null,null,null,null,null,"",0,0]
[null,null,null,null,null,null,null,null,null,"",0,0]
[null,null,null,null,null,null,null,null,null,"",0,0]
[null,null,null,null,null,null,null,null,null,"",0,0]
[null,null,null,null,null,null,null,null,null,"",0,0]
[null,null,null,null,null,null,null,null,null,"",0,0]
[null,null,null,null,null,null,null,null,null,"",0,0]
[null,null,null,null,null,null,null,null,null,"",0,0]
[null,null,null,null,null,null,null,null,null,"",0,0]
[null,null,null,null,null,null,null,null,null,"",0,0]
[null,null,null,null,null,null,null,null,null,"",0,0]
[null,null,null,null,null,null,null,null,null,"",0,0]
[null,null,null,null,null,null,null,null,null,"",0,0]
[null,null,null,null,null,null,null,null,null,"",0,0]
[null,null,null,null,null,null,null,null,null,"",0,0]
[null,null,null,null,null,null,null,null,null,"",0,0]
[null,null,null,null,null,null,null,null,null,"",0,0]
[null,null,null,null,null,null,null,null,null,"",0,0]
[null,null,null,null,null,null,null,null,null,"",0,0]
[null,null,null,null,null,null,null,null,null,"",0,0]
[null,null,null,null,null,null,null,null,null,"",0,0]
[null,null,null,null,null,null,null,null,null,"",0,0]
[null,null,null,null,null,null,null,null,null,"",0,0]
[null,null,null,null,null,null,null,null,null,"",0,0]
[null,null,null,null,null,null,null,null,null,"",0,0]
[null,null,null,null,null,null,null,null,null,"",0,0]
[null,null,null,null,null,null,null,null,null,"",0,0]
[null,null,null,null,null,null,null,null,null,"",0,0]
[null,null,null,null,null,null,null,null,null,"",0,0]
[null,null,null,null,null,null,null,null,null,"",0,0]
[null,null,null,null,null,null,null,null,null,"",0,0]
[null,null,null,null,null,null,null,null,null,"",0,0]
[null,null,null,null,null,null,null,null,null,"",0,0]
[null,null,null,null,null,null,null,null,null,"",0,0]
[null,null,null,null,null,null,null,null,null,"",0,0]
[null,null,null,null,null,null,null,null,null,{"$f":"CONCATENATE(LEFT(D1286,1),E1286)","v":""},0,0]
[null,null,null,null,null,null,null,null,null,"",{"$f":"IF(D1287=\"ENTRADA\",C1287,0)","v":0},{"$f":"IF(D1287=\"SALIDA\",C1287,0)","v":0}]
[null,null,null,null,null,null,null,null,null,"",0,0]
[null,null,null,null,null,null,null,null,null,"",0,0]
[null,null,null,null,null,null,null,null,null,"",0,0]
[null,null,null,null,null,null,null,null,null,"",0,0]
[null,null,null,null,null,null,null,null,null,"",0,0]
[null,null,null,null,null,null,null,null,null,"",0,0]
[null,null,null,null,null,null,null,null,null,"",0,0]
[null,null,null,null,null,null,null,null,null,"",0,0]
[null,null,null,null,null,null,null,null,null,"",0,0]
[null,null,null,null,null,null,null,null,null,"",0,0]
[null,null,null,null,null,null,null,null,null,"",0,0]
[null,null,null,null,null,null,null,null,null,"",0,0]
[null,null,null,null,null,null,null,null,null,"",0,0]
[null,null,null,null,null,null,null,null,null,"",0,0]
[null,null,null,null,null,null,null,null,null,"",0,0]
[null,null,null,null,null,null,null,null,null,"",0,0]
[null,null,null,null,null,null,null,null,null,"",0,0]
[null,null,null,null,null,null,null,null,null,"",0,0]
[null,null,null,null,null,null,null,null,null,"",0,0]
[null,null,null,null,null,null,null,null,null,"",0,0]
[null,null,null,null,null,null,null,null,null,"",0,0]
[null,null,null,null,null,null,null,null,null,"",0,0]
[null,null,null,null,null,null,null,null,null,"",0,0]
[null,null,null,null,null,null,null,null,null,"",0,0]
[null,null,null,null,null,null,null,null,null,"",0,0]
[null,null,null,null,null,null,null,null,null,"",0,0]
[null,null,null,null,null,null,null,null,null,"",0,0]
[null,null,null,null,null,null,null,null,null,"",0,0]
[null,null,null,null,null,null,null,null,null,"",0,0]
[null,null,null,null,null,null,null,null,null,"",0,0]
[null,null,null,null,null,null,null,null,null,"",0,0]
[null,null,null,null,null,null,null,null,null,"",0,0]
[null,null,null,null,null,null,null,null,null,"",0,0]
[null,null,null,null,null,null,null,null,null,"",0,0]
[null,null,null,null,null,null,null,null,null,"",0,0]
[null,null,null,null,null,null,null,null,null,"",0,0]
[null,null,null,null,null,null,null,null,null,"",0,0]
[null,null,null,null,null,null,null,null,null,"",0,0]
[null,null,null,null,null,null,null,null,null,"",0,0]
[null,null,null,null,null,null,null,null,null,"",0,0]
[null,null,null,null,null,null,null,null,null,"",0,0]
[null,null,null,null,null,null,null,null,null,"",0,0]
[null,null,null,null,null,null,null,null,null,"",0,0]
[null,null,null,null,null,null,null,null,null,"",0,0]
[null,null,null,null,null,null,null,null,null,"",0,0]
[null,null,null,null,null,null,null,null,null,"",0,0]
[null,null,null,null,null,null,null,null,null,"",0,0]
[null,null,null,null,null,null,null,null,null,"",0,0]
[null,null,null,null,null,null,null,null,null,"",0,0]
[null,null,null,null,null,null,null,null,null,"",0,0]
[null,null,null,null,null,null,null,null,null,"",0,0]
[null,null,null,null,null,null,null,null,null,"",0,0]
[null,null,null,null,null,null,null,null,null,"",0,0]
[null,null,null,null,null,null,null,null,null,"",0,0]
[null,null,null,null,null,null,null,null,null,"",0,0]
[null,null,null,null,null,null,null,null,null,"",0,0]
[null,null,null,null,null,null,null,null,null,"",0,0]
[null,null,null,null,null,null,null,null,null,"",0,0]
[null,null,null,null,null,null,null,null,null,"",0,0]
[null,null,null,null,null,null,null,null,null,"",0,0]
[null,null,null,null,null,null,null,null,null,"",0,0]
[null,null,null,null,null,null,null,null,null,"",0,0]
[null,null,null,null,null,null,null,null,null,{"$f":"CONCATENATE(LEFT(D1350,1),E1350)","v":""},0,0]
[null,null,null,null,null,null,null,null,null,"",{"$f":"IF(D1351=\"ENTRADA\",C1351,0)","v":0},{"$f":"IF(D1351=\"SALIDA\",C1351,0)","v":0}]
[null,null,null,null,null,null,null,null,null,"",0,0]
[null,null,null,null,null,null,null,null,null,"",0,0]
[null,null,null,null,null,null,null,null,null,"",0,0]
[null,null,null,null,null,null,null,null,null,"",0,0]
[null,null,null,null,null,null,null,null,null,"",0,0]
[null,null,null,null,null,null,null,null,null,"",0,0]
[null,null,null,null,null,null,null,null,null,"",0,0]
[null,null,null,null,null,null,null,null,null,"",0,0]
[null,null,null,null,null,null,null,null,null,"",0,0]
[null,null,null,null,null,null,null,null,null,"",0,0]
[null,null,null,null,null,null,null,null,null,"",0,0]
[null,null,null,null,null,null,null,null,null,"",0,0]
[null,null,null,null,null,null,null,null,null,"",0,0]
[null,null,null,null,null,null,null,null,null,"",0,0]
[null,null,null,null,null,null,null,null,null,"",0,0]
[null,null,null,null,null,null,null,null,null,"",0,0]
[null,null,null,null,null,null,null,null,null,"",0,0]
[null,null,null,null,null,null,null,null,null,"",0,0]
[null,null,null,null,null,null,null,null,null,"",0,0]
[null,null,null,null,null,null,null,null,null,"",0,0]
[null,null,null,null,null,null,null,null,null,"",0,0]
[null,null,null,null,null,null,null,null,null,"",0,0]
[null,null,null,null,null,null,null,null,null,"",0,0]
[null,null,null,null,null,null,null,null,null,"",0,0]
[null,null,null,null,null,null,null,null,null,"",0,0]
[null,null,null,null,null,null,null,null,null,"",0,0]
[null,null,null,null,null,null,null,null,null,"",0,0]
[null,null,null,null,null,null,null,null,null,"",0,0]
[null,null,null,null,null,null,null,null,null,"",0,0]
[null,null,null,null,null,null,null,null,null,"",0,0]
[null,null,null,null,null,null,null,null,null,"",0,0]
[null,null,null,null,null,null,null,null,null,"",0,0]
[null,null,null,null,null,null,null,null,null,"",0,0]
[null,null,null,null,null,null,null,null,null,"",0,0]
[null,null,null,null,null,null,null,null,null,"",0,0]
[null,null,null,null,null,null,null,null,null,"",0,0]
[null,null,null,null,null,null,null,null,null,"",0,0]
[null,null,null,null,null,null,null,null,null,"",0,0]
[null,null,null,null,null,null,null,null,null,"",0,0]
[null,null,null,null,null,null,null,null,null,"",0,0]
[null,null,null,null,null,null,null,null,null,"",0,0]
[null,null,null,null,null,null,null,null,null,"",0,0]
[null,null,null,null,null,null,null,null,null,"",0,0]
[null,null,null,null,null,null,null,null,null,"",0,0]
[null,null,null,null,null,null,null,null,null,"",0,0]
[null,null,null,null,null,null,null,null,null,"",0,0]
[null,null,null,null,null,null,null,null,null,"",0,0]
[null,null,null,null,null,null,null,null,null,"",0,0]
[null,null,null,null,null,null,null,null,null,"",0,0]
[null,null,null,null,null,null,null,null,null,"",0,0]
[null,null,null,null,null,null,null,null,null,"",0,0]
[null,null,null,null,null,null,null,null,null,"",0,0]
[null,null,null,null,null,null,null,null,null,"",0,0]
[null,null,null,null,null,null,null,null,null,"",0,0]
[null,null,null,null,null,null,null,null,null,"",0,0]
[null,null,null,null,null,null,null,null,null,"",0,0]
[null,null,null,null,null,null,null,null,null,"",0,0]
[null,null,null,null,null,null,null,null,null,"",0,0]
[null,null,null,null,null,null,null,null,null,"",0,0]
[null,null,null,null,null,null,null,null,null,"",0,0]
[null,null,null,null,null,null,null,null,null,"",0,0]
[null,null,null,null,null,null,null,null,null,"",0,0]
[null,null,null,null,null,null,null,null,null,{"$f":"CONCATENATE(LEFT(D1414,1),E1414)","v":""},0,0]
[null,null,null,null,null,null,null,null,null,"",{"$f":"IF(D1415=\"ENTRADA\",C1415,0)","v":0},{"$f":"IF(D1415=\"SALIDA\",C1415,0)","v":0}]
[null,null,null,null,null,null,null,null,null,"",0,0]
[null,null,null,null,null,null,null,null,null,"",0,0]
[null,null,null,null,null,null,null,null,null,"",0,0]
[null,null,null,null,null,null,null,null,null,"",0,0]
[null,null,null,null,null,null,null,null,null,"",0,0]
[null,null,null,null,null,null,null,null,null,"",0,0]
[null,null,null,null,null,null,null,null,null,"",0,0]
[null,null,null,null,null,null,null,null,null,"",0,0]
[null,null,null,null,null,null,null,null,null,"",0,0]
[null,null,null,null,null,null,null,null,null,"",0,0]
[null,null,null,null,null,null,null,null,null,"",0,0]
[null,null,null,null,null,null,null,null,null,"",0,0]
[null,null,null,null,null,null,null,null,null,"",0,0]
[null,null,null,null,null,null,null,null,null,"",0,0]
[null,null,null,null,null,null,null,null,null,"",0,0]
[null,null,null,null,null,null,null,null,null,"",0,0]
[null,null,null,null,null,null,null,null,null,"",0,0]
[null,null,null,null,null,null,null,null,null,"",0,0]
[null,null,null,null,null,null,null,null,null,"",0,0]
[null,null,null,null,null,null,null,null,null,"",0,0]
[null,null,null,null,null,null,null,null,null,"",0,0]
[null,null,null,null,null,null,null,null,null,"",0,0]
[null,null,null,null,null,null,null,null,null,"",0,0]
[null,null,null,null,null,null,null,null,null,"",0,0]
[null,null,null,null,null,null,null,null,null,"",0,0]
[null,null,null,null,null,null,null,null,null,"",0,0]
[null,null,null,null,null,null,null,null,null,"",0,0]
[null,null,null,null,null,null,null,null,null,"",0,0]
[null,null,null,null,null,null,null,null,null,"",0,0]
[null,null,null,null,null,null,null,null,null,"",0,0]
[null,null,null,null,null,null,null,null,null,"",0,0]
[null,null,null,null,null,null,null,null,null,"",0,0]
[null,null,null,null,null,null,null,null,null,"",0,0]
[null,null,null,null,null,null,null,null,null,"",0,0]
[null,null,null,null,null,null,null,null,null,"",0,0]
[null,null,null,null,null,null,null,null,null,"",0,0]
[null,null,null,null,null,null,null,null,null,"",0,0]
[null,null,null,null,null,null,null,null,null,"",0,0]
[null,null,null,null,null,null,null,null,null,"",0,0]
[null,null,null,null,null,null,null,null,null,"",0,0]
[null,null,null,null,null,null,null,null,null,"",0,0]
[null,null,null,null,null,null,null,null,null,"",0,0]
[null,null,null,null,null,null,null,null,null,"",0,0]
[null,null,null,null,null,null,null,null,null,"",0,0]
[null,null,null,null,null,null,null,null,null,"",0,0]
[null,null,null,null,null,null,null,null,null,"",0,0]
[null,null,null,null,null,null,null,null,null,"",0,0]
[null,null,null,null,null,null,null,null,null,"",0,0]
[null,null,null,null,null,null,null,null,null,"",0,0]
[null,null,null,null,null,null,null,null,null,"",0,0]
[null,null,null,null,null,null,null,null,null,"",0,0]
[null,null,null,null,null,null,null,null,null,"",0,0]
[null,null,null,null,null,null,null,null,null,"",0,0]
[null,null,null,null,null,null,null,null,null,"",0,0]
[null,null,null,null,null,null,null,null,null,"",0,0]
[null,null,null,null,null,null,null,null,null,"",0,0]
[null,null,null,null,null,null,null,null,null,"",0,0]
[null,null,null,null,null,null,null,null,null,"",0,0]
[null,null,null,null,null,null,null,null,null,"",0,0]
[null,null,null,null,null,null,null,null,null,"",0,0]
[null,null,null,null,null,null,null,null,null,"",0,0]
[null,null,null,null,null,null,null,null,null,"",0,0]
[null,null,null,null,null,null,null,null,null,{"$f":"CONCATENATE(LEFT(D1478,1),E1478)","v":""},0,0]
[null,null,null,null,null,null,null,null,null,"",{"$f":"IF(D1479=\"ENTRADA\",C1479,0)","v":0},{"$f":"IF(D1479=\"SALIDA\",C1479,0)","v":0}]
[null,null,null,null,null,null,null,null,null,"",0,0]
[null,null,null,null,null,null,null,null,null,"",0,0]
[null,null,null,null,null,null,null,null,null,"",0,0]
[null,null,null,null,null,null,null,null,null,"",0,0]
[null,null,null,null,null,null,null,null,null,"",0,0]
[null,null,null,null,null,null,null,null,null,"",0,0]
[null,null,null,null,null,null,null,null,null,"",0,0]
[null,null,null,null,null,null,null,null,null,"",0,0]
[null,null,null,null,null,null,null,null,null,"",0,0]
[null,null,null,null,null,null,null,null,null,"",0,0]
[null,null,null,null,null,null,null,null,null,"",0,0]
[null,null,null,null,null,null,null,null,null,"",0,0]
[null,null,null,null,null,null,null,null,null,"",0,0]
[null,null,null,null,null,null,null,null,null,"",0,0]
[null,null,null,null,null,null,null,null,null,"",0,0]
[null,null,null,null,null,null,null,null,null,"",0,0]
[null,null,null,null,null,null,null,null,null,"",0,0]
[null,null,null,null,null,null,null,null,null,"",0,0]
[null,null,null,null,null,null,null,null,null,"",0,0]
[null,null,null,null,null,null,null,null,null,"",0,0]
[null,null,null,null,null,null,null,null,null,"",0,0]
[null,null,null,null,null,null,null,null,null,"",0,0]
[null,null,null,null,null,null,null,null,null,"",0,0]
[null,null,null,null,null,null,null,null,null,"",0,0]
[null,null,null,null,null,null,null,null,null,"",0,0]
[null,null,null,null,null,null,null,null,null,"",0,0]
[null,null,null,null,null,null,null,null,null,"",0,0]
[null,null,null,null,null,null,null,null,null,"",0,0]
[null,null,null,null,null,null,null,null,null,"",0,0]
[null,null,null,null,null,null,null,null,null,"",0,0]
[null,null,null,null,null,null,null,null,null,"",0,0]
[null,null,null,null,null,null,null,null,null,"",0,0]
[null,null,null,null,null,null,null,null,null,"",0,0]
[null,null,null,null,null,null,null,null,null,"",0,0]
[null,null,null,null,null,null,null,null,null,"",0,0]
[null,null,null,null,null,null,null,null,null,"",0,0]
[null,null,null,null,null,null,null,null,null,"",0,0]
[null,null,null,null,null,null,null,null,null,"",0,0]
[null,null,null,null,null,null,null,null,null,"",0,0]
[null,null,null,null,null,null,null,null,null,"",0,0]
[null,null,null,null,null,null,null,null,null,"",0,0]
[null,null,null,null,null,null,null,null,null,"",0,0]
[null,null,null,null,null,null,null,null,null,"",0,0]
[null,null,null,null,null,null,null,null,null,"",0,0]
[null,null,null,null,null,null,null,null,null,"",0,0]
[null,null,null,null,null,null,null,null,null,"",0,0]
[null,null,null,null,null,null,null,null,null,"",0,0]
[null,null,null,null,null,null,null,null,null,"",0,0]
[null,null,null,null,null,null,null,null,null,"",0,0]
[null,null,null,null,null,null,null,null,null,"",0,0]
[null,null,null,null,null,null,null,null,null,"",0,0]
[null,null,null,null,null,null,null,null,null,"",0,0]
[null,null,null,null,null,null,null,null,null,"",0,0]
[null,null,null,null,null,null,null,null,null,"",0,0]
[null,null,null,null,null,null,null,null,null,"",0,0]
[null,null,null,null,null,null,null,null,null,"",0,0]
[null,null,null,null,null,null,null,null,null,"",0,0]
[null,null,null,null,null,null,null,null,null,"",0,0]
[null,null,null,null,null,null,null,null,null,"",0,0]
[null,null,null,null,null,null,null,null,null,"",0,0]
[null,null,null,null,null,null,null,null,null,"",0,0]
[null,null,null,null,null,null,null,null,null,"",0,0]
[null,null,null,null,null,null,null,null,null,{"$f":"CONCATENATE(LEFT(D1542,1),E1542)","v":""},0,0]
[null,null,null,null,null,null,null,null,null,"",{"$f":"IF(D1543=\"ENTRADA\",C1543,0)","v":0},{"$f":"IF(D1543=\"SALIDA\",C1543,0)","v":0}]
[null,null,null,null,null,null,null,null,null,"",0,0]
[null,null,null,null,null,null,null,null,null,"",0,0]
[null,null,null,null,null,null,null,null,null,"",0,0]
[null,null,null,null,null,null,null,null,null,"",0,0]
[null,null,null,null,null,null,null,null,null,"",0,0]
[null,null,null,null,null,null,null,null,null,"",0,0]
[null,null,null,null,null,null,null,null,null,"",0,0]
[null,null,null,null,null,null,null,null,null,"",0,0]
[null,null,null,null,null,null,null,null,null,"",0,0]
[null,null,null,null,null,null,null,null,null,"",0,0]
[null,null,null,null,null,null,null,null,null,"",0,0]
[null,null,null,null,null,null,null,null,null,"",0,0]
[null,null,null,null,null,null,null,null,null,"",0,0]
[null,null,null,null,null,null,null,null,null,"",0,0]
[null,null,null,null,null,null,null,null,null,"",0,0]
[null,null,null,null,null,null,null,null,null,"",0,0]
[null,null,null,null,null,null,null,null,null,"",0,0]
[null,null,null,null,null,null,null,null,null,"",0,0]
[null,null,null,null,null,null,null,null,null,"",0,0]
[null,null,null,null,null,null,null,null,null,"",0,0]
[null,null,null,null,null,null,null,null,null,"",0,0]
[null,null,null,null,null,null,null,null,null,"",0,0]
[null,null,null,null,null,null,null,null,null,"",0,0]
[null,null,null,null,null,null,null,null,null,"",0,0]
[null,null,null,null,null,null,null,null,null,"",0,0]
[null,null,null,null,null,null,null,null,null,"",0,0]
[null,null,null,null,null,null,null,null,null,"",0,0]
[null,null,null,null,null,null,null,null,null,"",0,0]
[null,null,null,null,null,null,null,null,null,"",0,0]
[null,null,null,null,null,null,null,null,null,"",0,0]
[null,null,null,null,null,null,null,null,null,"",0,0]
[null,null,null,null,null,null,null,null,null,"",0,0]
[null,null,null,null,null,null,null,null,null,"",0,0]
[null,null,null,null,null,null,null,null,null,"",0,0]
[null,null,null,null,null,null,null,null,null,"",0,0]
[null,null,null,null,null,null,null,null,null,"",0,0]
[null,null,null,null,null,null,null,null,null,"",0,0]
[null,null,null,null,null,null,null,null,null,"",0,0]
[null,null,null,null,null,null,null,null,null,"",0,0]
[null,null,null,null,null,null,null,null,null,"",0,0]
[null,null,null,null,null,null,null,null,null,"",0,0]
[null,null,null,null,null,null,null,null,null,"",0,0]
[null,null,null,null,null,null,null,null,null,"",0,0]
[null,null,null,null,null,null,null,null,null,"",0,0]
[null,null,null,null,null,null,null,null,null,"",0,0]
[null,null,null,null,null,null,null,null,null,"",0,0]
[null,null,null,null,null,null,null,null,null,"",0,0]
[null,null,null,null,null,null,null,null,null,"",0,0]
[null,null,null,null,null,null,null,null,null,"",0,0]
[null,null,null,null,null,null,null,null,null,"",0,0]
[null,null,null,null,null,null,null,null,null,"",0,0]
[null,null,null,null,null,null,null,null,null,"",0,0]
[null,null,null,null,null,null,null,null,null,"",0,0]
[null,null,null,null,null,null,null,null,null,"",0,0]
[null,null,null,null,null,null,null,null,null,"",0,0]
[null,null,null,null,null,null,null,null,null,"",0,0]
[null,null,null,null,null,null,null,null,null,"",0,0]
[null,null,null,null,null,null,null,null,null,"",0,0]
[null,null,null,null,null,null,null,null,null,"",0,0]
[null,null,null,null,null,null,null,null,null,"",0,0]
[null,null,null,null,null,null,null,null,null,"",0,0]
[null,null,null,null,null,null,null,null,null,"",0,0]
[null,null,null,null,null,null,null,null,null,{"$f":"CONCATENATE(LEFT(D1606,1),E1606)","v":""},0,0]
[null,null,null,null,null,null,null,null,null,"",{"$f":"IF(D1607=\"ENTRADA\",C1607,0)","v":0},{"$f":"IF(D1607=\"SALIDA\",C1607,0)","v":0}]
[null,null,null,null,null,null,null,null,null,"",0,0]
[null,null,null,null,null,null,null,null,null,"",0,0]
[null,null,null,null,null,null,null,null,null,"",0,0]
[null,null,null,null,null,null,null,null,null,"",0,0]
[null,null,null,null,null,null,null,null,null,"",0,0]
[null,null,null,null,null,null,null,null,null,"",0,0]
[null,null,null,null,null,null,null,null,null,"",0,0]
[null,null,null,null,null,null,null,null,null,"",0,0]
[null,null,null,null,null,null,null,null,null,"",0,0]
[null,null,null,null,null,null,null,null,null,"",0,0]
[null,null,null,null,null,null,null,null,null,"",0,0]
[null,null,null,null,null,null,null,null,null,"",0,0]
[null,null,null,null,null,null,null,null,null,"",0,0]
[null,null,null,null,null,null,null,null,null,"",0,0]
[null,null,null,null,null,null,null,null,null,"",0,0]
[null,null,null,null,null,null,null,null,null,"",0,0]
[null,null,null,null,null,null,null,null,null,"",0,0]
[null,null,null,null,null,null,null,null,null,"",0,0]
[null,null,null,null,null,null,null,null,null,"",0,0]
[null,null,null,null,null,null,null,null,null,"",0,0]
[null,null,null,null,null,null,null,null,null,"",0,0]
[null,null,null,null,null,null,null,null,null,"",0,0]
[null,null,null,null,null,null,null,null,null,"",0,0]
[null,null,null,null,null,null,null,null,null,"",0,0]
[null,null,null,null,null,null,null,null,null,"",0,0]
[null,null,null,null,null,null,null,null,null,"",0,0]
[null,null,null,null,null,null,null,null,null,"",0,0]
[null,null,null,null,null,null,null,null,null,"",0,0]
[null,null,null,null,null,null,null,null,null,"",0,0]
[null,null,null,null,null,null,null,null,null,"",0,0]
[null,null,null,null,null,null,null,null,null,"",0,0]
[null,null,null,null,null,null,null,null,null,"",0,0]
[null,null,null,null,null,null,null,null,null,"",0,0]
[null,null,null,null,null,null,null,null,null,"",0,0]
[null,null,null,null,null,null,null,null,null,"",0,0]
[null,null,null,null,null,null,null,null,null,"",0,0]
[null,null,null,null,null,null,null,null,null,"",0,0]
[null,null,null,null,null,null,null,null,null,"",0,0]
[null,null,null,null,null,null,null,null,null,"",0,0]
[null,null,null,null,null,null,null,null,null,"",0,0]
[null,null,null,null,null,null,null,null,null,"",0,0]
[null,null,null,null,null,null,null,null,null,"",0,0]
[null,null,null,null,null,null,null,null,null,"",0,0]
[null,null,null,null,null,null,null,null,null,"",0,0]
[null,null,null,null,null,null,null,null,null,"",0,0]
[null,null,null,null,null,null,null,null,null,"",0,0]
[null,null,null,null,null,null,null,null,null,"",0,0]
[null,null,null,null,null,null,null,null,null,"",0,0]
[null,null,null,null,null,null,null,null,null,"",0,0]
[null,null,null,null,null,null,null,null,null,"",0,0]
[null,null,null,null,null,null,null,null,null,"",0,0]
[null,null,null,null,null,null,null,null,null,"",0,0]
[null,null,null,null,null,null,null,null,null,"",0,0]
[null,null,null,null,null,null,null,null,null,"",0,0]
[null,null,null,null,null,null,null,null,null,"",0,0]
[null,null,null,null,null,null,null,null,null,"",0,0]
[null,null,null,null,null,null,null,null,null,"",0,0]
[null,null,null,null,null,null,null,null,null,"",0,0]
[null,null,null,null,null,null,null,null,null,"",0,0]
[null,null,null,null,null,null,null,null,null,"",0,0]
[null,null,null,null,null,null,null,null,null,"",0,0]
[null,null,null,null,null,null,null,null,null,"",0,0]
[null,null,null,null,null,null,null,null,null,{"$f":"CONCATENATE(LEFT(D1670,1),E1670)","v":""},0,0]
[null,null,null,null,null,null,null,null,null,"",{"$f":"IF(D1671=\"ENTRADA\",C1671,0)","v":0},{"$f":"IF(D1671=\"SALIDA\",C1671,0)","v":0}]
[null,null,null,null,null,null,null,null,null,"",0,0]
[null,null,null,null,null,null,null,null,null,"",0,0]
[null,null,null,null,null,null,null,null,null,"",0,0]
[null,null,null,null,null,null,null,null,null,"",0,0]
[null,null,null,null,null,null,null,null,null,"",0,0]
[null,null,null,null,null,null,null,null,null,"",0,0]
[null,null,null,null,null,null,null,null,null,"",0,0]
[null,null,null,null,null,null,null,null,null,"",0,0]
[null,null,null,null,null,null,null,null,null,"",0,0]
[null,null,null,null,null,null,null,null,null,"",0,0]
[null,null,null,null,null,null,null,null,null,"",0,0]
[null,null,null,null,null,null,null,null,null,"",0,0]
[null,null,null,null,null,null,null,null,null,"",0,0]
[null,null,null,null,null,null,null,null,null,"",0,0]
[null,null,null,null,null,null,null,null,null,"",0,0]
[null,null,null,null,null,null,null,null,null,"",0,0]
[null,null,null,null,null,null,null,null,null,"",0,0]
[null,null,null,null,null,null,null,null,null,"",0,0]
[null,null,null,null,null,null,null,null,null,"",0,0]
[null,null,null,null,null,null,null,null,null,"",0,0]
[null,null,null,null,null,null,null,null,null,"",0,0]
[null,null,null,null,null,null,null,null,null,"",0,0]
[null,null,null,null,null,null,null,null,null,"",0,0]
[null,null,null,null,null,null,null,null,null,"",0,0]
[null,null,null,null,null,null,null,null,null,"",0,0]
[null,null,null,null,null,null,null,null,null,"",0,0]
[null,null,null,null,null,null,null,null,null,"",0,0]
[null,null,null,null,null,null,null,null,null,"",0,0]
[null,null,null,null,null,null,null,null,null,"",0,0]
[null,null,null,null,null,null,null,null,null,"",0,0]
[null,null,null,null,null,null,null,null,null,"",0,0]
[null,null,null,null,null,null,null,null,null,"",0,0]
[null,null,null,null,null,null,null,null,null,"",0,0]
[null,null,null,null,null,null,null,null,null,"",0,0]
[null,null,null,null,null,null,null,null,null,"",0,0]
[null,null,null,null,null,null,null,null,null,"",0,0]
[null,null,null,null,null,null,null,null,null,"",0,0]
[null,null,null,null,null,null,null,null,null,"",0,0]
[null,null,null,null,null,null,null,null,null,"",0,0]
[null,null,null,null,null,null,null,null,null,"",0,0]
[null,null,null,null,null,null,null,null,null,"",0,0]
[null,null,null,null,null,null,null,null,null,"",0,0]
[null,null,null,null,null,null,null,null,null,"",0,0]
[null,null,null,null,null,null,null,null,null,"",0,0]
[null,null,null,null,null,null,null,null,null,"",0,0]
[null,null,null,null,null,null,null,null,null,"",0,0]
[null,null,null,null,null,null,null,null,null,"",0,0]
[null,null,null,null,null,null,null,null,null,"",0,0]
[null,null,null,null,null,null,null,null,null,"",0,0]
[null,null,null,null,null,null,null,null,null,"",0,0]
[null,null,null,null,null,null,null,null,null,"",0,0]
[null,null,null,null,null,null,null,null,null,"",0,0]
[null,null,null,null,null,null,null,null,null,"",0,0]
[null,null,null,null,null,null,null,null,null,"",0,0]
[null,null,null,null,null,null,null,null,null,"",0,0]
[null,null,null,null,null,null,null,null,null,"",0,0]
[null,null,null,null,null,null,null,null,null,"",0,0]
[null,null,null,null,null,null,null,null,null,"",0,0]
[null,null,null,null,null,null,null,null,null,"",0,0]
[null,null,null,null,null,null,null,null,null,"",0,0]
[null,null,null,null,null,null,null,null,null,"",0,0]
[null,null,null,null,null,null,null,null,null,"",0,0]
[null,null,null,null,null,null,null,null,null,{"$f":"CONCATENATE(LEFT(D1734,1),E1734)","v":""},0,0]
[null,null,null,null,null,null,null,null,null,"",{"$f":"IF(D1735=\"ENTRADA\",C1735,0)","v":0},{"$f":"IF(D1735=\"SALIDA\",C1735,0)","v":0}]
[null,null,null,null,null,null,null,null,null,"",0,0]
[null,null,null,null,null,null,null,null,null,"",0,0]
[null,null,null,null,null,null,null,null,null,"",0,0]
[null,null,null,null,null,null,null,null,null,"",0,0]
[null,null,null,null,null,null,null,null,null,"",0,0]
[null,null,null,null,null,null,null,null,null,"",0,0]
[null,null,null,null,null,null,null,null,null,"",0,0]
[null,null,null,null,null,null,null,null,null,"",0,0]
[null,null,null,null,null,null,null,null,null,"",0,0]
[null,null,null,null,null,null,null,null,null,"",0,0]
[null,null,null,null,null,null,null,null,null,"",0,0]
[null,null,null,null,null,null,null,null,null,"",0,0]
[null,null,null,null,null,null,null,null,null,"",0,0]
[null,null,null,null,null,null,null,null,null,"",0,0]
[null,null,null,null,null,null,null,null,null,"",0,0]
[null,null,null,null,null,null,null,null,null,"",0,0]
[null,null,null,null,null,null,null,null,null,"",0,0]
[null,null,null,null,null,null,null,null,null,"",0,0]
[null,null,null,null,null,null,null,null,null,"",0,0]
[null,null,null,null,null,null,null,null,null,"",0,0]
[null,null,null,null,null,null,null,null,null,"",0,0]
[null,null,null,null,null,null,null,null,null,"",0,0]
[null,null,null,null,null,null,null,null,null,"",0,0]
[null,null,null,null,null,null,null,null,null,"",0,0]
[null,null,null,null,null,null,null,null,null,"",0,0]
[null,null,null,null,null,null,null,null,null,"",0,0]
[null,null,null,null,null,null,null,null,null,"",0,0]
[null,null,null,null,null,null,null,null,null,"",0,0]
[null,null,null,null,null,null,null,null,null,"",0,0]
[null,null,null,null,null,null,null,null,null,"",0,0]
[null,null,null,null,null,null,null,null,null,"",0,0]
[null,null,null,null,null,null,null,null,null,"",0,0]
[null,null,null,null,null,null,null,null,null,"",0,0]
[null,null,null,null,null,null,null,null,null,"",0,0]
[null,null,null,null,null,null,null,null,null,"",0,0]
[null,null,null,null,null,null,null,null,null,"",0,0]
[null,null,null,null,null,null,null,null,null,"",0,0]
[null,null,null,null,null,null,null,null,null,"",0,0]
[null,null,null,null,null,null,null,null,null,"",0,0]
[null,null,null,null,null,null,null,null,null,"",0,0]
[null,null,null,null,null,null,null,null,null,"",0,0]
[null,null,null,null,null,null,null,null,null,"",0,0]
[null,null,null,null,null,null,null,null,null,"",0,0]
[null,null,null,null,null,null,null,null,null,"",0,0]
[null,null,null,null,null,null,null,null,null,"",0,0]
[null,null,null,null,null,null,null,null,null,"",0,0]
[null,null,null,null,null,null,null,null,null,"",0,0]
[null,null,null,null,null,null,null,null,null,"",0,0]
[null,null,null,null,null,null,null,null,null,"",0,0]
[null,null,null,null,null,null,null,null,null,"",0,0]
[null,null,null,null,null,null,null,null,null,"",0,0]
[null,null,null,null,null,null,null,null,null,"",0,0]
[null,null,null,null,null,null,null,null,null,"",0,0]
[null,null,null,null,null,null,null,null,null,"",0,0]
[null,null,null,null,null,null,null,null,null,"",0,0]
[null,null,null,null,null,null,null,null,null,"",0,0]
[null,null,null,null,null,null,null,null,null,"",0,0]
[null,null,null,null,null,null,null,null,null,"",0,0]
[null,null,null,null,null,null,null,null,null,"",0,0]
[null,null,null,null,null,null,null,null,null,"",0,0]
[null,null,null,null,null,null,null,null,null,"",0,0]
[null,null,null,null,null,null,null,null,null,"",0,0]
[null,null,null,null,null,null,null,null,null,{"$f":"CONCATENATE(LEFT(D1798,1),E1798)","v":""},0,0]
[null,null,null,null,null,null,null,null,null,"",{"$f":"IF(D1799=\"ENTRADA\",C1799,0)","v":0},{"$f":"IF(D1799=\"SALIDA\",C1799,0)","v":0}]
[null,null,null,null,null,null,null,null,null,"",0,0]
[null,null,null,null,null,null,null,null,null,"",0,0]
[null,null,null,null,null,null,null,null,null,"",0,0]
[null,null,null,null,null,null,null,null,null,"",0,0]
[null,null,null,null,null,null,null,null,null,"",0,0]
[null,null,null,null,null,null,null,null,null,"",0,0]
[null,null,null,null,null,null,null,null,null,"",0,0]
[null,null,null,null,null,null,null,null,null,"",0,0]
[null,null,null,null,null,null,null,null,null,"",0,0]
[null,null,null,null,null,null,null,null,null,"",0,0]
[null,null,null,null,null,null,null,null,null,"",0,0]
[null,null,null,null,null,null,null,null,null,"",0,0]
[null,null,null,null,null,null,null,null,null,"",0,0]
[null,null,null,null,null,null,null,null,null,"",0,0]
[null,null,null,null,null,null,null,null,null,"",0,0]
[null,null,null,null,null,null,null,null,null,"",0,0]
[null,null,null,null,null,null,null,null,null,"",0,0]
[null,null,null,null,null,null,null,null,null,"",0,0]
[null,null,null,null,null,null,null,null,null,"",0,0]
[null,null,null,null,null,null,null,null,null,"",0,0]
[null,null,null,null,null,null,null,null,null,"",0,0]
[null,null,null,null,null,null,null,null,null,"",0,0]
[null,null,null,null,null,null,null,null,null,"",0,0]
[null,null,null,null,null,null,null,null,null,"",0,0]
[null,null,null,null,null,null,null,null,null,"",0,0]
[null,null,null,null,null,null,null,null,null,"",0,0]
[null,null,null,null,null,null,null,null,null,"",0,0]
[null,null,null,null,null,null,null,null,null,"",0,0]
[null,null,null,null,null,null,null,null,null,"",0,0]
[null,null,null,null,null,null,null,null,null,"",0,0]
[null,null,null,null,null,null,null,null,null,"",0,0]
[null,null,null,null,null,null,null,null,null,"",0,0]
[null,null,null,null,null,null,null,null,null,"",0,0]
[null,null,null,null,null,null,null,null,null,"",0,0]
[null,null,null,null,null,null,null,null,null,"",0,0]
[null,null,null,null,null,null,null,null,null,"",0,0]
[null,null,null,null,null,null,null,null,null,"",0,0]
[null,null,null,null,null,null,null,null,null,"",0,0]
[null,null,null,null,null,null,null,null,null,"",0,0]
[null,null,null,null,null,null,null,null,null,"",0,0]
[null,null,null,null,null,null,null,null,null,"",0,0]
[null,null,null,null,null,null,null,null,null,"",0,0]
[null,null,null,null,null,null,null,null,null,"",0,0]
[null,null,null,null,null,null,null,null,null,"",0,0]
[null,null,null,null,null,null,null,null,null,"",0,0]
[null,null,null,null,null,null,null,null,null,"",0,0]
[null,null,null,null,null,null,null,null,null,"",0,0]
[null,null,null,null,null,null,null,null,null,"",0,0]
[null,null,null,null,null,null,null,null,null,"",0,0]
[null,null,null,null,null,null,null,null,null,"",0,0]
[null,null,null,null,null,null,null,null,null,"",0,0]
[null,null,null,null,null,null,null,null,null,"",0,0]
[null,null,null,null,null,null,null,null,null,"",0,0]
[null,null,null,null,null,null,null,null,null,"",0,0]
[null,null,null,null,null,null,null,null,null,"",0,0]
[null,null,null,null,null,null,null,null,null,"",0,0]
[null,null,null,null,null,null,null,null,null,"",0,0]
[null,null,null,null,null,null,null,null,null,"",0,0]
[null,null,null,null,null,null,null,null,null,"",0,0]
[null,null,null,null,null,null,null,null,null,"",0,0]
[null,null,null,null,null,null,null,null,null,"",0,0]
[null,null,null,null,null,null,null,null,null,"",0,0]
[null,null,null,null,null,null,null,null,null,{"$f":"CONCATENATE(LEFT(D1862,1),E1862)","v":""},0,0]
[null,null,null,null,null,null,null,null,null,"",{"$f":"IF(D1863=\"ENTRADA\",C1863,0)","v":0},{"$f":"IF(D1863=\"SALIDA\",C1863,0)","v":0}]
[null,null,null,null,null,null,null,null,null,"",0,0]
[null,null,null,null,null,null,null,null,null,"",0,0]
[null,null,null,null,null,null,null,null,null,"",0,0]
[null,null,null,null,null,null,null,null,null,"",0,0]
[null,null,null,null,null,null,null,null,null,"",0,0]
[null,null,null,null,null,null,null,null,null,"",0,0]
[null,null,null,null,null,null,null,null,null,"",0,0]
[null,null,null,null,null,null,null,null,null,"",0,0]
[null,null,null,null,null,null,null,null,null,"",0,0]
[null,null,null,null,null,null,null,null,null,"",0,0]
[null,null,null,null,null,null,null,null,null,"",0,0]
[null,null,null,null,null,null,null,null,null,"",0,0]
[null,null,null,null,null,null,null,null,null,"",0,0]
[null,null,null,null,null,null,null,null,null,"",0,0]
[null,null,null,null,null,null,null,null,null,"",0,0]
[null,null,null,null,null,null,null,null,null,"",0,0]
[null,null,null,null,null,null,null,null,null,"",0,0]
[null,null,null,null,null,null,null,null,null,"",0,0]
[null,null,null,null,null,null,null,null,null,"",0,0]
[null,null,null,null,null,null,null,null,null,"",0,0]
[null,null,null,null,null,null,null,null,null,"",0,0]
[null,null,null,null,null,null,null,null,null,"",0,0]
[null,null,null,null,null,null,null,null,null,"",0,0]
[null,null,null,null,null,null,null,null,null,"",0,0]
[null,null,null,null,null,null,null,null,null,"",0,0]
[null,null,null,null,null,null,null,null,null,"",0,0]
[null,null,null,null,null,null,null,null,null,"",0,0]
[null,null,null,null,null,null,null,null,null,"",0,0]
[null,null,null,null,null,null,null,null,null,"",0,0]
[null,null,null,null,null,null,null,null,null,"",0,0]
[null,null,null,null,null,null,null,null,null,"",0,0]
[null,null,null,null,null,null,null,null,null,"",0,0]
[null,null,null,null,null,null,null,null,null,"",0,0]
[null,null,null,null,null,null,null,null,null,"",0,0]
[null,null,null,null,null,null,null,null,null,"",0,0]
[null,null,null,null,null,null,null,null,null,"",0,0]
[null,null,null,null,null,null,null,null,null,"",0,0]
[null,null,null,null,null,null,null,null,null,"",0,0]
[null,null,null,null,null,null,null,null,null,"",0,0]
[null,null,null,null,null,null,null,null,null,"",0,0]
[null,null,null,null,null,null,null,null,null,"",0,0]
[null,null,null,null,null,null,null,null,null,"",0,0]
[null,null,null,null,null,null,null,null,null,"",0,0]
[null,null,null,null,null,null,null,null,null,"",0,0]
[null,null,null,null,null,null,null,null,null,"",0,0]
[null,null,null,null,null,null,null,null,null,"",0,0]
[null,null,null,null,null,null,null,null,null,"",0,0]
[null,null,null,null,null,null,null,null,null,"",0,0]
[null,null,null,null,null,null,null,null,null,"",0,0]
[null,null,null,null,null,null,null,null,null,"",0,0]
[null,null,null,null,null,null,null,null,null,"",0,0]
[null,null,null,null,null,null,null,null,null,"",0,0]
[null,null,null,null,null,null,null,null,null,"",0,0]
[null,null,null,null,null,null,null,null,null,"",0,0]
[null,null,null,null,null,null,null,null,null,"",0,0]
[null,null,null,null,null,null,null,null,null,"",0,0]
[null,null,null,null,null,null,null,null,null,"",0,0]
[null,null,null,null,null,null,null,null,null,"",0,0]
[null,null,null,null,null,null,null,null,null,"",0,0]
[null,null,null,null,null,null,null,null,null,"",0,0]
[null,null,null,null,null,null,null,null,null,"",0,0]
[null,null,null,null,null,null,null,null,null,"",0,0]
[null,null,null,null,null,null,null,null,null,{"$f":"CONCATENATE(LEFT(D1926,1),E1926)","v":""},0,0]
[null,null,null,null,null,null,null,null,null,"",{"$f":"IF(D1927=\"ENTRADA\",C1927,0)","v":0},{"$f":"IF(D1927=\"SALIDA\",C1927,0)","v":0}]
[null,null,null,null,null,null,null,null,null,"",0,0]
[null,null,null,null,null,null,null,null,null,"",0,0]
[null,null,null,null,null,null,null,null,null,"",0,0]
[null,null,null,null,null,null,null,null,null,"",0,0]
[null,null,null,null,null,null,null,null,null,"",0,0]
[null,null,null,null,null,null,null,null,null,"",0,0]
[null,null,null,null,null,null,null,null,null,"",0,0]
[null,null,null,null,null,null,null,null,null,"",0,0]
[null,null,null,null,null,null,null,null,null,"",0,0]
[null,null,null,null,null,null,null,null,null,"",0,0]
[null,null,null,null,null,null,null,null,null,"",0,0]
[null,null,null,null,null,null,null,null,null,"",0,0]
[null,null,null,null,null,null,null,null,null,"",0,0]
[null,null,null,null,null,null,null,null,null,"",0,0]
[null,null,null,null,null,null,null,null,null,"",0,0]
[null,null,null,null,null,null,null,null,null,"",0,0]
[null,null,null,null,null,null,null,null,null,"",0,0]
[null,null,null,null,null,null,null,null,null,"",0,0]
[null,null,null,null,null,null,null,null,null,"",0,0]
[null,null,null,null,null,null,null,null,null,"",0,0]
[null,null,null,null,null,null,null,null,null,"",0,0]
[null,null,null,null,null,null,null,null,null,"",0,0]
[null,null,null,null,null,null,null,null,null,"",0,0]
[null,null,null,null,null,null,null,null,null,"",0,0]
[null,null,null,null,null,null,null,null,null,"",0,0]
[null,null,null,null,null,null,null,null,null,"",0,0]
[null,null,null,null,null,null,null,null,null,"",0,0]
[null,null,null,null,null,null,null,null,null,"",0,0]
[null,null,null,null,null,null,null,null,null,"",0,0]
[null,null,null,null,null,null,null,null,null,"",0,0]
[null,null,null,null,null,null,null,null,null,"",0,0]
[null,null,null,null,null,null,null,null,null,"",0,0]
[null,null,null,null,null,null,null,null,null,"",0,0]
[null,null,null,null,null,null,null,null,null,"",0,0]
[null,null,null,null,null,null,null,null,null,"",0,0]
[null,null,null,null,null,null,null,null,null,"",0,0]
[null,null,null,null,null,null,null,null,null,"",0,0]
[null,null,null,null,null,null,null,null,null,"",0,0]
[null,null,null,null,null,null,null,null,null,"",0,0]
[null,null,null,null,null,null,null,null,null,"",0,0]
[null,null,null,null,null,null,null,null,null,"",0,0]
[null,null,null,null,null,null,null,null,null,"",0,0]
[null,null,null,null,null,null,null,null,null,"",0,0]
[null,null,null,null,null,null,null,null,null,"",0,0]
[null,null,null,null,null,null,null,null,null,"",0,0]
[null,null,null,null,null,null,null,null,null,"",0,0]
[null,null,null,null,null,null,null,null,null,"",0,0]
[null,null,null,null,null,null,null,null,null,"",0,0]
[null,null,null,null,null,null,null,null,null,"",0,0]
[null,null,null,null,null,null,null,null,null,"",0,0]
[null,null,null,null,null,null,null,null,null,"",0,0]
[null,null,null,null,null,null,null,null,null,"",0,0]
[null,null,null,null,null,null,null,null,null,"",0,0]
[null,null,null,null,null,null,null,null,null,"",0,0]
[null,null,null,null,null,null,null,null,null,"",0,0]
[null,null,null,null,null,null,null,null,null,"",0,0]
[null,null,null,null,null,null,null,null,null,"",0,0]
[null,null,null,null,null,null,null,null,null,"",0,0]
[null,null,null,null,null,null,null,null,null,"",0,0]
[null,null,null,null,null,null,null,null,null,"",0,0]
[null,null,null,null,null,null,null,null,null,"",0,0]
[null,null,null,null,null,null,null,null,null,"",0,0]
[null,null,null,null,null,null,null,null,null,{"$f":"CONCATENATE(LEFT(D1990,1),E1990)","v":""},0,0]
[null,null,null,null,null,null,null,null,null,"",{"$f":"IF(D1991=\"ENTRADA\",C1991,0)","v":0},{"$f":"IF(D1991=\"SALIDA\",C1991,0)","v":0}]
[null,null,null,null,null,null,null,null,null,"",0,0]
[null,null,null,null,null,null,null,null,null,"",0,0]
[null,null,null,null,null,null,null,null,null,"",0,0]
[null,null,null,null,null,null,null,null,null,"",0,0]
[null,null,null,null,null,null,null,null,null,"",0,0]
[null,null,null,null,null,null,null,null,null,"",0,0]
[null,null,null,null,null,null,null,null,null,"",0,0]
[null,null,null,null,null,null,null,null,null,"",0,0]
[null,null,null,null,null,null,null,null,null,"",0,0]
[null,null,null,null,null,null,null,null,null,"",0,0]
[null,null,null,null,null,null,null,null,null,"",0,0]
[null,null,null,null,null,null,null,null,null,"",0,0]
[null,null,null,null,null,null,null,null,null,"",0,0]
[null,null,null,null,null,null,null,null,null,"",0,0]
[null,null,null,null,null,null,null,null,null,"",0,0]
[null,null,null,null,null,null,null,null,null,"",0,0]
[null,null,null,null,null,null,null,null,null,"",0,0]
[null,null,null,null,null,null,null,null,null,"",0,0]
[null,null,null,null,null,null,null,null,null,"",0,0]
[null,null,null,null,null,null,null,null,null,"",0,0]
[null,null,null,null,null,null,null,null,null,"",0,0]
[null,null,null,null,null,null,null,null,null,"",0,0]
[null,null,null,null,null,null,null,null,null,"",0,0]
[null,null,null,null,null,null,null,null,null,"",0,0]
[null,null,null,null,null,null,null,null,null,"",0,0]
[null,null,null,null,null,null,null,null,null,"",0,0]
[null,null,null,null,null,null,null,null,null,"",0,0]
[null,null,null,null,null,null,null,null,null,"",0,0]
[null,null,null,null,null,null,null,null,null,"",0,0]
[null,null,null,null,null,null,null,null,null,"",0,0]
[null,null,null,null,null,null,null,null,null,"",0,0]
[null,null,null,null,null,null,null,null,null,"",0,0]
[null,null,null,null,null,null,null,null,null,"",0,0]
[null,null,null,null,null,null,null,null,null,"",0,0]
[null,null,null,null,null,null,null,null,null,"",0,0]
[null,null,null,null,null,null,null,null,null,"",0,0]
[null,null,null,null,null,null,null,null,null,"",0,0]
[null,null,null,null,null,null,null,null,null,"",0,0]
[null,null,null,null,null,null,null,null,null,"",0,0]
[null,null,null,null,null,null,null,null,null,"",0,0]
[null,null,null,null,null,null,null,null,null,"",0,0]
[null,null,null,null,null,null,null,null,null,"",0,0]
[null,null,null,null,null,null,null,null,null,"",0,0]
[null,null,null,null,null,null,null,null,null,"",0,0]
[null,null,null,null,null,null,null,null,null,"",0,0]
[null,null,null,null,null,null,null,null,null,"",0,0]
[null,null,null,null,null,null,null,null,null,"",0,0]
[null,null,null,null,null,null,null,null,null,"",0,0]
[null,null,null,null,null,null,null,null,null,"",0,0]
[null,null,null,null,null,null,null,null,null,"",0,0]
[null,null,null,null,null,null,null,null,null,"",0,0]
[null,null,null,null,null,null,null,null,null,"",0,0]
[null,null,null,null,null,null,null,null,null,"",0,0]
[null,null,null,null,null,null,null,null,null,"",0,0]
[null,null,null,null,null,null,null,null,null,"",0,0]
[null,null,null,null,null,null,null,null,null,"",0,0]
[null,null,null,null,null,null,null,null,null,"",0,0]
[null,null,null,null,null,null,null,null,null,"",0,0]
[null,null,null,null,null,null,null,null,null,"",0,0]
[null,null,null,null,null,null,null,null,null,"",0,0]
[null,null,null,null,null,null,null,null,null,"",0,0]
[null,null,null,null,null,null,null,null,null,"",0,0]
[null,null,null,null,null,null,null,null,null,{"$f":"CONCATENATE(LEFT(D2054,1),E2054)","v":""},0,0]
[null,null,null,null,null,null,null,null,null,"",{"$f":"IF(D2055=\"ENTRADA\",C2055,0)","v":0},{"$f":"IF(D2055=\"SALIDA\",C2055,0)","v":0}]
[null,null,null,null,null,null,null,null,null,"",0,0]
[null,null,null,null,null,null,null,null,null,"",0,0]
[null,null,null,null,null,null,null,null,null,"",0,0]
[null,null,null,null,null,null,null,null,null,"",0,0]
[null,null,null,null,null,null,null,null,null,"",0,0]
[null,null,null,null,null,null,null,null,null,"",0,0]
[null,null,null,null,null,null,null,null,null,"",0,0]
[null,null,null,null,null,null,null,null,null,"",0,0]
[null,null,null,null,null,null,null,null,null,"",0,0]
[null,null,null,null,null,null,null,null,null,"",0,0]
[null,null,null,null,null,null,null,null,null,"",0,0]
[null,null,null,null,null,null,null,null,null,"",0,0]
[null,null,null,null,null,null,null,null,null,"",0,0]
[null,null,null,null,null,null,null,null,null,"",0,0]
[null,null,null,null,null,null,null,null,null,"",0,0]
[null,null,null,null,null,null,null,null,null,"",0,0]
[null,null,null,null,null,null,null,null,null,"",0,0]
[null,null,null,null,null,null,null,null,null,"",0,0]
[null,null,null,null,null,null,null,null,null,"",0,0]
[null,null,null,null,null,null,null,null,null,"",0,0]
[null,null,null,null,null,null,null,null,null,"",0,0]
[null,null,null,null,null,null,null,null,null,"",0,0]
[null,null,null,null,null,null,null,null,null,"",0,0]
[null,null,null,null,null,null,null,null,null,"",0,0]
[null,null,null,null,null,null,null,null,null,"",0,0]
[null,null,null,null,null,null,null,null,null,"",0,0]
[null,null,null,null,null,null,null,null,null,"",0,0]
[null,null,null,null,null,null,null,null,null,"",0,0]
[null,null,null,null,null,null,null,null,null,"",0,0]
[null,null,null,null,null,null,null,null,null,"",0,0]
[null,null,null,null,null,null,null,null,null,"",0,0]
[null,null,null,null,null,null,null,null,null,"",0,0]
[null,null,null,null,null,null,null,null,null,"",0,0]
[null,null,null,null,null,null,null,null,null,"",0,0]
[null,null,null,null,null,null,null,null,null,"",0,0]
[null,null,null,null,null,null,null,null,null,"",0,0]
[null,null,null,null,null,null,null,null,null,"",0,0]
[null,null,null,null,null,null,null,null,null,"",0,0]
[null,null,null,null,null,null,null,null,null,"",0,0]
[null,null,null,null,null,null,null,null,null,"",0,0]
[null,null,null,null,null,null,null,null,null,"",0,0]
[null,null,null,null,null,null,null,null,null,"",0,0]
[null,null,null,null,null,null,null,null,null,"",0,0]
[null,null,null,null,null,null,null,null,null,"",0,0]
[null,null,null,null,null,null,null,null,null,"",0,0]
[null,null,null,null,null,null,null,null,null,"",0,0]
[null,null,null,null,null,null,null,null,null,"",0,0]
[null,null,null,null,null,null,null,null,null,"",0,0]
[null,null,null,null,null,null,null,null,null,"",0,0]
[null,null,null,null,null,null,null,null,null,"",0,0]
[null,null,null,null,null,null,null,null,null,"",0,0]
[null,null,null,null,null,null,null,null,null,"",0,0]
[null,null,null,null,null,null,null,null,null,"",0,0]
[null,null,null,null,null,null,null,null,null,"",0,0]
[null,null,null,null,null,null,null,null,null,"",0,0]
[null,null,null,null,null,null,null,null,null,"",0,0]
[null,null,null,null,null,null,null,null,null,"",0,0]
[null,null,null,null,null,null,null,null,null,"",0,0]
[null,null,null,null,null,null,null,null,null,"",0,0]
[null,null,null,null,null,null,null,null,null,"",0,0]
[null,null,null,null,null,null,null,null,null,"",0,0]
[null,null,null,null,null,null,null,null,null,"",0,0]
[null,null,null,null,null,null,null,null,null,{"$f":"CONCATENATE(LEFT(D2118,1),E2118)","v":""},0,0]
[null,null,null,null,null,null,null,null,null,"",{"$f":"IF(D2119=\"ENTRADA\",C2119,0)","v":0},{"$f":"IF(D2119=\"SALIDA\",C2119,0)","v":0}]
[null,null,null,null,null,null,null,null,null,"",0,0]
[null,null,null,null,null,null,null,null,null,"",0,0]
[null,null,null,null,null,null,null,null,null,"",0,0]
[null,null,null,null,null,null,null,null,null,"",0,0]
[null,null,null,null,null,null,null,null,null,"",0,0]
[null,null,null,null,null,null,null,null,null,"",0,0]
[null,null,null,null,null,null,null,null,null,"",0,0]
[null,null,null,null,null,null,null,null,null,"",0,0]
[null,null,null,null,null,null,null,null,null,"",0,0]
[null,null,null,null,null,null,null,null,null,"",0,0]
[null,null,null,null,null,null,null,null,null,"",0,0]
[null,null,null,null,null,null,null,null,null,"",0,0]
[null,null,null,null,null,null,null,null,null,"",0,0]
[null,null,null,null,null,null,null,null,null,"",0,0]
[null,null,null,null,null,null,null,null,null,"",0,0]
[null,null,null,null,null,null,null,null,null,"",0,0]
[null,null,null,null,null,null,null,null,null,"",0,0]
[null,null,null,null,null,null,null,null,null,"",0,0]
[null,null,null,null,null,null,null,null,null,"",0,0]
[null,null,null,null,null,null,null,null,null,"",0,0]
[null,null,null,null,null,null,null,null,null,"",0,0]
[null,null,null,null,null,null,null,null,null,"",0,0]
[null,null,null,null,null,null,null,null,null,"",0,0]
[null,null,null,null,null,null,null,null,null,"",0,0]
[null,null,null,null,null,null,null,null,null,"",0,0]
[null,null,null,null,null,null,null,null,null,"",0,0]
[null,null,null,null,null,null,null,null,null,"",0,0]
[null,null,null,null,null,null,null,null,null,"",0,0]
[null,null,null,null,null,null,null,null,null,"",0,0]
[null,null,null,null,null,null,null,null,null,"",0,0]
[null,null,null,null,null,null,null,null,null,"",0,0]
[null,null,null,null,null,null,null,null,null,"",0,0]
[null,null,null,null,null,null,null,null,null,"",0,0]
[null,null,null,null,null,null,null,null,null,"",0,0]
[null,null,null,null,null,null,null,null,null,"",0,0]
[null,null,null,null,null,null,null,null,null,"",0,0]
[null,null,null,null,null,null,null,null,null,"",0,0]
[null,null,null,null,null,null,null,null,null,"",0,0]
[null,null,null,null,null,null,null,null,null,"",0,0]
[null,null,null,null,null,null,null,null,null,"",0,0]
[null,null,null,null,null,null,null,null,null,"",0,0]
[null,null,null,null,null,null,null,null,null,"",0,0]
[null,null,null,null,null,null,null,null,null,"",0,0]
[null,null,null,null,null,null,null,null,null,"",0,0]
[null,null,null,null,null,null,null,null,null,"",0,0]
[null,null,null,null,null,null,null,null,null,"",0,0]
[null,null,null,null,null,null,null,null,null,"",0,0]
[null,null,null,null,null,null,null,null,null,"",0,0]
[null,null,null,null,null,null,null,null,null,"",0,0]
[null,null,null,null,null,null,null,null,null,"",0,0]
[null,null,null,null,null,null,null,null,null,"",0,0]
[null,null,null,null,null,null,null,null,null,"",0,0]
[null,null,null,null,null,null,null,null,null,"",0,0]
[null,null,null,null,null,null,null,null,null,"",0,0]
[null,null,null,null,null,null,null,null,null,"",0,0]
[null,null,null,null,null,null,null,null,null,"",0,0]
[null,null,null,null,null,null,null,null,null,"",0,0]
[null,null,null,null,null,null,null,null,null,"",0,0]
[null,null,null,null,null,null,null,null,null,"",0,0]
[null,null,null,null,null,null,null,null,null,"",0,0]
[null,null,null,null,null,null,null,null,null,"",0,0]
[null,null,null,null,null,null,null,null,null,"",0,0]
[null,null,null,null,null,null,null,null,null,{"$f":"CONCATENATE(LEFT(D2182,1),E2182)","v":""},0,0]
[null,null,null,null,null,null,null,null,null,"",{"$f":"IF(D2183=\"ENTRADA\",C2183,0)","v":0},{"$f":"IF(D2183=\"SALIDA\",C2183,0)","v":0}]
[null,null,null,null,null,null,null,null,null,"",0,0]
[null,null,null,null,null,null,null,null,null,"",0,0]
[null,null,null,null,null,null,null,null,null,"",0,0]
[null,null,null,null,null,null,null,null,null,"",0,0]
[null,null,null,null,null,null,null,null,null,"",0,0]
[null,null,null,null,null,null,null,null,null,"",0,0]
[null,null,null,null,null,null,null,null,null,"",0,0]
[null,null,null,null,null,null,null,null,null,"",0,0]
[null,null,null,null,null,null,null,null,null,"",0,0]
[null,null,null,null,null,null,null,null,null,"",0,0]
[null,null,null,null,null,null,null,null,null,"",0,0]
[null,null,null,null,null,null,null,null,null,"",0,0]
[null,null,null,null,null,null,null,null,null,"",0,0]
[null,null,null,null,null,null,null,null,null,"",0,0]
[null,null,null,null,null,null,null,null,null,"",0,0]
[null,null,null,null,null,null,null,null,null,"",0,0]
[null,null,null,null,null,null,null,null,null,"",0,0]
[null,null,null,null,null,null,null,null,null,"",0,0]
[null,null,null,null,null,null,null,null,null,"",0,0]
[null,null,null,null,null,null,null,null,null,"",0,0]
[null,null,null,null,null,null,null,null,null,"",0,0]
[null,null,null,null,null,null,null,null,null,"",0,0]
[null,null,null,null,null,null,null,null,null,"",0,0]
[null,null,null,null,null,null,null,null,null,"",0,0]
[null,null,null,null,null,null,null,null,null,"",0,0]
[null,null,null,null,null,null,null,null,null,"",0,0]
[null,null,null,null,null,null,null,null,null,"",0,0]
[null,null,null,null,null,null,null,null,null,"",0,0]
[null,null,null,null,null,null,null,null,null,"",0,0]
[null,null,null,null,null,null,null,null,null,"",0,0]
[null,null,null,null,null,null,null,null,null,"",0,0]
[null,null,null,null,null,null,null,null,null,"",0,0]
[null,null,null,null,null,null,null,null,null,"",0,0]
[null,null,null,null,null,null,null,null,null,"",0,0]
[null,null,null,null,null,null,null,null,null,"",0,0]
[null,null,null,null,null,null,null,null,null,"",0,0]
[null,null,null,null,null,null,null,null,null,"",0,0]
[null,null,null,null,null,null,null,null,null,"",0,0]
[null,null,null,null,null,null,null,null,null,"",0,0]
[null,null,null,null,null,null,null,null,null,"",0,0]
[null,null,null,null,null,null,null,null,null,"",0,0]
[null,null,null,null,null,null,null,null,null,"",0,0]
[null,null,null,null,null,null,null,null,null,"",0,0]
[null,null,null,null,null,null,null,null,null,"",0,0]
[null,null,null,null,null,null,null,null,null,"",0,0]
[null,null,null,null,null,null,null,null,null,"",0,0]
[null,null,null,null,null,null,null,null,null,"",0,0]
[null,null,null,null,null,null,null,null,null,"",0,0]
[null,null,null,null,null,null,null,null,null,"",0,0]
[null,null,null,null,null,null,null,null,null,"",0,0]
[null,null,null,null,null,null,null,null,null,"",0,0]
[null,null,null,null,null,null,null,null,null,"",0,0]
[null,null,null,null,null,null,null,null,null,"",0,0]
[null,null,null,null,null,null,null,null,null,"",0,0]
[null,null,null,null,null,null,null,null,null,"",0,0]
[null,null,null,null,null,null,null,null,null,"",0,0]
[null,null,null,null,null,null,null,null,null,"",0,0]
[null,null,null,null,null,null,null,null,null,"",0,0]
[null,null,null,null,null,null,null,null,null,"",0,0]
[null,null,null,null,null,null,null,null,null,"",0,0]
[null,null,null,null,null,null,null,null,null,"",0,0]
[null,null,null,null,null,null,null,null,null,"",0,0]
[null,null,null,null,null,null,null,null,null,{"$f":"CONCATENATE(LEFT(D2246,1),E2246)","v":""},0,0]
[null,null,null,null,null,null,null,null,null,"",{"$f":"IF(D2247=\"ENTRADA\",C2247,0)","v":0},{"$f":"IF(D2247=\"SALIDA\",C2247,0)","v":0}]
[null,null,null,null,null,null,null,null,null,"",0,0]
[null,null,null,null,null,null,null,null,null,"",0,0]
[null,null,null,null,null,null,null,null,null,"",0,0]
[null,null,null,null,null,null,null,null,null,"",0,0]
[null,null,null,null,null,null,null,null,null,"",0,0]
[null,null,null,null,null,null,null,null,null,"",0,0]
[null,null,null,null,null,null,null,null,null,"",0,0]
[null,null,null,null,null,null,null,null,null,"",0,0]
[null,null,null,null,null,null,null,null,null,"",0,0]
[null,null,null,null,null,null,null,null,null,"",0,0]
[null,null,null,null,null,null,null,null,null,"",0,0]
[null,null,null,null,null,null,null,null,null,"",0,0]
[null,null,null,null,null,null,null,null,null,"",0,0]
[null,null,null,null,null,null,null,null,null,"",0,0]
[null,null,null,null,null,null,null,null,null,"",0,0]
[null,null,null,null,null,null,null,null,null,"",0,0]
[null,null,null,null,null,null,null,null,null,"",0,0]
[null,null,null,null,null,null,null,null,null,"",0,0]
[null,null,null,null,null,null,null,null,null,"",0,0]
[null,null,null,null,null,null,null,null,null,"",0,0]
[null,null,null,null,null,null,null,null,null,"",0,0]
[null,null,null,null,null,null,null,null,null,"",0,0]
[null,null,null,null,null,null,null,null,null,"",0,0]
[null,null,null,null,null,null,null,null,null,"",0,0]
[null,null,null,null,null,null,null,null,null,"",0,0]
[null,null,null,null,null,null,null,null,null,"",0,0]
[null,null,null,null,null,null,null,null,null,"",0,0]
[null,null,null,null,null,null,null,null,null,"",0,0]
[null,null,null,null,null,null,null,null,null,"",0,0]
[null,null,null,null,null,null,null,null,null,"",0,0]
[null,null,null,null,null,null,null,null,null,"",0,0]
[null,null,null,null,null,null,null,null,null,"",0,0]
[null,null,null,null,null,null,null,null,null,"",0,0]
[null,null,null,null,null,null,null,null,null,"",0,0]
[null,null,null,null,null,null,null,null,null,"",0,0]
[null,null,null,null,null,null,null,null,null,"",0,0]
[null,null,null,null,null,null,null,null,null,"",0,0]
[null,null,null,null,null,null,null,null,null,"",0,0]
[null,null,null,null,null,null,null,null,null,"",0,0]
[null,null,null,null,null,null,null,null,null,"",0,0]
[null,null,null,null,null,null,null,null,null,"",0,0]
[null,null,null,null,null,null,null,null,null,"",0,0]
[null,null,null,null,null,null,null,null,null,"",0,0]
[null,null,null,null,null,null,null,null,null,"",0,0]
[null,null,null,null,null,null,null,null,null,"",0,0]
[null,null,null,null,null,null,null,null,null,"",0,0]
[null,null,null,null,null,null,null,null,null,"",0,0]
[null,null,null,null,null,null,null,null,null,"",0,0]
[null,null,null,null,null,null,null,null,null,"",0,0]
[null,null,null,null,null,null,null,null,null,"",0,0]
[null,null,null,null,null,null,null,null,null,"",0,0]
[null,null,null,null,null,null,null,null,null,"",0,0]
[null,null,null,null,null,null,null,null,null,"",0,0]
[null,null,null,null,null,null,null,null,null,"",0,0]
[null,null,null,null,null,null,null,null,null,"",0,0]
[null,null,null,null,null,null,null,null,null,"",0,0]
[null,null,null,null,null,null,null,null,null,"",0,0]
[null,null,null,null,null,null,null,null,null,"",0,0]
[null,null,null,null,null,null,null,null,null,"",0,0]
[null,null,null,null,null,null,null,null,null,"",0,0]
[null,null,null,null,null,null,null,null,null,"",0,0]
[null,null,null,null,null,null,null,null,null,"",0,0]
[null,null,null,null,null,null,null,null,null,{"$f":"CONCATENATE(LEFT(D2310,1),E2310)","v":""},0,0]
[null,null,null,null,null,null,null,null,null,"",{"$f":"IF(D2311=\"ENTRADA\",C2311,0)","v":0},{"$f":"IF(D2311=\"SALIDA\",C2311,0)","v":0}]
[null,null,null,null,null,null,null,null,null,"",0,0]
[null,null,null,null,null,null,null,null,null,"",0,0]
[null,null,null,null,null,null,null,null,null,"",0,0]
[null,null,null,null,null,null,null,null,null,"",0,0]
[null,null,null,null,null,null,null,null,null,"",0,0]
[null,null,null,null,null,null,null,null,null,"",0,0]
[null,null,null,null,null,null,null,null,null,"",0,0]
[null,null,null,null,null,null,null,null,null,"",0,0]
[null,null,null,null,null,null,null,null,null,"",0,0]
[null,null,null,null,null,null,null,null,null,"",0,0]
[null,null,null,null,null,null,null,null,null,"",0,0]
[null,null,null,null,null,null,null,null,null,"",0,0]
[null,null,null,null,null,null,null,null,null,"",0,0]
[null,null,null,null,null,null,null,null,null,"",0,0]
[null,null,null,null,null,null,null,null,null,"",0,0]
[null,null,null,null,null,null,null,null,null,"",0,0]
[null,null,null,null,null,null,null,null,null,"",0,0]
[null,null,null,null,null,null,null,null,null,"",0,0]
[null,null,null,null,null,null,null,null,null,"",0,0]
[null,null,null,null,null,null,null,null,null,"",0,0]
[null,null,null,null,null,null,null,null,null,"",0,0]
[null,null,null,null,null,null,null,null,null,"",0,0]
[null,null,null,null,null,null,null,null,null,"",0,0]
[null,null,null,null,null,null,null,null,null,"",0,0]
[null,null,null,null,null,null,null,null,null,"",0,0]
[null,null,null,null,null,null,null,null,null,"",0,0]
[null,null,null,null,null,null,null,null,null,"",0,0]
[null,null,null,null,null,null,null,null,null,"",0,0]
[null,null,null,null,null,null,null,null,null,"",0,0]
[null,null,null,null,null,null,null,null,null,"",0,0]
[null,null,null,null,null,null,null,null,null,"",0,0]
[null,null,null,null,null,null,null,null,null,"",0,0]
[null,null,null,null,null,null,null,null,null,"",0,0]
[null,null,null,null,null,null,null,null,null,"",0,0]
[null,null,null,null,null,null,null,null,null,"",0,0]
[null,null,null,null,null,null,null,null,null,"",0,0]
[null,null,null,null,null,null,null,null,null,"",0,0]
[null,null,null,null,null,null,null,null,null,"",0,0]
[null,null,null,null,null,null,null,null,null,"",0,0]
[null,null,null,null,null,null,null,null,null,"",0,0]
[null,null,null,null,null,null,null,null,null,"",0,0]
[null,null,null,null,null,null,null,null,null,"",0,0]
[null,null,null,null,null,null,null,null,null,"",0,0]
[null,null,null,null,null,null,null,null,null,"",0,0]
[null,null,null,null,null,null,null,null,null,"",0,0]
[null,null,null,null,null,null,null,null,null,"",0,0]
[null,null,null,null,null,null,null,null,null,"",0,0]
[null,null,null,null,null,null,null,null,null,"",0,0]
[null,null,null,null,null,null,null,null,null,"",0,0]
[null,null,null,null,null,null,null,null,null,"",0,0]
[null,null,null,null,null,null,null,null,null,"",0,0]
[null,null,null,null,null,null,null,null,null,"",0,0]
[null,null,null,null,null,null,null,null,null,"",0,0]
[null,null,null,null,null,null,null,null,null,"",0,0]
[null,null,null,null,null,null,null,null,null,"",0,0]
[null,null,null,null,null,null,null,null,null,"",0,0]
[null,null,null,null,null,null,null,null,null,"",0,0]
[null,null,null,null,null,null,null,null,null,"",0,0]
[null,null,null,null,null,null,null,null,null,"",0,0]
[null,null,null,null,null,null,null,null,null,"",0,0]
[null,null,null,null,null,null,null,null,null,"",0,0]
[null,null,null,null,null,null,null,null,null,"",0,0]
[null,null,null,null,null,null,null,null,null,{"$f":"CONCATENATE(LEFT(D2374,1),E2374)","v":""},0,0]
[null,null,null,null,null,null,null,null,null,"",{"$f":"IF(D2375=\"ENTRADA\",C2375,0)","v":0},{"$f":"IF(D2375=\"SALIDA\",C2375,0)","v":0}]
[null,null,null,null,null,null,null,null,null,"",0,0]
[null,null,null,null,null,null,null,null,null,"",0,0]
[null,null,null,null,null,null,null,null,null,"",0,0]
[null,null,null,null,null,null,null,null,null,"",0,0]
[null,null,null,null,null,null,null,null,null,"",0,0]
[null,null,null,null,null,null,null,null,null,"",0,0]
[null,null,null,null,null,null,null,null,null,"",0,0]
[null,null,null,null,null,null,null,null,null,"",0,0]
[null,null,null,null,null,null,null,null,null,"",0,0]
[null,null,null,null,null,null,null,null,null,"",0,0]
[null,null,null,null,null,null,null,null,null,"",0,0]
[null,null,null,null,null,null,null,null,null,"",0,0]
[null,null,null,null,null,null,null,null,null,"",0,0]
[null,null,null,null,null,null,null,null,null,"",0,0]
[null,null,null,null,null,null,null,null,null,"",0,0]
[null,null,null,null,null,null,null,null,null,"",0,0]
[null,null,null,null,null,null,null,null,null,"",0,0]
[null,null,null,null,null,null,null,null,null,"",0,0]
[null,null,null,null,null,null,null,null,null,"",0,0]
[null,null,null,null,null,null,null,null,null,"",0,0]
[null,null,null,null,null,null,null,null,null,"",0,0]
[null,null,null,null,null,null,null,null,null,"",0,0]
[null,null,null,null,null,null,null,null,null,"",0,0]
[null,null,null,null,null,null,null,null,null,"",0,0]
[null,null,null,null,null,null,null,null,null,"",0,0]
[null,null,null,null,null,null,null,null,null,"",0,0]
[null,null,null,null,null,null,null,null,null,"",0,0]
[null,null,null,null,null,null,null,null,null,"",0,0]
[null,null,null,null,null,null,null,null,null,"",0,0]
[null,null,null,null,null,null,null,null,null,"",0,0]
[null,null,null,null,null,null,null,null,null,"",0,0]
[null,null,null,null,null,null,null,null,null,"",0,0]
[null,null,null,null,null,null,null,null,null,"",0,0]
[null,null,null,null,null,null,null,null,null,"",0,0]
[null,null,null,null,null,null,null,null,null,"",0,0]
[null,null,null,null,null,null,null,null,null,"",0,0]
[null,null,null,null,null,null,null,null,null,"",0,0]
[null,null,null,null,null,null,null,null,null,"",0,0]
[null,null,null,null,null,null,null,null,null,"",0,0]
[null,null,null,null,null,null,null,null,null,"",0,0]
[null,null,null,null,null,null,null,null,null,"",0,0]
[null,null,null,null,null,null,null,null,null,"",0,0]
[null,null,null,null,null,null,null,null,null,"",0,0]
[null,null,null,null,null,null,null,null,null,"",0,0]
[null,null,null,null,null,null,null,null,null,"",0,0]
[null,null,null,null,null,null,null,null,null,"",0,0]
[null,null,null,null,null,null,null,null,null,"",0,0]
[null,null,null,null,null,null,null,null,null,"",0,0]
[null,null,null,null,null,null,null,null,null,"",0,0]
[null,null,null,null,null,null,null,null,null,"",0,0]
[null,null,null,null,null,null,null,null,null,"",0,0]
[null,null,null,null,null,null,null,null,null,"",0,0]
[null,null,null,null,null,null,null,null,null,"",0,0]
[null,null,null,null,null,null,null,null,null,"",0,0]
[null,null,null,null,null,null,null,null,null,"",0,0]
[null,null,null,null,null,null,null,null,null,"",0,0]
[null,null,null,null,null,null,null,null,null,"",0,0]
[null,null,null,null,null,null,null,null,null,"",0,0]
[null,null,null,null,null,null,null,null,null,"",0,0]
[null,null,null,null,null,null,null,null,null,"",0,0]
[null,null,null,null,null,null,null,null,null,"",0,0]
[null,null,null,null,null,null,null,null,null,"",0,0]
[null,null,null,null,null,null,null,null,null,{"$f":"CONCATENATE(LEFT(D2438,1),E2438)","v":""},0,0]
[null,null,null,null,null,null,null,null,null,"",{"$f":"IF(D2439=\"ENTRADA\",C2439,0)","v":0},{"$f":"IF(D2439=\"SALIDA\",C2439,0)","v":0}]
[null,null,null,null,null,null,null,null,null,"",0,0]
[null,null,null,null,null,null,null,null,null,"",0,0]
[null,null,null,null,null,null,null,null,null,"",0,0]
[null,null,null,null,null,null,null,null,null,"",0,0]
[null,null,null,null,null,null,null,null,null,"",0,0]
[null,null,null,null,null,null,null,null,null,"",0,0]
[null,null,null,null,null,null,null,null,null,"",0,0]
[null,null,null,null,null,null,null,null,null,"",0,0]
[null,null,null,null,null,null,null,null,null,"",0,0]
[null,null,null,null,null,null,null,null,null,"",0,0]
[null,null,null,null,null,null,null,null,null,"",0,0]
[null,null,null,null,null,null,null,null,null,"",0,0]
[null,null,null,null,null,null,null,null,null,"",0,0]
[null,null,null,null,null,null,null,null,null,"",0,0]
[null,null,null,null,null,null,null,null,null,"",0,0]
[null,null,null,null,null,null,null,null,null,"",0,0]
[null,null,null,null,null,null,null,null,null,"",0,0]
[null,null,null,null,null,null,null,null,null,"",0,0]
[null,null,null,null,null,null,null,null,null,"",0,0]
[null,null,null,null,null,null,null,null,null,"",0,0]
[null,null,null,null,null,null,null,null,null,"",0,0]
[null,null,null,null,null,null,null,null,null,"",0,0]
[null,null,null,null,null,null,null,null,null,"",0,0]
[null,null,null,null,null,null,null,null,null,"",0,0]
[null,null,null,null,null,null,null,null,null,"",0,0]
[null,null,null,null,null,null,null,null,null,"",0,0]
[null,null,null,null,null,null,null,null,null,"",0,0]
[null,null,null,null,null,null,null,null,null,"",0,0]
[null,null,null,null,null,null,null,null,null,"",0,0]
[null,null,null,null,null,null,null,null,null,"",0,0]
[null,null,null,null,null,null,null,null,null,"",0,0]
[null,null,null,null,null,null,null,null,null,"",0,0]
[null,null,null,null,null,null,null,null,null,"",0,0]
[null,null,null,null,null,null,null,null,null,"",0,0]
[null,null,null,null,null,null,null,null,null,"",0,0]
[null,null,null,null,null,null,null,null,null,"",0,0]
[null,null,null,null,null,null,null,null,null,"",0,0]
[null,null,null,null,null,null,null,null,null,"",0,0]
[null,null,null,null,null,null,null,null,null,"",0,0]
[null,null,null,null,null,null,null,null,null,"",0,0]
[null,null,null,null,null,null,null,null,null,"",0,0]
[null,null,null,null,null,null,null,null,null,"",0,0]
[null,null,null,null,null,null,null,null,null,"",0,0]
[null,null,null,null,null,null,null,null,null,"",0,0]
[null,null,null,null,null,null,null,null,null,"",0,0]
[null,null,null,null,null,null,null,null,null,"",0,0]
[null,null,null,null,null,null,null,null,null,"",0,0]
[null,null,null,null,null,null,null,null,null,"",0,0]
[null,null,null,null,null,null,null,null,null,"",0,0]
[null,null,null,null,null,null,null,null,null,"",0,0]
[null,null,null,null,null,null,null,null,null,"",0,0]
[null,null,null,null,null,null,null,null,null,"",0,0]
[null,null,null,null,null,null,null,null,null,"",0,0]
[null,null,null,null,null,null,null,null,null,"",0,0]
[null,null,null,null,null,null,null,null,null,"",0,0]
[null,null,null,null,null,null,null,null,null,"",0,0]
[null,null,null,null,null,null,null,null,null,"",0,0]
[null,null,null,null,null,null,null,null,null,"",0,0]
[null,null,null,null,null,null,null,null,null,"",0,0]
[null,null,null,null,null,null,null,null,null,"",0,0]
[null,null,null,null,null,null,null,null,null,"",0,0]
[null,null,null,null,null,null,null,null,null,"",0,0]
[null,null,null,null,null,null,null,null,null,{"$f":"CONCATENATE(LEFT(D2502,1),E2502)","v":""},0,0]
[null,null,null,null,null,null,null,null,null,"",{"$f":"IF(D2503=\"ENTRADA\",C2503,0)","v":0},{"$f":"IF(D2503=\"SALIDA\",C2503,0)","v":0}]
[null,null,null,null,null,null,null,null,null,"",0,0]
[null,null,null,null,null,null,null,null,null,"",0,0]
[null,null,null,null,null,null,null,null,null,"",0,0]
[null,null,null,null,null,null,null,null,null,"",0,0]
[null,null,null,null,null,null,null,null,null,"",0,0]
[null,null,null,null,null,null,null,null,null,"",0,0]
[null,null,null,null,null,null,null,null,null,"",0,0]
[null,null,null,null,null,null,null,null,null,"",0,0]
[null,null,null,null,null,null,null,null,null,"",0,0]
[null,null,null,null,null,null,null,null,null,"",0,0]
[null,null,null,null,null,null,null,null,null,"",0,0]
[null,null,null,null,null,null,null,null,null,"",0,0]
[null,null,null,null,null,null,null,null,null,"",0,0]
[null,null,null,null,null,null,null,null,null,"",0,0]
[null,null,null,null,null,null,null,null,null,"",0,0]
[null,null,null,null,null,null,null,null,null,"",0,0]
[null,null,null,null,null,null,null,null,null,"",0,0]
[null,null,null,null,null,null,null,null,null,"",0,0]
[null,null,null,null,null,null,null,null,null,"",0,0]
[null,null,null,null,null,null,null,null,null,"",0,0]
[null,null,null,null,null,null,null,null,null,"",0,0]
[null,null,null,null,null,null,null,null,null,"",0,0]
[null,null,null,null,null,null,null,null,null,"",0,0]
[null,null,null,null,null,null,null,null,null,"",0,0]
[null,null,null,null,null,null,null,null,null,"",0,0]
[null,null,null,null,null,null,null,null,null,"",0,0]
[null,null,null,null,null,null,null,null,null,"",0,0]
[null,null,null,null,null,null,null,null,null,"",0,0]
[null,null,null,null,null,null,null,null,null,"",0,0]
[null,null,null,null,null,null,null,null,null,"",0,0]
[null,null,null,null,null,null,null,null,null,"",0,0]
[null,null,null,null,null,null,null,null,null,"",0,0]
[null,null,null,null,null,null,null,null,null,"",0,0]
[null,null,null,null,null,null,null,null,null,"",0,0]
[null,null,null,null,null,null,null,null,null,"",0,0]
[null,null,null,null,null,null,null,null,null,"",0,0]
[null,null,null,null,null,null,null,null,null,"",0,0]
[null,null,null,null,null,null,null,null,null,"",0,0]
[null,null,null,null,null,null,null,null,null,"",0,0]
[null,null,null,null,null,null,null,null,null,"",0,0]
[null,null,null,null,null,null,null,null,null,"",0,0]
[null,null,null,null,null,null,null,null,null,"",0,0]
[null,null,null,null,null,null,null,null,null,"",0,0]
[null,null,null,null,null,null,null,null,null,"",0,0]
[null,null,null,null,null,null,null,null,null,"",0,0]
[null,null,null,null,null,null,null,null,null,"",0,0]
[null,null,null,null,null,null,null,null,null,"",0,0]
[null,null,null,null,null,null,null,null,null,"",0,0]
[null,null,null,null,null,null,null,null,null,"",0,0]
[null,null,null,null,null,null,null,null,null,"",0,0]
[null,null,null,null,null,null,null,null,null,"",0,0]
[null,null,null,null,null,null,null,null,null,"",0,0]
[null,null,null,null,null,null,null,null,null,"",0,0]
[null,null,null,null,null,null,null,null,null,"",0,0]
[null,null,null,null,null,null,null,null,null,"",0,0]
[null,null,null,null,null,null,null,null,null,"",0,0]
[null,null,null,null,null,null,null,null,null,"",0,0]
[null,null,null,null,null,null,null,null,null,"",0,0]
[null,null,null,null,null,null,null,null,null,"",0,0]
[null,null,null,null,null,null,null,null,null,"",0,0]
[null,null,null,null,null,null,null,null,null,"",0,0]
[null,null,null,null,null,null,null,null,null,"",0,0]
[null,null,null,null,null,null,null,null,null,{"$f":"CONCATENATE(LEFT(D2566,1),E2566)","v":""},0,0]
[null,null,null,null,null,null,null,null,null,"",{"$f":"IF(D2567=\"ENTRADA\",C2567,0)","v":0},{"$f":"IF(D2567=\"SALIDA\",C2567,0)","v":0}]
[null,null,null,null,null,null,null,null,null,"",0,0]
[null,null,null,null,null,null,null,null,null,"",0,0]
[null,null,null,null,null,null,null,null,null,"",0,0]
[null,null,null,null,null,null,null,null,null,"",0,0]
[null,null,null,null,null,null,null,null,null,"",0,0]
[null,null,null,null,null,null,null,null,null,"",0,0]
[null,null,null,null,null,null,null,null,null,"",0,0]
[null,null,null,null,null,null,null,null,null,"",0,0]
[null,null,null,null,null,null,null,null,null,"",0,0]
[null,null,null,null,null,null,null,null,null,"",0,0]
[null,null,null,null,null,null,null,null,null,"",0,0]
[null,null,null,null,null,null,null,null,null,"",0,0]
[null,null,null,null,null,null,null,null,null,"",0,0]
[null,null,null,null,null,null,null,null,null,"",0,0]
[null,null,null,null,null,null,null,null,null,"",0,0]
[null,null,null,null,null,null,null,null,null,"",0,0]
[null,null,null,null,null,null,null,null,null,"",0,0]
[null,null,null,null,null,null,null,null,null,"",0,0]
[null,null,null,null,null,null,null,null,null,"",0,0]
[null,null,null,null,null,null,null,null,null,"",0,0]
[null,null,null,null,null,null,null,null,null,"",0,0]
[null,null,null,null,null,null,null,null,null,"",0,0]
[null,null,null,null,null,null,null,null,null,"",0,0]
[null,null,null,null,null,null,null,null,null,"",0,0]
[null,null,null,null,null,null,null,null,null,"",0,0]
[null,null,null,null,null,null,null,null,null,"",0,0]
[null,null,null,null,null,null,null,null,null,"",0,0]
[null,null,null,null,null,null,null,null,null,"",0,0]
[null,null,null,null,null,null,null,null,null,"",0,0]
[null,null,null,null,null,null,null,null,null,"",0,0]
[null,null,null,null,null,null,null,null,null,"",0,0]
[null,null,null,null,null,null,null,null,null,"",0,0]
[null,null,null,null,null,null,null,null,null,"",0,0]
[null,null,null,null,null,null,null,null,null,"",0,0]
[null,null,null,null,null,null,null,null,null,"",0,0]
[null,null,null,null,null,null,null,null,null,"",0,0]
[null,null,null,null,null,null,null,null,null,"",0,0]
[null,null,null,null,null,null,null,null,null,"",0,0]
[null,null,null,null,null,null,null,null,null,"",0,0]
[null,null,null,null,null,null,null,null,null,"",0,0]
[null,null,null,null,null,null,null,null,null,"",0,0]
[null,null,null,null,null,null,null,null,null,"",0,0]
[null,null,null,null,null,null,null,null,null,"",0,0]
[null,null,null,null,null,null,null,null,null,"",0,0]
[null,null,null,null,null,null,null,null,null,"",0,0]
[null,null,null,null,null,null,null,null,null,"",0,0]
[null,null,null,null,null,null,null,null,null,"",0,0]
[null,null,null,null,null,null,null,null,null,"",0,0]
[null,null,null,null,null,null,null,null,null,"",0,0]
[null,null,null,null,null,null,null,null,null,"",0,0]
[null,null,null,null,null,null,null,null,null,"",0,0]
[null,null,null,null,null,null,null,null,null,"",0,0]
[null,null,null,null,null,null,null,null,null,"",0,0]
[null,null,null,null,null,null,null,null,null,"",0,0]
[null,null,null,null,null,null,null,null,null,"",0,0]
[null,null,null,null,null,null,null,null,null,"",0,0]
[null,null,null,null,null,null,null,null,null,"",0,0]
[null,null,null,null,null,null,null,null,null,"",0,0]
[null,null,null,null,null,null,null,null,null,"",0,0]
[null,null,null,null,null,null,null,null,null,"",0,0]
[null,null,null,null,null,null,null,null,null,"",0,0]
[null,null,null,null,null,null,null,null,null,"",0,0]
[null,null,null,null,null,null,null,null,null,{"$f":"CONCATENATE(LEFT(D2630,1),E2630)","v":""},0,0]
[null,null,null,null,null,null,null,null,null,"",{"$f":"IF(D2631=\"ENTRADA\",C2631,0)","v":0},{"$f":"IF(D2631=\"SALIDA\",C2631,0)","v":0}]
[null,null,null,null,null,null,null,null,null,"",0,0]
[null,null,null,null,null,null,null,null,null,"",0,0]
[null,null,null,null,null,null,null,null,null,"",0,0]
[null,null,null,null,null,null,null,null,null,"",0,0]
[null,null,null,null,null,null,null,null,null,"",0,0]
[null,null,null,null,null,null,null,null,null,"",0,0]
[null,null,null,null,null,null,null,null,null,"",0,0]
[null,null,null,null,null,null,null,null,null,"",0,0]
[null,null,null,null,null,null,null,null,null,"",0,0]
[null,null,null,null,null,null,null,null,null,"",0,0]
[null,null,null,null,null,null,null,null,null,"",0,0]
[null,null,null,null,null,null,null,null,null,"",0,0]
[null,null,null,null,null,null,null,null,null,"",0,0]
[null,null,null,null,null,null,null,null,null,"",0,0]
[null,null,null,null,null,null,null,null,null,"",0,0]
[null,null,null,null,null,null,null,null,null,"",0,0]
[null,null,null,null,null,null,null,null,null,"",0,0]
[null,null,null,null,null,null,null,null,null,"",0,0]
[null,null,null,null,null,null,null,null,null,"",0,0]
[null,null,null,null,null,null,null,null,null,"",0,0]
[null,null,null,null,null,null,null,null,null,"",0,0]
[null,null,null,null,null,null,null,null,null,"",0,0]
[null,null,null,null,null,null,null,null,null,"",0,0]
[null,null,null,null,null,null,null,null,null,"",0,0]
[null,null,null,null,null,null,null,null,null,"",0,0]
[null,null,null,null,null,null,null,null,null,"",0,0]
[null,null,null,null,null,null,null,null,null,"",0,0]
[null,null,null,null,null,null,null,null,null,"",0,0]
[null,null,null,null,null,null,null,null,null,"",0,0]
[null,null,null,null,null,null,null,null,null,"",0,0]
[null,null,null,null,null,null,null,null,null,"",0,0]
[null,null,null,null,null,null,null,null,null,"",0,0]
[null,null,null,null,null,null,null,null,null,"",0,0]
[null,null,null,null,null,null,null,null,null,"",0,0]
[null,null,null,null,null,null,null,null,null,"",0,0]
[null,null,null,null,null,null,null,null,null,"",0,0]
[null,null,null,null,null,null,null,null,null,"",0,0]
[null,null,null,null,null,null,null,null,null,"",0,0]
[null,null,null,null,null,null,null,null,null,"",0,0]
[null,null,null,null,null,null,null,null,null,"",0,0]
[null,null,null,null,null,null,null,null,null,"",0,0]
[null,null,null,null,null,null,null,null,null,"",0,0]
[null,null,null,null,null,null,null,null,null,"",0,0]
[null,null,null,null,null,null,null,null,null,"",0,0]
[null,null,null,null,null,null,null,null,null,"",0,0]
[null,null,null,null,null,null,null,null,null,"",0,0]
[null,null,null,null,null,null,null,null,null,"",0,0]
[null,null,null,null,null,null,null,null,null,"",0,0]
[null,null,null,null,null,null,null,null,null,"",0,0]
[null,null,null,null,null,null,null,null,null,"",0,0]
[null,null,null,null,null,null,null,null,null,"",0,0]
[null,null,null,null,null,null,null,null,null,"",0,0]
[null,null,null,null,null,null,null,null,null,"",0,0]
[null,null,null,null,null,null,null,null,null,"",0,0]
[null,null,null,null,null,null,null,null,null,"",0,0]
[null,null,null,null,null,null,null,null,null,"",0,0]
[null,null,null,null,null,null,null,null,null,"",0,0]
[null,null,null,null,null,null,null,null,null,"",0,0]
[null,null,null,null,null,null,null,null,null,"",0,0]
[null,null,null,null,null,null,null,null,null,"",0,0]
[null,null,null,null,null,null,null,null,null,"",0,0]
[null,null,null,null,null,null,null,null,null,"",0,0]
[null,null,null,null,null,null,null,null,null,{"$f":"CONCATENATE(LEFT(D2694,1),E2694)","v":""},0,0]
[null,null,null,null,null,null,null,null,null,"",{"$f":"IF(D2695=\"ENTRADA\",C2695,0)","v":0},{"$f":"IF(D2695=\"SALIDA\",C2695,0)","v":0}]
[null,null,null,null,null,null,null,null,null,"",0,0]
[null,null,null,null,null,null,null,null,null,"",0,0]
[null,null,null,null,null,null,null,null,null,"",0,0]
[null,null,null,null,null,null,null,null,null,"",0,0]
[null,null,null,null,null,null,null,null,null,"",0,0]
[null,null,null,null,null,null,null,null,null,"",0,0]
[null,null,null,null,null,null,null,null,null,"",0,0]
[null,null,null,null,null,null,null,null,null,"",0,0]
[null,null,null,null,null,null,null,null,null,"",0,0]
[null,null,null,null,null,null,null,null,null,"",0,0]
[null,null,null,null,null,null,null,null,null,"",0,0]
[null,null,null,null,null,null,null,null,null,"",0,0]
[null,null,null,null,null,null,null,null,null,"",0,0]
[null,null,null,null,null,null,null,null,null,"",0,0]
[null,null,null,null,null,null,null,null,null,"",0,0]
[null,null,null,null,null,null,null,null,null,"",0,0]
[null,null,null,null,null,null,null,null,null,"",0,0]
[null,null,null,null,null,null,null,null,null,"",0,0]
[null,null,null,null,null,null,null,null,null,"",0,0]
[null,null,null,null,null,null,null,null,null,"",0,0]
[null,null,null,null,null,null,null,null,null,"",0,0]
[null,null,null,null,null,null,null,null,null,"",0,0]
[null,null,null,null,null,null,null,null,null,"",0,0]
[null,null,null,null,null,null,null,null,null,"",0,0]
[null,null,null,null,null,null,null,null,null,"",0,0]
[null,null,null,null,null,null,null,null,null,"",0,0]
[null,null,null,null,null,null,null,null,null,"",0,0]
[null,null,null,null,null,null,null,null,null,"",0,0]
[null,null,null,null,null,null,null,null,null,"",0,0]
[null,null,null,null,null,null,null,null,null,"",0,0]
[null,null,null,null,null,null,null,null,null,"",0,0]
[null,null,null,null,null,null,null,null,null,"",0,0]
[null,null,null,null,null,null,null,null,null,"",0,0]
[null,null,null,null,null,null,null,null,null,"",0,0]
[null,null,null,null,null,null,null,null,null,"",0,0]
[null,null,null,null,null,null,null,null,null,"",0,0]
[null,null,null,null,null,null,null,null,null,"",0,0]
[null,null,null,null,null,null,null,null,null,"",0,0]
[null,null,null,null,null,null,null,null,null,"",0,0]
[null,null,null,null,null,null,null,null,null,"",0,0]
[null,null,null,null,null,null,null,null,null,"",0,0]
[null,null,null,null,null,null,null,null,null,"",0,0]
[null,null,null,null,null,null,null,null,null,"",0,0]
[null,null,null,null,null,null,null,null,null,"",0,0]
[null,null,null,null,null,null,null,null,null,"",0,0]
[null,null,null,null,null,null,null,null,null,"",0,0]
[null,null,null,null,null,null,null,null,null,"",0,0]
[null,null,null,null,null,null,null,null,null,"",0,0]
[null,null,null,null,null,null,null,null,null,"",0,0]
[null,null,null,null,null,null,null,null,null,"",0,0]
[null,null,null,null,null,null,null,null,null,"",0,0]
[null,null,null,null,null,null,null,null,null,"",0,0]
[null,null,null,null,null,null,null,null,null,"",0,0]
[null,null,null,null,null,null,null,null,null,"",0,0]
[null,null,null,null,null,null,null,null,null,"",0,0]
[null,null,null,null,null,null,null,null,null,"",0,0]
[null,null,null,null,null,null,null,null,null,"",0,0]
[null,null,null,null,null,null,null,null,null,"",0,0]
[null,null,null,null,null,null,null,null,null,"",0,0]
[null,null,null,null,null,null,null,null,null,"",0,0]
[null,null,null,null,null,null,null,null,null,"",0,0]
[null,null,null,null,null,null,null,null,null,"",0,0]
[null,null,null,null,null,null,null,null,null,{"$f":"CONCATENATE(LEFT(D2758,1),E2758)","v":""},0,0]
[null,null,null,null,null,null,null,null,null,"",{"$f":"IF(D2759=\"ENTRADA\",C2759,0)","v":0},{"$f":"IF(D2759=\"SALIDA\",C2759,0)","v":0}]
[null,null,null,null,null,null,null,null,null,"",0,0]
[null,null,null,null,null,null,null,null,null,"",0,0]
[null,null,null,null,null,null,null,null,null,"",0,0]
[null,null,null,null,null,null,null,null,null,"",0,0]
[null,null,null,null,null,null,null,null,null,"",0,0]
[null,null,null,null,null,null,null,null,null,"",0,0]
[null,null,null,null,null,null,null,null,null,"",0,0]
[null,null,null,null,null,null,null,null,null,"",0,0]
[null,null,null,null,null,null,null,null,null,"",0,0]
[null,null,null,null,null,null,null,null,null,"",0,0]
[null,null,null,null,null,null,null,null,null,"",0,0]
[null,null,null,null,null,null,null,null,null,"",0,0]
[null,null,null,null,null,null,null,null,null,"",0,0]
[null,null,null,null,null,null,null,null,null,"",0,0]
[null,null,null,null,null,null,null,null,null,"",0,0]
[null,null,null,null,null,null,null,null,null,"",0,0]
[null,null,null,null,null,null,null,null,null,"",0,0]
[null,null,null,null,null,null,null,null,null,"",0,0]
[null,null,null,null,null,null,null,null,null,"",0,0]
[null,null,null,null,null,null,null,null,null,"",0,0]
[null,null,null,null,null,null,null,null,null,"",0,0]
[null,null,null,null,null,null,null,null,null,"",0,0]
[null,null,null,null,null,null,null,null,null,"",0,0]
[null,null,null,null,null,null,null,null,null,"",0,0]
[null,null,null,null,null,null,null,null,null,"",0,0]
[null,null,null,null,null,null,null,null,null,"",0,0]
[null,null,null,null,null,null,null,null,null,"",0,0]
[null,null,null,null,null,null,null,null,null,"",0,0]
[null,null,null,null,null,null,null,null,null,"",0,0]
[null,null,null,null,null,null,null,null,null,"",0,0]
[null,null,null,null,null,null,null,null,null,"",0,0]
[null,null,null,null,null,null,null,null,null,"",0,0]
[null,null,null,null,null,null,null,null,null,"",0,0]
[null,null,null,null,null,null,null,null,null,"",0,0]
[null,null,null,null,null,null,null,null,null,"",0,0]
[null,null,null,null,null,null,null,null,null,"",0,0]
[null,null,null,null,null,null,null,null,null,"",0,0]
[null,null,null,null,null,null,null,null,null,"",0,0]
[null,null,null,null,null,null,null,null,null,"",0,0]
[null,null,null,null,null,null,null,null,null,"",0,0]
[null,null,null,null,null,null,null,null,null,"",0,0]
[null,null,null,null,null,null,null,null,null,"",0,0]
[null,null,null,null,null,null,null,null,null,"",0,0]
[null,null,null,null,null,null,null,null,null,"",0,0]
[null,null,null,null,null,null,null,null,null,"",0,0]
[null,null,null,null,null,null,null,null,null,"",0,0]
[null,null,null,null,null,null,null,null,null,"",0,0]
[null,null,null,null,null,null,null,null,null,"",0,0]
[null,null,null,null,null,null,null,null,null,"",0,0]
[null,null,null,null,null,null,null,null,null,"",0,0]
[null,null,null,null,null,null,null,null,null,"",0,0]
[null,null,null,null,null,null,null,null,null,"",0,0]
[null,null,null,null,null,null,null,null,null,"",0,0]
[null,null,null,null,null,null,null,null,null,"",0,0]
[null,null,null,null,null,null,null,null,null,"",0,0]
[null,null,null,null,null,null,null,null,null,"",0,0]
[null,null,null,null,null,null,null,null,null,"",0,0]
[null,null,null,null,null,null,null,null,null,"",0,0]
[null,null,null,null,null,null,null,null,null,"",0,0]
[null,null,null,null,null,null,null,null,null,"",0,0]
[null,null,null,null,null,null,null,null,null,"",0,0]
[null,null,null,null,null,null,null,null,null,"",0,0]
[null,null,null,null,null,null,null,null,null,{"$f":"CONCATENATE(LEFT(D2822,1),E2822)","v":""},0,0]
[null,null,null,null,null,null,null,null,null,"",{"$f":"IF(D2823=\"ENTRADA\",C2823,0)","v":0},{"$f":"IF(D2823=\"SALIDA\",C2823,0)","v":0}]
[null,null,null,null,null,null,null,null,null,"",0,0]
[null,null,null,null,null,null,null,null,null,"",0,0]
[null,null,null,null,null,null,null,null,null,"",0,0]
[null,null,null,null,null,null,null,null,null,"",0,0]
[null,null,null,null,null,null,null,null,null,"",0,0]
[null,null,null,null,null,null,null,null,null,"",0,0]
[null,null,null,null,null,null,null,null,null,"",0,0]
[null,null,null,null,null,null,null,null,null,"",0,0]
[null,null,null,null,null,null,null,null,null,"",0,0]
[null,null,null,null,null,null,null,null,null,"",0,0]
[null,null,null,null,null,null,null,null,null,"",0,0]
[null,null,null,null,null,null,null,null,null,"",0,0]
[null,null,null,null,null,null,null,null,null,"",0,0]
[null,null,null,null,null,null,null,null,null,"",0,0]
[null,null,null,null,null,null,null,null,null,"",0,0]
[null,null,null,null,null,null,null,null,null,"",0,0]
[null,null,null,null,null,null,null,null,null,"",0,0]
[null,null,null,null,null,null,null,null,null,"",0,0]
[null,null,null,null,null,null,null,null,null,"",0,0]
[null,null,null,null,null,null,null,null,null,"",0,0]
[null,null,null,null,null,null,null,null,null,"",0,0]
[null,null,null,null,null,null,null,null,null,"",0,0]
[null,null,null,null,null,null,null,null,null,"",0,0]
[null,null,null,null,null,null,null,null,null,"",0,0]
[null,null,null,null,null,null,null,null,null,"",0,0]
[null,null,null,null,null,null,null,null,null,"",0,0]
[null,null,null,null,null,null,null,null,null,"",0,0]
[null,null,null,null,null,null,null,null,null,"",0,0]
[null,null,null,null,null,null,null,null,null,"",0,0]
[null,null,null,null,null,null,null,null,null,"",0,0]
[null,null,null,null,null,null,null,null,null,"",0,0]
[null,null,null,null,null,null,null,null,null,"",0,0]
[null,null,null,null,null,null,null,null,null,"",0,0]
[null,null,null,null,null,null,null,null,null,"",0,0]
[null,null,null,null,null,null,null,null,null,"",0,0]
[null,null,null,null,null,null,null,null,null,"",0,0]
[null,null,null,null,null,null,null,null,null,"",0,0]
[null,null,null,null,null,null,null,null,null,"",0,0]
[null,null,null,null,null,null,null,null,null,"",0,0]
[null,null,null,null,null,null,null,null,null,"",0,0]
[null,null,null,null,null,null,null,null,null,"",0,0]
[null,null,null,null,null,null,null,null,null,"",0,0]
[null,null,null,null,null,null,null,null,null,"",0,0]
[null,null,null,null,null,null,null,null,null,"",0,0]
[null,null,null,null,null,null,null,null,null,"",0,0]
[null,null,null,null,null,null,null,null,null,"",0,0]
[null,null,null,null,null,null,null,null,null,"",0,0]
[null,null,null,null,null,null,null,null,null,"",0,0]
[null,null,null,null,null,null,null,null,null,"",0,0]
[null,null,null,null,null,null,null,null,null,"",0,0]
[null,null,null,null,null,null,null,null,null,"",0,0]
[null,null,null,null,null,null,null,null,null,"",0,0]
[null,null,null,null,null,null,null,null,null,"",0,0]
[null,null,null,null,null,null,null,null,null,"",0,0]
[null,null,null,null,null,null,null,null,null,"",0,0]
[null,null,null,null,null,null,null,null,null,"",0,0]
[null,null,null,null,null,null,null,null,null,"",0,0]
[null,null,null,null,null,null,null,null,null,"",0,0]
[null,null,null,null,null,null,null,null,null,"",0,0]
[null,null,null,null,null,null,null,null,null,"",0,0]
[null,null,null,null,null,null,null,null,null,"",0,0]
[null,null,null,null,null,null,null,null,null,"",0,0]
[null,null,null,null,null,null,null,null,null,{"$f":"CONCATENATE(LEFT(D2886,1),E2886)","v":""},0,0]
[null,null,null,null,null,null,null,null,null,"",{"$f":"IF(D2887=\"ENTRADA\",C2887,0)","v":0},{"$f":"IF(D2887=\"SALIDA\",C2887,0)","v":0}]
[null,null,null,null,null,null,null,null,null,"",0,0]
[null,null,null,null,null,null,null,null,null,"",0,0]
[null,null,null,null,null,null,null,null,null,"",0,0]
[null,null,null,null,null,null,null,null,null,"",0,0]
[null,null,null,null,null,null,null,null,null,"",0,0]
[null,null,null,null,null,null,null,null,null,"",0,0]
[null,null,null,null,null,null,null,null,null,"",0,0]
[null,null,null,null,null,null,null,null,null,"",0,0]
[null,null,null,null,null,null,null,null,null,"",0,0]
[null,null,null,null,null,null,null,null,null,"",0,0]
[null,null,null,null,null,null,null,null,null,"",0,0]
[null,null,null,null,null,null,null,null,null,"",0,0]
[null,null,null,null,null,null,null,null,null,"",0,0]
[null,null,null,null,null,null,null,null,null,"",0,0]
[null,null,null,null,null,null,null,null,null,"",0,0]
[null,null,null,null,null,null,null,null,null,"",0,0]
[null,null,null,null,null,null,null,null,null,"",0,0]
[null,null,null,null,null,null,null,null,null,"",0,0]
[null,null,null,null,null,null,null,null,null,"",0,0]
[null,null,null,null,null,null,null,null,null,"",0,0]
[null,null,null,null,null,null,null,null,null,"",0,0]
[null,null,null,null,null,null,null,null,null,"",0,0]
[null,null,null,null,null,null,null,null,null,"",0,0]
[null,null,null,null,null,null,null,null,null,"",0,0]
[null,null,null,null,null,null,null,null,null,"",0,0]
[null,null,null,null,null,null,null,null,null,"",0,0]
[null,null,null,null,null,null,null,null,null,"",0,0]
[null,null,null,null,null,null,null,null,null,"",0,0]
[null,null,null,null,null,null,null,null,null,"",0,0]
[null,null,null,null,null,null,null,null,null,"",0,0]
[null,null,null,null,null,null,null,null,null,"",0,0]
[null,null,null,null,null,null,null,null,null,"",0,0]
[null,null,null,null,null,null,null,null,null,"",0,0]
[null,null,null,null,null,null,null,null,null,"",0,0]
[null,null,null,null,null,null,null,null,null,"",0,0]
[null,null,null,null,null,null,null,null,null,"",0,0]
[null,null,null,null,null,null,null,null,null,"",0,0]
[null,null,null,null,null,null,null,null,null,"",0,0]
[null,null,null,null,null,null,null,null,null,"",0,0]
[null,null,null,null,null,null,null,null,null,"",0,0]
[null,null,null,null,null,null,null,null,null,"",0,0]
[null,null,null,null,null,null,null,null,null,"",0,0]
[null,null,null,null,null,null,null,null,null,"",0,0]
[null,null,null,null,null,null,null,null,null,"",0,0]
[null,null,null,null,null,null,null,null,null,"",0,0]
[null,null,null,null,null,null,null,null,null,"",0,0]
[null,null,null,null,null,null,null,null,null,"",0,0]
[null,null,null,null,null,null,null,null,null,"",0,0]
[null,null,null,null,null,null,null,null,null,"",0,0]
[null,null,null,null,null,null,null,null,null,"",0,0]
[null,null,null,null,null,null,null,null,null,"",0,0]
[null,null,null,null,null,null,null,null,null,"",0,0]
[null,null,null,null,null,null,null,null,null,"",0,0]
[null,null,null,null,null,null,null,null,null,"",0,0]
[null,null,null,null,null,null,null,null,null,"",0,0]
[null,null,null,null,null,null,null,null,null,"",0,0]
[null,null,null,null,null,null,null,null,null,"",0,0]
[null,null,null,null,null,null,null,null,null,"",0,0]
[null,null,null,null,null,null,null,null,null,"",0,0]
[null,null,null,null,null,null,null,null,null,"",0,0]
[null,null,null,null,null,null,null,null,null,"",0,0]
[null,null,null,null,null,null,null,null,null,"",0,0]
[null,null,null,null,null,null,null,null,null,{"$f":"CONCATENATE(LEFT(D2950,1),E2950)","v":""},0,0]
[null,null,null,null,null,null,null,null,null,"",{"$f":"IF(D2951=\"ENTRADA\",C2951,0)","v":0},{"$f":"IF(D2951=\"SALIDA\",C2951,0)","v":0}]
[null,null,null,null,null,null,null,null,null,"",0,0]
[null,null,null,null,null,null,null,null,null,"",0,0]
[null,null,null,null,null,null,null,null,null,"",0,0]
[null,null,null,null,null,null,null,null,null,"",0,0]
[null,null,null,null,null,null,null,null,null,"",0,0]
[null,null,null,null,null,null,null,null,null,"",0,0]
[null,null,null,null,null,null,null,null,null,"",0,0]
[null,null,null,null,null,null,null,null,null,"",0,0]
[null,null,null,null,null,null,null,null,null,"",0,0]
[null,null,null,null,null,null,null,null,null,"",0,0]
[null,null,null,null,null,null,null,null,null,"",0,0]
[null,null,null,null,null,null,null,null,null,"",0,0]
[null,null,null,null,null,null,null,null,null,"",0,0]
[null,null,null,null,null,null,null,null,null,"",0,0]
[null,null,null,null,null,null,null,null,null,"",0,0]
[null,null,null,null,null,null,null,null,null,"",0,0]
[null,null,null,null,null,null,null,null,null,"",0,0]
[null,null,null,null,null,null,null,null,null,"",0,0]
[null,null,null,null,null,null,null,null,null,"",0,0]
[null,null,null,null,null,null,null,null,null,"",0,0]
[null,null,null,null,null,null,null,null,null,"",0,0]
[null,null,null,null,null,null,null,null,null,"",0,0]
[null,null,null,null,null,null,null,null,null,"",0,0]
[null,null,null,null,null,null,null,null,null,"",0,0]
[null,null,null,null,null,null,null,null,null,"",0,0]
[null,null,null,null,null,null,null,null,null,"",0,0]
[null,null,null,null,null,null,null,null,null,"",0,0]
[null,null,null,null,null,null,null,null,null,"",0,0]
[null,null,null,null,null,null,null,null,null,"",0,0]
[null,null,null,null,null,null,null,null,null,"",0,0]
[null,null,null,null,null,null,null,null,null,"",0,0]
[null,null,null,null,null,null,null,null,null,"",0,0]
[null,null,null,null,null,null,null,null,null,"",0,0]
[null,null,null,null,null,null,null,null,null,"",0,0]
[null,null,null,null,null,null,null,null,null,"",0,0]
[null,null,null,null,null,null,null,null,null,"",0,0]
[null,null,null,null,null,null,null,null,null,"",0,0]
[null,null,null,null,null,null,null,null,null,"",0,0]
[null,null,null,null,null,null,null,null,null,"",0,0]
[null,null,null,null,null,null,null,null,null,"",0,0]
[null,null,null,null,null,null,null,null,null,"",0,0]
[null,null,null,null,null,null,null,null,null,"",0,0]
[null,null,null,null,null,null,null,null,null,"",0,0]
[null,null,null,null,null,null,null,null,null,"",0,0]
[null,null,null,null,null,null,null,null,null,"",0,0]
[null,null,null,null,null,null,null,null,null,"",0,0]
[null,null,null,null,null,null,null,null,null,"",0,0]
[null,null,null,null,null,null,null,null,null,"",0,0]
[null,null,null,null,null,null,null,null,null,"",0,0]

{"sheet":"Control Inv","index":2,"n_rows":1003,"n_cols":11,"rows_kept":1003,"cut":false,"hidden":false,"merged":[[2,1,3,2],[3,7,3,9],[3,3,3,5]]}
[]
[null,null,null,null,null,null,{"$f":"SUM(G6:G1000)","v":32395},2900,7830,27465,266]
[null,"CONTROL Y ADMINISTRACION DE INVENTARIO"]
[null,null,null,{"$f":"(TODAY())","v":"2024-04-04"},null,null,null,"Movimiento"]
[null,"Codigo","Descripción","Referencia","Und/Med","Prom/dia","Saldo Ini","Entradas","Salidas","Saldo Und","Saldo Dias"]
[null,123,"Arandela 1 1/2\" SUP",1035,"Unidad",120,1280,{"$f":"SUMIF('Base Datos'!$J$5:$J$30000,CONCATENATE(\"E\",B6),'Base Datos'!$I$5:$I$30000)","v":0},{"$f":"SUMIF('Base Datos'!$J$5:$J$30000,CONCATENATE(\"S\",B6),'Base Datos'!$I$5:$I$30000)","v":280},{"$f":"(G6+H6-I6)","v":1000},{"$f":"IFERROR(ROUND(J6/F6,0),\"\")","v":8}]
[null,485,"Acople Pista 14-11mm","FX036","Unidad",85,5200,{"$f":"SUMIF('Base Datos'!$J$5:$J$30000,CONCATENATE(\"E\",B7),'Base Datos'!$I$5:$I$30000)","v":800},{"$f":"SUMIF('Base Datos'!$J$5:$J$30000,CONCATENATE(\"S\",B7),'Base Datos'!$I$5:$I$30000)","v":0},{"$f":"(G7+H7-I7)","v":6000},{"$f":"IFERROR(ROUND(J7/F7,0),\"\")","v":71}]
[null,784,"Pasador FP 343",343,"Unidad",280,600,{"$f":"SUMIF('Base Datos'!$J$5:$J$30000,CONCATENATE(\"E\",B8),'Base Datos'!$I$5:$I$30000)","v":400},{"$f":"SUMIF('Base Datos'!$J$5:$J$30000,CONCATENATE(\"S\",B8),'Base Datos'!$I$5:$I$30000)","v":0},1000,4]
[null,605,"Soldadura 1/4","MTE1035","Kilos",15,230,{"$f":"SUMIF('Base Datos'!$J$5:$J$30000,CONCATENATE(\"E\",B9),'Base Datos'!$I$5:$I$30000)","v":0},{"$f":"SUMIF('Base Datos'!$J$5:$J$30000,CONCATENATE(\"S\",B9),'Base Datos'!$I$5:$I$30000)","v":0},230,15]
[null,942,"Pegante sintetico","Acrilico","Litros",1.5,85,{"$f":"SUMIF('Base Datos'!$J$5:$J$30000,CONCATENATE(\"E\",B10),'Base Datos'!$I$5:$I$30000)","v":200},{"$f":"SUMIF('Base Datos'!$J$5:$J$30000,CONCATENATE(\"S\",B10),'Base Datos'!$I$5:$I$30000)","v":50},235,157]
[null,957,"Tornilo Central 5/16\" X 3 1/2\"","Galvanizado","Unidad",1780,25000,{"$f":"SUMIF('Base Datos'!$J$5:$J$30000,CONCATENATE(\"E\",B11),'Base Datos'!$I$5:$I$30000)","v":1500},{"$f":"SUMIF('Base Datos'!$J$5:$J$30000,CONCATENATE(\"S\",B11),'Base Datos'!$I$5:$I$30000)","v":7500},19000,11]
[null,null,null,null,null,null,null,{"$f":"SUMIF('Base Datos'!$J$5:$J$30000,CONCATENATE(\"E\",B12),'Base Datos'!$I$5:$I$30000)","v":0},{"$f":"SUMIF('Base Datos'!$J$5:$J$30000,CONCATENATE(\"S\",B12),'Base Datos'!$I$5:$I$30000)","v":0},0,""]
[null,null,null,null,null,null,null,{"$f":"SUMIF('Base Datos'!$J$5:$J$30000,CONCATENATE(\"E\",B13),'Base Datos'!$I$5:$I$30000)","v":0},{"$f":"SUMIF('Base Datos'!$J$5:$J$30000,CONCATENATE(\"S\",B13),'Base Datos'!$I$5:$I$30000)","v":0},{"$f":"(G13+H13-I13)","v":0},""]
[null,null,null,null,null,null,null,{"$f":"SUMIF('Base Datos'!$J$5:$J$30000,CONCATENATE(\"E\",B14),'Base Datos'!$I$5:$I$30000)","v":0},{"$f":"SUMIF('Base Datos'!$J$5:$J$30000,CONCATENATE(\"S\",B14),'Base Datos'!$I$5:$I$30000)","v":0},0,""]
[null,null,null,null,null,null,null,{"$f":"SUMIF('Base Datos'!$J$5:$J$30000,CONCATENATE(\"E\",B15),'Base Datos'!$I$5:$I$30000)","v":0},{"$f":"SUMIF('Base Datos'!$J$5:$J$30000,CONCATENATE(\"S\",B15),'Base Datos'!$I$5:$I$30000)","v":0},0,""]
[null,null,null,null,null,null,null,{"$f":"SUMIF('Base Datos'!$J$5:$J$30000,CONCATENATE(\"E\",B16),'Base Datos'!$I$5:$I$30000)","v":0},{"$f":"SUMIF('Base Datos'!$J$5:$J$30000,CONCATENATE(\"S\",B16),'Base Datos'!$I$5:$I$30000)","v":0},0,""]
[null,null,null,null,null,null,null,{"$f":"SUMIF('Base Datos'!$J$5:$J$30000,CONCATENATE(\"E\",B17),'Base Datos'!$I$5:$I$30000)","v":0},{"$f":"SUMIF('Base Datos'!$J$5:$J$30000,CONCATENATE(\"S\",B17),'Base Datos'!$I$5:$I$30000)","v":0},0,""]
[null,null,null,null,null,null,null,{"$f":"SUMIF('Base Datos'!$J$5:$J$30000,CONCATENATE(\"E\",B18),'Base Datos'!$I$5:$I$30000)","v":0},{"$f":"SUMIF('Base Datos'!$J$5:$J$30000,CONCATENATE(\"S\",B18),'Base Datos'!$I$5:$I$30000)","v":0},0,""]
[null,null,null,null,null,null,null,{"$f":"SUMIF('Base Datos'!$J$5:$J$30000,CONCATENATE(\"E\",B19),'Base Datos'!$I$5:$I$30000)","v":0},{"$f":"SUMIF('Base Datos'!$J$5:$J$30000,CONCATENATE(\"S\",B19),'Base Datos'!$I$5:$I$30000)","v":0},0,""]
[null,null,null,null,null,null,null,{"$f":"SUMIF('Base Datos'!$J$5:$J$30000,CONCATENATE(\"E\",B20),'Base Datos'!$I$5:$I$30000)","v":0},{"$f":"SUMIF('Base Datos'!$J$5:$J$30000,CONCATENATE(\"S\",B20),'Base Datos'!$I$5:$I$30000)","v":0},0,""]
[null,null,null,null,null,null,null,{"$f":"SUMIF('Base Datos'!$J$5:$J$30000,CONCATENATE(\"E\",B21),'Base Datos'!$I$5:$I$30000)","v":0},{"$f":"SUMIF('Base Datos'!$J$5:$J$30000,CONCATENATE(\"S\",B21),'Base Datos'!$I$5:$I$30000)","v":0},0,""]
[null,null,null,null,null,null,null,{"$f":"SUMIF('Base Datos'!$J$5:$J$30000,CONCATENATE(\"E\",B22),'Base Datos'!$I$5:$I$30000)","v":0},{"$f":"SUMIF('Base Datos'!$J$5:$J$30000,CONCATENATE(\"S\",B22),'Base Datos'!$I$5:$I$30000)","v":0},0,""]
[null,null,null,null,null,null,null,{"$f":"SUMIF('Base Datos'!$J$5:$J$30000,CONCATENATE(\"E\",B23),'Base Datos'!$I$5:$I$30000)","v":0},{"$f":"SUMIF('Base Datos'!$J$5:$J$30000,CONCATENATE(\"S\",B23),'Base Datos'!$I$5:$I$30000)","v":0},0,""]
[null,null,null,null,null,null,null,{"$f":"SUMIF('Base Datos'!$J$5:$J$30000,CONCATENATE(\"E\",B24),'Base Datos'!$I$5:$I$30000)","v":0},{"$f":"SUMIF('Base Datos'!$J$5:$J$30000,CONCATENATE(\"S\",B24),'Base Datos'!$I$5:$I$30000)","v":0},0,""]
[null,null,null,null,null,null,null,{"$f":"SUMIF('Base Datos'!$J$5:$J$30000,CONCATENATE(\"E\",B25),'Base Datos'!$I$5:$I$30000)","v":0},{"$f":"SUMIF('Base Datos'!$J$5:$J$30000,CONCATENATE(\"S\",B25),'Base Datos'!$I$5:$I$30000)","v":0},0,""]
[null,null,null,null,null,null,null,{"$f":"SUMIF('Base Datos'!$J$5:$J$30000,CONCATENATE(\"E\",B26),'Base Datos'!$I$5:$I$30000)","v":0},{"$f":"SUMIF('Base Datos'!$J$5:$J$30000,CONCATENATE(\"S\",B26),'Base Datos'!$I$5:$I$30000)","v":0},0,""]
[null,null,null,null,null,null,null,{"$f":"SUMIF('Base Datos'!$J$5:$J$30000,CONCATENATE(\"E\",B27),'Base Datos'!$I$5:$I$30000)","v":0},{"$f":"SUMIF('Base Datos'!$J$5:$J$30000,CONCATENATE(\"S\",B27),'Base Datos'!$I$5:$I$30000)","v":0},0,""]
[null,null,null,null,null,null,null,{"$f":"SUMIF('Base Datos'!$J$5:$J$30000,CONCATENATE(\"E\",B28),'Base Datos'!$I$5:$I$30000)","v":0},{"$f":"SUMIF('Base Datos'!$J$5:$J$30000,CONCATENATE(\"S\",B28),'Base Datos'!$I$5:$I$30000)","v":0},0,""]
[null,null,null,null,null,null,null,{"$f":"SUMIF('Base Datos'!$J$5:$J$30000,CONCATENATE(\"E\",B29),'Base Datos'!$I$5:$I$30000)","v":0},{"$f":"SUMIF('Base Datos'!$J$5:$J$30000,CONCATENATE(\"S\",B29),'Base Datos'!$I$5:$I$30000)","v":0},0,""]
[null,null,null,null,null,null,null,{"$f":"SUMIF('Base Datos'!$J$5:$J$30000,CONCATENATE(\"E\",B30),'Base Datos'!$I$5:$I$30000)","v":0},{"$f":"SUMIF('Base Datos'!$J$5:$J$30000,CONCATENATE(\"S\",B30),'Base Datos'!$I$5:$I$30000)","v":0},0,""]
[null,null,null,null,null,null,null,{"$f":"SUMIF('Base Datos'!$J$5:$J$30000,CONCATENATE(\"E\",B31),'Base Datos'!$I$5:$I$30000)","v":0},{"$f":"SUMIF('Base Datos'!$J$5:$J$30000,CONCATENATE(\"S\",B31),'Base Datos'!$I$5:$I$30000)","v":0},0,""]
[null,null,null,null,null,null,null,{"$f":"SUMIF('Base Datos'!$J$5:$J$30000,CONCATENATE(\"E\",B32),'Base Datos'!$I$5:$I$30000)","v":0},{"$f":"SUMIF('Base Datos'!$J$5:$J$30000,CONCATENATE(\"S\",B32),'Base Datos'!$I$5:$I$30000)","v":0},0,""]
[null,null,null,null,null,null,null,{"$f":"SUMIF('Base Datos'!$J$5:$J$30000,CONCATENATE(\"E\",B33),'Base Datos'!$I$5:$I$30000)","v":0},{"$f":"SUMIF('Base Datos'!$J$5:$J$30000,CONCATENATE(\"S\",B33),'Base Datos'!$I$5:$I$30000)","v":0},0,""]
[null,null,null,null,null,null,null,{"$f":"SUMIF('Base Datos'!$J$5:$J$30000,CONCATENATE(\"E\",B34),'Base Datos'!$I$5:$I$30000)","v":0},{"$f":"SUMIF('Base Datos'!$J$5:$J$30000,CONCATENATE(\"S\",B34),'Base Datos'!$I$5:$I$30000)","v":0},0,""]
[null,null,null,null,null,null,null,{"$f":"SUMIF('Base Datos'!$J$5:$J$30000,CONCATENATE(\"E\",B35),'Base Datos'!$I$5:$I$30000)","v":0},{"$f":"SUMIF('Base Datos'!$J$5:$J$30000,CONCATENATE(\"S\",B35),'Base Datos'!$I$5:$I$30000)","v":0},0,""]
[null,null,null,null,null,null,null,{"$f":"SUMIF('Base Datos'!$J$5:$J$30000,CONCATENATE(\"E\",B36),'Base Datos'!$I$5:$I$30000)","v":0},{"$f":"SUMIF('Base Datos'!$J$5:$J$30000,CONCATENATE(\"S\",B36),'Base Datos'!$I$5:$I$30000)","v":0},0,""]
[null,null,null,null,null,null,null,{"$f":"SUMIF('Base Datos'!$J$5:$J$30000,CONCATENATE(\"E\",B37),'Base Datos'!$I$5:$I$30000)","v":0},{"$f":"SUMIF('Base Datos'!$J$5:$J$30000,CONCATENATE(\"S\",B37),'Base Datos'!$I$5:$I$30000)","v":0},0,""]
[null,null,null,null,null,null,null,{"$f":"SUMIF('Base Datos'!$J$5:$J$30000,CONCATENATE(\"E\",B38),'Base Datos'!$I$5:$I$30000)","v":0},{"$f":"SUMIF('Base Datos'!$J$5:$J$30000,CONCATENATE(\"S\",B38),'Base Datos'!$I$5:$I$30000)","v":0},0,""]
[null,null,null,null,null,null,null,{"$f":"SUMIF('Base Datos'!$J$5:$J$30000,CONCATENATE(\"E\",B39),'Base Datos'!$I$5:$I$30000)","v":0},{"$f":"SUMIF('Base Datos'!$J$5:$J$30000,CONCATENATE(\"S\",B39),'Base Datos'!$I$5:$I$30000)","v":0},0,""]
[null,null,null,null,null,null,null,{"$f":"SUMIF('Base Datos'!$J$5:$J$30000,CONCATENATE(\"E\",B40),'Base Datos'!$I$5:$I$30000)","v":0},{"$f":"SUMIF('Base Datos'!$J$5:$J$30000,CONCATENATE(\"S\",B40),'Base Datos'!$I$5:$I$30000)","v":0},0,""]
[null,null,null,null,null,null,null,{"$f":"SUMIF('Base Datos'!$J$5:$J$30000,CONCATENATE(\"E\",B41),'Base Datos'!$I$5:$I$30000)","v":0},{"$f":"SUMIF('Base Datos'!$J$5:$J$30000,CONCATENATE(\"S\",B41),'Base Datos'!$I$5:$I$30000)","v":0},0,""]
[null,null,null,null,null,null,null,{"$f":"SUMIF('Base Datos'!$J$5:$J$30000,CONCATENATE(\"E\",B42),'Base Datos'!$I$5:$I$30000)","v":0},{"$f":"SUMIF('Base Datos'!$J$5:$J$30000,CONCATENATE(\"S\",B42),'Base Datos'!$I$5:$I$30000)","v":0},0,""]
[null,null,null,null,null,null,null,{"$f":"SUMIF('Base Datos'!$J$5:$J$30000,CONCATENATE(\"E\",B43),'Base Datos'!$I$5:$I$30000)","v":0},{"$f":"SUMIF('Base Datos'!$J$5:$J$30000,CONCATENATE(\"S\",B43),'Base Datos'!$I$5:$I$30000)","v":0},0,""]
[null,null,null,null,null,null,null,{"$f":"SUMIF('Base Datos'!$J$5:$J$30000,CONCATENATE(\"E\",B44),'Base Datos'!$I$5:$I$30000)","v":0},{"$f":"SUMIF('Base Datos'!$J$5:$J$30000,CONCATENATE(\"S\",B44),'Base Datos'!$I$5:$I$30000)","v":0},0,""]
[null,null,null,null,null,null,null,{"$f":"SUMIF('Base Datos'!$J$5:$J$30000,CONCATENATE(\"E\",B45),'Base Datos'!$I$5:$I$30000)","v":0},{"$f":"SUMIF('Base Datos'!$J$5:$J$30000,CONCATENATE(\"S\",B45),'Base Datos'!$I$5:$I$30000)","v":0},0,""]
[null,null,null,null,null,null,null,{"$f":"SUMIF('Base Datos'!$J$5:$J$30000,CONCATENATE(\"E\",B46),'Base Datos'!$I$5:$I$30000)","v":0},{"$f":"SUMIF('Base Datos'!$J$5:$J$30000,CONCATENATE(\"S\",B46),'Base Datos'!$I$5:$I$30000)","v":0},0,""]
[null,null,null,null,null,null,null,{"$f":"SUMIF('Base Datos'!$J$5:$J$30000,CONCATENATE(\"E\",B47),'Base Datos'!$I$5:$I$30000)","v":0},{"$f":"SUMIF('Base Datos'!$J$5:$J$30000,CONCATENATE(\"S\",B47),'Base Datos'!$I$5:$I$30000)","v":0},0,""]
[null,null,null,null,null,null,null,{"$f":"SUMIF('Base Datos'!$J$5:$J$30000,CONCATENATE(\"E\",B48),'Base Datos'!$I$5:$I$30000)","v":0},{"$f":"SUMIF('Base Datos'!$J$5:$J$30000,CONCATENATE(\"S\",B48),'Base Datos'!$I$5:$I$30000)","v":0},0,""]
[null,null,null,null,null,null,null,{"$f":"SUMIF('Base Datos'!$J$5:$J$30000,CONCATENATE(\"E\",B49),'Base Datos'!$I$5:$I$30000)","v":0},{"$f":"SUMIF('Base Datos'!$J$5:$J$30000,CONCATENATE(\"S\",B49),'Base Datos'!$I$5:$I$30000)","v":0},0,""]
[null,null,null,null,null,null,null,{"$f":"SUMIF('Base Datos'!$J$5:$J$30000,CONCATENATE(\"E\",B50),'Base Datos'!$I$5:$I$30000)","v":0},{"$f":"SUMIF('Base Datos'!$J$5:$J$30000,CONCATENATE(\"S\",B50),'Base Datos'!$I$5:$I$30000)","v":0},0,""]
[null,null,null,null,null,null,null,{"$f":"SUMIF('Base Datos'!$J$5:$J$30000,CONCATENATE(\"E\",B51),'Base Datos'!$I$5:$I$30000)","v":0},{"$f":"SUMIF('Base Datos'!$J$5:$J$30000,CONCATENATE(\"S\",B51),'Base Datos'!$I$5:$I$30000)","v":0},0,""]
[null,null,null,null,null,null,null,{"$f":"SUMIF('Base Datos'!$J$5:$J$30000,CONCATENATE(\"E\",B52),'Base Datos'!$I$5:$I$30000)","v":0},{"$f":"SUMIF('Base Datos'!$J$5:$J$30000,CONCATENATE(\"S\",B52),'Base Datos'!$I$5:$I$30000)","v":0},0,""]
[null,null,null,null,null,null,null,{"$f":"SUMIF('Base Datos'!$J$5:$J$30000,CONCATENATE(\"E\",B53),'Base Datos'!$I$5:$I$30000)","v":0},{"$f":"SUMIF('Base Datos'!$J$5:$J$30000,CONCATENATE(\"S\",B53),'Base Datos'!$I$5:$I$30000)","v":0},0,""]
[null,null,null,null,null,null,null,{"$f":"SUMIF('Base Datos'!$J$5:$J$30000,CONCATENATE(\"E\",B54),'Base Datos'!$I$5:$I$30000)","v":0},{"$f":"SUMIF('Base Datos'!$J$5:$J$30000,CONCATENATE(\"S\",B54),'Base Datos'!$I$5:$I$30000)","v":0},0,""]
[null,null,null,null,null,null,null,{"$f":"SUMIF('Base Datos'!$J$5:$J$30000,CONCATENATE(\"E\",B55),'Base Datos'!$I$5:$I$30000)","v":0},{"$f":"SUMIF('Base Datos'!$J$5:$J$30000,CONCATENATE(\"S\",B55),'Base Datos'!$I$5:$I$30000)","v":0},0,""]
[null,null,null,null,null,null,null,{"$f":"SUMIF('Base Datos'!$J$5:$J$30000,CONCATENATE(\"E\",B56),'Base Datos'!$I$5:$I$30000)","v":0},{"$f":"SUMIF('Base Datos'!$J$5:$J$30000,CONCATENATE(\"S\",B56),'Base Datos'!$I$5:$I$30000)","v":0},0,""]
[null,null,null,null,null,null,null,{"$f":"SUMIF('Base Datos'!$J$5:$J$30000,CONCATENATE(\"E\",B57),'Base Datos'!$I$5:$I$30000)","v":0},{"$f":"SUMIF('Base Datos'!$J$5:$J$30000,CONCATENATE(\"S\",B57),'Base Datos'!$I$5:$I$30000)","v":0},0,""]
[null,null,null,null,null,null,null,{"$f":"SUMIF('Base Datos'!$J$5:$J$30000,CONCATENATE(\"E\",B58),'Base Datos'!$I$5:$I$30000)","v":0},{"$f":"SUMIF('Base Datos'!$J$5:$J$30000,CONCATENATE(\"S\",B58),'Base Datos'!$I$5:$I$30000)","v":0},0,""]
[null,null,null,null,null,null,null,{"$f":"SUMIF('Base Datos'!$J$5:$J$30000,CONCATENATE(\"E\",B59),'Base Datos'!$I$5:$I$30000)","v":0},{"$f":"SUMIF('Base Datos'!$J$5:$J$30000,CONCATENATE(\"S\",B59),'Base Datos'!$I$5:$I$30000)","v":0},0,""]
[null,null,null,null,null,null,null,{"$f":"SUMIF('Base Datos'!$J$5:$J$30000,CONCATENATE(\"E\",B60),'Base Datos'!$I$5:$I$30000)","v":0},{"$f":"SUMIF('Base Datos'!$J$5:$J$30000,CONCATENATE(\"S\",B60),'Base Datos'!$I$5:$I$30000)","v":0},0,""]
[null,null,null,null,null,null,null,{"$f":"SUMIF('Base Datos'!$J$5:$J$30000,CONCATENATE(\"E\",B61),'Base Datos'!$I$5:$I$30000)","v":0},{"$f":"SUMIF('Base Datos'!$J$5:$J$30000,CONCATENATE(\"S\",B61),'Base Datos'!$I$5:$I$30000)","v":0},0,""]
[null,null,null,null,null,null,null,{"$f":"SUMIF('Base Datos'!$J$5:$J$30000,CONCATENATE(\"E\",B62),'Base Datos'!$I$5:$I$30000)","v":0},{"$f":"SUMIF('Base Datos'!$J$5:$J$30000,CONCATENATE(\"S\",B62),'Base Datos'!$I$5:$I$30000)","v":0},0,""]
[null,null,null,null,null,null,null,{"$f":"SUMIF('Base Datos'!$J$5:$J$30000,CONCATENATE(\"E\",B63),'Base Datos'!$I$5:$I$30000)","v":0},{"$f":"SUMIF('Base Datos'!$J$5:$J$30000,CONCATENATE(\"S\",B63),'Base Datos'!$I$5:$I$30000)","v":0},0,""]
[null,null,null,null,null,null,null,{"$f":"SUMIF('Base Datos'!$J$5:$J$30000,CONCATENATE(\"E\",B64),'Base Datos'!$I$5:$I$30000)","v":0},{"$f":"SUMIF('Base Datos'!$J$5:$J$30000,CONCATENATE(\"S\",B64),'Base Datos'!$I$5:$I$30000)","v":0},0,""]
[null,null,null,null,null,null,null,{"$f":"SUMIF('Base Datos'!$J$5:$J$30000,CONCATENATE(\"E\",B65),'Base Datos'!$I$5:$I$30000)","v":0},{"$f":"SUMIF('Base Datos'!$J$5:$J$30000,CONCATENATE(\"S\",B65),'Base Datos'!$I$5:$I$30000)","v":0},0,""]
[null,null,null,null,null,null,null,{"$f":"SUMIF('Base Datos'!$J$5:$J$30000,CONCATENATE(\"E\",B66),'Base Datos'!$I$5:$I$30000)","v":0},{"$f":"SUMIF('Base Datos'!$J$5:$J$30000,CONCATENATE(\"S\",B66),'Base Datos'!$I$5:$I$30000)","v":0},0,""]
[null,null,null,null,null,null,null,{"$f":"SUMIF('Base Datos'!$J$5:$J$30000,CONCATENATE(\"E\",B67),'Base Datos'!$I$5:$I$30000)","v":0},{"$f":"SUMIF('Base Datos'!$J$5:$J$30000,CONCATENATE(\"S\",B67),'Base Datos'!$I$5:$I$30000)","v":0},0,""]
[null,null,null,null,null,null,null,{"$f":"SUMIF('Base Datos'!$J$5:$J$30000,CONCATENATE(\"E\",B68),'Base Datos'!$I$5:$I$30000)","v":0},{"$f":"SUMIF('Base Datos'!$J$5:$J$30000,CONCATENATE(\"S\",B68),'Base Datos'!$I$5:$I$30000)","v":0},0,""]
[null,null,null,null,null,null,null,{"$f":"SUMIF('Base Datos'!$J$5:$J$30000,CONCATENATE(\"E\",B69),'Base Datos'!$I$5:$I$30000)","v":0},{"$f":"SUMIF('Base Datos'!$J$5:$J$30000,CONCATENATE(\"S\",B69),'Base Datos'!$I$5:$I$30000)","v":0},0,""]
[null,null,null,null,null,null,null,{"$f":"SUMIF('Base Datos'!$J$5:$J$30000,CONCATENATE(\"E\",B70),'Base Datos'!$I$5:$I$30000)","v":0},{"$f":"SUMIF('Base Datos'!$J$5:$J$30000,CONCATENATE(\"S\",B70),'Base Datos'!$I$5:$I$30000)","v":0},0,""]
[null,null,null,null,null,null,null,{"$f":"SUMIF('Base Datos'!$J$5:$J$30000,CONCATENATE(\"E\",B71),'Base Datos'!$I$5:$I$30000)","v":0},{"$f":"SUMIF('Base Datos'!$J$5:$J$30000,CONCATENATE(\"S\",B71),'Base Datos'!$I$5:$I$30000)","v":0},0,{"$f":"IFERROR(ROUND(J71/F71,0),\"\")","v":""}]
[null,null,null,null,null,null,null,{"$f":"SUMIF('Base Datos'!$J$5:$J$30000,CONCATENATE(\"E\",B72),'Base Datos'!$I$5:$I$30000)","v":0},{"$f":"SUMIF('Base Datos'!$J$5:$J$30000,CONCATENATE(\"S\",B72),'Base Datos'!$I$5:$I$30000)","v":0},0,""]
[null,null,null,null,null,null,null,{"$f":"SUMIF('Base Datos'!$J$5:$J$30000,CONCATENATE(\"E\",B73),'Base Datos'!$I$5:$I$30000)","v":0},{"$f":"SUMIF('Base Datos'!$J$5:$J$30000,CONCATENATE(\"S\",B73),'Base Datos'!$I$5:$I$30000)","v":0},0,""]
[null,null,null,null,null,null,null,{"$f":"SUMIF('Base Datos'!$J$5:$J$30000,CONCATENATE(\"E\",B74),'Base Datos'!$I$5:$I$30000)","v":0},{"$f":"SUMIF('Base Datos'!$J$5:$J$30000,CONCATENATE(\"S\",B74),'Base Datos'!$I$5:$I$30000)","v":0},0,""]
[null,null,null,null,null,null,null,{"$f":"SUMIF('Base Datos'!$J$5:$J$30000,CONCATENATE(\"E\",B75),'Base Datos'!$I$5:$I$30000)","v":0},{"$f":"SUMIF('Base Datos'!$J$5:$J$30000,CONCATENATE(\"S\",B75),'Base Datos'!$I$5:$I$30000)","v":0},0,""]
[null,null,null,null,null,null,null,{"$f":"SUMIF('Base Datos'!$J$5:$J$30000,CONCATENATE(\"E\",B76),'Base Datos'!$I$5:$I$30000)","v":0},{"$f":"SUMIF('Base Datos'!$J$5:$J$30000,CONCATENATE(\"S\",B76),'Base Datos'!$I$5:$I$30000)","v":0},0,""]
[null,null,null,null,null,null,null,{"$f":"SUMIF('Base Datos'!$J$5:$J$30000,CONCATENATE(\"E\",B77),'Base Datos'!$I$5:$I$30000)","v":0},{"$f":"SUMIF('Base Datos'!$J$5:$J$30000,CONCATENATE(\"S\",B77),'Base Datos'!$I$5:$I$30000)","v":0},{"$f":"(G77+H77-I77)","v":0},""]
[null,null,null,null,null,null,null,{"$f":"SUMIF('Base Datos'!$J$5:$J$30000,CONCATENATE(\"E\",B78),'Base Datos'!$I$5:$I$30000)","v":0},{"$f":"SUMIF('Base Datos'!$J$5:$J$30000,CONCATENATE(\"S\",B78),'Base Datos'!$I$5:$I$30000)","v":0},0,""]
[null,null,null,null,null,null,null,{"$f":"SUMIF('Base Datos'!$J$5:$J$30000,CONCATENATE(\"E\",B79),'Base Datos'!$I$5:$I$30000)","v":0},{"$f":"SUMIF('Base Datos'!$J$5:$J$30000,CONCATENATE(\"S\",B79),'Base Datos'!$I$5:$I$30000)","v":0},0,""]
[null,null,null,null,null,null,null,{"$f":"SUMIF('Base Datos'!$J$5:$J$30000,CONCATENATE(\"E\",B80),'Base Datos'!$I$5:$I$30000)","v":0},{"$f":"SUMIF('Base Datos'!$J$5:$J$30000,CONCATENATE(\"S\",B80),'Base Datos'!$I$5:$I$30000)","v":0},0,""]
[null,null,null,null,null,null,null,{"$f":"SUMIF('Base Datos'!$J$5:$J$30000,CONCATENATE(\"E\",B81),'Base Datos'!$I$5:$I$30000)","v":0},{"$f":"SUMIF('Base Datos'!$J$5:$J$30000,CONCATENATE(\"S\",B81),'Base Datos'!$I$5:$I$30000)","v":0},0,""]
[null,null,null,null,null,null,null,{"$f":"SUMIF('Base Datos'!$J$5:$J$30000,CONCATENATE(\"E\",B82),'Base Datos'!$I$5:$I$30000)","v":0},{"$f":"SUMIF('Base Datos'!$J$5:$J$30000,CONCATENATE(\"S\",B82),'Base Datos'!$I$5:$I$30000)","v":0},0,""]
[null,null,null,null,null,null,null,{"$f":"SUMIF('Base Datos'!$J$5:$J$30000,CONCATENATE(\"E\",B83),'Base Datos'!$I$5:$I$30000)","v":0},{"$f":"SUMIF('Base Datos'!$J$5:$J$30000,CONCATENATE(\"S\",B83),'Base Datos'!$I$5:$I$30000)","v":0},0,""]
[null,null,null,null,null,null,null,{"$f":"SUMIF('Base Datos'!$J$5:$J$30000,CONCATENATE(\"E\",B84),'Base Datos'!$I$5:$I$30000)","v":0},{"$f":"SUMIF('Base Datos'!$J$5:$J$30000,CONCATENATE(\"S\",B84),'Base Datos'!$I$5:$I$30000)","v":0},0,""]
[null,null,null,null,null,null,null,{"$f":"SUMIF('Base Datos'!$J$5:$J$30000,CONCATENATE(\"E\",B85),'Base Datos'!$I$5:$I$30000)","v":0},{"$f":"SUMIF('Base Datos'!$J$5:$J$30000,CONCATENATE(\"S\",B85),'Base Datos'!$I$5:$I$30000)","v":0},0,""]
[null,null,null,null,null,null,null,{"$f":"SUMIF('Base Datos'!$J$5:$J$30000,CONCATENATE(\"E\",B86),'Base Datos'!$I$5:$I$30000)","v":0},{"$f":"SUMIF('Base Datos'!$J$5:$J$30000,CONCATENATE(\"S\",B86),'Base Datos'!$I$5:$I$30000)","v":0},0,""]
[null,null,null,null,null,null,null,{"$f":"SUMIF('Base Datos'!$J$5:$J$30000,CONCATENATE(\"E\",B87),'Base Datos'!$I$5:$I$30000)","v":0},{"$f":"SUMIF('Base Datos'!$J$5:$J$30000,CONCATENATE(\"S\",B87),'Base Datos'!$I$5:$I$30000)","v":0},0,""]
[null,null,null,null,null,null,null,{"$f":"SUMIF('Base Datos'!$J$5:$J$30000,CONCATENATE(\"E\",B88),'Base Datos'!$I$5:$I$30000)","v":0},{"$f":"SUMIF('Base Datos'!$J$5:$J$30000,CONCATENATE(\"S\",B88),'Base Datos'!$I$5:$I$30000)","v":0},0,""]
[null,null,null,null,null,null,null,{"$f":"SUMIF('Base Datos'!$J$5:$J$30000,CONCATENATE(\"E\",B89),'Base Datos'!$I$5:$I$30000)","v":0},{"$f":"SUMIF('Base Datos'!$J$5:$J$30000,CONCATENATE(\"S\",B89),'Base Datos'!$I$5:$I$30000)","v":0},0,""]
[null,null,null,null,null,null,null,{"$f":"SUMIF('Base Datos'!$J$5:$J$30000,CONCATENATE(\"E\",B90),'Base Datos'!$I$5:$I$30000)","v":0},{"$f":"SUMIF('Base Datos'!$J$5:$J$30000,CONCATENATE(\"S\",B90),'Base Datos'!$I$5:$I$30000)","v":0},0,""]
[null,null,null,null,null,null,null,{"$f":"SUMIF('Base Datos'!$J$5:$J$30000,CONCATENATE(\"E\",B91),'Base Datos'!$I$5:$I$30000)","v":0},{"$f":"SUMIF('Base Datos'!$J$5:$J$30000,CONCATENATE(\"S\",B91),'Base Datos'!$I$5:$I$30000)","v":0},0,""]
[null,null,null,null,null,null,null,{"$f":"SUMIF('Base Datos'!$J$5:$J$30000,CONCATENATE(\"E\",B92),'Base Datos'!$I$5:$I$30000)","v":0},{"$f":"SUMIF('Base Datos'!$J$5:$J$30000,CONCATENATE(\"S\",B92),'Base Datos'!$I$5:$I$30000)","v":0},0,""]
[null,null,null,null,null,null,null,{"$f":"SUMIF('Base Datos'!$J$5:$J$30000,CONCATENATE(\"E\",B93),'Base Datos'!$I$5:$I$30000)","v":0},{"$f":"SUMIF('Base Datos'!$J$5:$J$30000,CONCATENATE(\"S\",B93),'Base Datos'!$I$5:$I$30000)","v":0},0,""]
[null,null,null,null,null,null,null,{"$f":"SUMIF('Base Datos'!$J$5:$J$30000,CONCATENATE(\"E\",B94),'Base Datos'!$I$5:$I$30000)","v":0},{"$f":"SUMIF('Base Datos'!$J$5:$J$30000,CONCATENATE(\"S\",B94),'Base Datos'!$I$5:$I$30000)","v":0},0,""]
[null,null,null,null,null,null,null,{"$f":"SUMIF('Base Datos'!$J$5:$J$30000,CONCATENATE(\"E\",B95),'Base Datos'!$I$5:$I$30000)","v":0},{"$f":"SUMIF('Base Datos'!$J$5:$J$30000,CONCATENATE(\"S\",B95),'Base Datos'!$I$5:$I$30000)","v":0},0,""]
[null,null,null,null,null,null,null,{"$f":"SUMIF('Base Datos'!$J$5:$J$30000,CONCATENATE(\"E\",B96),'Base Datos'!$I$5:$I$30000)","v":0},{"$f":"SUMIF('Base Datos'!$J$5:$J$30000,CONCATENATE(\"S\",B96),'Base Datos'!$I$5:$I$30000)","v":0},0,""]
[null,null,null,null,null,null,null,{"$f":"SUMIF('Base Datos'!$J$5:$J$30000,CONCATENATE(\"E\",B97),'Base Datos'!$I$5:$I$30000)","v":0},{"$f":"SUMIF('Base Datos'!$J$5:$J$30000,CONCATENATE(\"S\",B97),'Base Datos'!$I$5:$I$30000)","v":0},0,""]
[null,null,null,null,null,null,null,{"$f":"SUMIF('Base Datos'!$J$5:$J$30000,CONCATENATE(\"E\",B98),'Base Datos'!$I$5:$I$30000)","v":0},{"$f":"SUMIF('Base Datos'!$J$5:$J$30000,CONCATENATE(\"S\",B98),'Base Datos'!$I$5:$I$30000)","v":0},0,""]
[null,null,null,null,null,null,null,{"$f":"SUMIF('Base Datos'!$J$5:$J$30000,CONCATENATE(\"E\",B99),'Base Datos'!$I$5:$I$30000)","v":0},{"$f":"SUMIF('Base Datos'!$J$5:$J$30000,CONCATENATE(\"S\",B99),'Base Datos'!$I$5:$I$30000)","v":0},0,""]
[null,null,null,null,null,null,null,{"$f":"SUMIF('Base Datos'!$J$5:$J$30000,CONCATENATE(\"E\",B100),'Base Datos'!$I$5:$I$30000)","v":0},{"$f":"SUMIF('Base Datos'!$J$5:$J$30000,CONCATENATE(\"S\",B100),'Base Datos'!$I$5:$I$30000)","v":0},0,""]
[null,null,null,null,null,null,null,{"$f":"SUMIF('Base Datos'!$J$5:$J$30000,CONCATENATE(\"E\",B101),'Base Datos'!$I$5:$I$30000)","v":0},{"$f":"SUMIF('Base Datos'!$J$5:$J$30000,CONCATENATE(\"S\",B101),'Base Datos'!$I$5:$I$30000)","v":0},0,""]
[null,null,null,null,null,null,null,{"$f":"SUMIF('Base Datos'!$J$5:$J$30000,CONCATENATE(\"E\",B102),'Base Datos'!$I$5:$I$30000)","v":0},{"$f":"SUMIF('Base Datos'!$J$5:$J$30000,CONCATENATE(\"S\",B102),'Base Datos'!$I$5:$I$30000)","v":0},0,""]
[null,null,null,null,null,null,null,{"$f":"SUMIF('Base Datos'!$J$5:$J$30000,CONCATENATE(\"E\",B103),'Base Datos'!$I$5:$I$30000)","v":0},{"$f":"SUMIF('Base Datos'!$J$5:$J$30000,CONCATENATE(\"S\",B103),'Base Datos'!$I$5:$I$30000)","v":0},0,""]
[null,null,null,null,null,null,null,{"$f":"SUMIF('Base Datos'!$J$5:$J$30000,CONCATENATE(\"E\",B104),'Base Datos'!$I$5:$I$30000)","v":0},{"$f":"SUMIF('Base Datos'!$J$5:$J$30000,CONCATENATE(\"S\",B104),'Base Datos'!$I$5:$I$30000)","v":0},0,""]
[null,null,null,null,null,null,null,{"$f":"SUMIF('Base Datos'!$J$5:$J$30000,CONCATENATE(\"E\",B105),'Base Datos'!$I$5:$I$30000)","v":0},{"$f":"SUMIF('Base Datos'!$J$5:$J$30000,CONCATENATE(\"S\",B105),'Base Datos'!$I$5:$I$30000)","v":0},0,""]
[null,null,null,null,null,null,null,{"$f":"SUMIF('Base Datos'!$J$5:$J$30000,CONCATENATE(\"E\",B106),'Base Datos'!$I$5:$I$30000)","v":0},{"$f":"SUMIF('Base Datos'!$J$5:$J$30000,CONCATENATE(\"S\",B106),'Base Datos'!$I$5:$I$30000)","v":0},0,""]
[null,null,null,null,null,null,null,{"$f":"SUMIF('Base Datos'!$J$5:$J$30000,CONCATENATE(\"E\",B107),'Base Datos'!$I$5:$I$30000)","v":0},{"$f":"SUMIF('Base Datos'!$J$5:$J$30000,CONCATENATE(\"S\",B107),'Base Datos'!$I$5:$I$30000)","v":0},0,""]
[null,null,null,null,null,null,null,{"$f":"SUMIF('Base Datos'!$J$5:$J$30000,CONCATENATE(\"E\",B108),'Base Datos'!$I$5:$I$30000)","v":0},{"$f":"SUMIF('Base Datos'!$J$5:$J$30000,CONCATENATE(\"S\",B108),'Base Datos'!$I$5:$I$30000)","v":0},0,""]
[null,null,null,null,null,null,null,{"$f":"SUMIF('Base Datos'!$J$5:$J$30000,CONCATENATE(\"E\",B109),'Base Datos'!$I$5:$I$30000)","v":0},{"$f":"SUMIF('Base Datos'!$J$5:$J$30000,CONCATENATE(\"S\",B109),'Base Datos'!$I$5:$I$30000)","v":0},0,""]
[null,null,null,null,null,null,null,{"$f":"SUMIF('Base Datos'!$J$5:$J$30000,CONCATENATE(\"E\",B110),'Base Datos'!$I$5:$I$30000)","v":0},{"$f":"SUMIF('Base Datos'!$J$5:$J$30000,CONCATENATE(\"S\",B110),'Base Datos'!$I$5:$I$30000)","v":0},0,""]
[null,null,null,null,null,null,null,{"$f":"SUMIF('Base Datos'!$J$5:$J$30000,CONCATENATE(\"E\",B111),'Base Datos'!$I$5:$I$30000)","v":0},{"$f":"SUMIF('Base Datos'!$J$5:$J$30000,CONCATENATE(\"S\",B111),'Base Datos'!$I$5:$I$30000)","v":0},0,""]
[null,null,null,null,null,null,null,{"$f":"SUMIF('Base Datos'!$J$5:$J$30000,CONCATENATE(\"E\",B112),'Base Datos'!$I$5:$I$30000)","v":0},{"$f":"SUMIF('Base Datos'!$J$5:$J$30000,CONCATENATE(\"S\",B112),'Base Datos'!$I$5:$I$30000)","v":0},0,""]
[null,null,null,null,null,null,null,{"$f":"SUMIF('Base Datos'!$J$5:$J$30000,CONCATENATE(\"E\",B113),'Base Datos'!$I$5:$I$30000)","v":0},{"$f":"SUMIF('Base Datos'!$J$5:$J$30000,CONCATENATE(\"S\",B113),'Base Datos'!$I$5:$I$30000)","v":0},0,""]
[null,null,null,null,null,null,null,{"$f":"SUMIF('Base Datos'!$J$5:$J$30000,CONCATENATE(\"E\",B114),'Base Datos'!$I$5:$I$30000)","v":0},{"$f":"SUMIF('Base Datos'!$J$5:$J$30000,CONCATENATE(\"S\",B114),'Base Datos'!$I$5:$I$30000)","v":0},0,""]
[null,null,null,null,null,null,null,{"$f":"SUMIF('Base Datos'!$J$5:$J$30000,CONCATENATE(\"E\",B115),'Base Datos'!$I$5:$I$30000)","v":0},{"$f":"SUMIF('Base Datos'!$J$5:$J$30000,CONCATENATE(\"S\",B115),'Base Datos'!$I$5:$I$30000)","v":0},0,""]
[null,null,null,null,null,null,null,{"$f":"SUMIF('Base Datos'!$J$5:$J$30000,CONCATENATE(\"E\",B116),'Base Datos'!$I$5:$I$30000)","v":0},{"$f":"SUMIF('Base Datos'!$J$5:$J$30000,CONCATENATE(\"S\",B116),'Base Datos'!$I$5:$I$30000)","v":0},0,""]
[null,null,null,null,null,null,null,{"$f":"SUMIF('Base Datos'!$J$5:$J$30000,CONCATENATE(\"E\",B117),'Base Datos'!$I$5:$I$30000)","v":0},{"$f":"SUMIF('Base Datos'!$J$5:$J$30000,CONCATENATE(\"S\",B117),'Base Datos'!$I$5:$I$30000)","v":0},0,""]
[null,null,null,null,null,null,null,{"$f":"SUMIF('Base Datos'!$J$5:$J$30000,CONCATENATE(\"E\",B118),'Base Datos'!$I$5:$I$30000)","v":0},{"$f":"SUMIF('Base Datos'!$J$5:$J$30000,CONCATENATE(\"S\",B118),'Base Datos'!$I$5:$I$30000)","v":0},0,""]
[null,null,null,null,null,null,null,{"$f":"SUMIF('Base Datos'!$J$5:$J$30000,CONCATENATE(\"E\",B119),'Base Datos'!$I$5:$I$30000)","v":0},{"$f":"SUMIF('Base Datos'!$J$5:$J$30000,CONCATENATE(\"S\",B119),'Base Datos'!$I$5:$I$30000)","v":0},0,""]
[null,null,null,null,null,null,null,{"$f":"SUMIF('Base Datos'!$J$5:$J$30000,CONCATENATE(\"E\",B120),'Base Datos'!$I$5:$I$30000)","v":0},{"$f":"SUMIF('Base Datos'!$J$5:$J$30000,CONCATENATE(\"S\",B120),'Base Datos'!$I$5:$I$30000)","v":0},0,""]
[null,null,null,null,null,null,null,{"$f":"SUMIF('Base Datos'!$J$5:$J$30000,CONCATENATE(\"E\",B121),'Base Datos'!$I$5:$I$30000)","v":0},{"$f":"SUMIF('Base Datos'!$J$5:$J$30000,CONCATENATE(\"S\",B121),'Base Datos'!$I$5:$I$30000)","v":0},0,""]
[null,null,null,null,null,null,null,{"$f":"SUMIF('Base Datos'!$J$5:$J$30000,CONCATENATE(\"E\",B122),'Base Datos'!$I$5:$I$30000)","v":0},{"$f":"SUMIF('Base Datos'!$J$5:$J$30000,CONCATENATE(\"S\",B122),'Base Datos'!$I$5:$I$30000)","v":0},0,""]
[null,null,null,null,null,null,null,{"$f":"SUMIF('Base Datos'!$J$5:$J$30000,CONCATENATE(\"E\",B123),'Base Datos'!$I$5:$I$30000)","v":0},{"$f":"SUMIF('Base Datos'!$J$5:$J$30000,CONCATENATE(\"S\",B123),'Base Datos'!$I$5:$I$30000)","v":0},0,""]
[null,null,null,null,null,null,null,{"$f":"SUMIF('Base Datos'!$J$5:$J$30000,CONCATENATE(\"E\",B124),'Base Datos'!$I$5:$I$30000)","v":0},{"$f":"SUMIF('Base Datos'!$J$5:$J$30000,CONCATENATE(\"S\",B124),'Base Datos'!$I$5:$I$30000)","v":0},0,""]
[null,null,null,null,null,null,null,{"$f":"SUMIF('Base Datos'!$J$5:$J$30000,CONCATENATE(\"E\",B125),'Base Datos'!$I$5:$I$30000)","v":0},{"$f":"SUMIF('Base Datos'!$J$5:$J$30000,CONCATENATE(\"S\",B125),'Base Datos'!$I$5:$I$30000)","v":0},0,""]
[null,null,null,null,null,null,null,{"$f":"SUMIF('Base Datos'!$J$5:$J$30000,CONCATENATE(\"E\",B126),'Base Datos'!$I$5:$I$30000)","v":0},{"$f":"SUMIF('Base Datos'!$J$5:$J$30000,CONCATENATE(\"S\",B126),'Base Datos'!$I$5:$I$30000)","v":0},0,""]
[null,null,null,null,null,null,null,{"$f":"SUMIF('Base Datos'!$J$5:$J$30000,CONCATENATE(\"E\",B127),'Base Datos'!$I$5:$I$30000)","v":0},{"$f":"SUMIF('Base Datos'!$J$5:$J$30000,CONCATENATE(\"S\",B127),'Base Datos'!$I$5:$I$30000)","v":0},0,""]
[null,null,null,null,null,null,null,{"$f":"SUMIF('Base Datos'!$J$5:$J$30000,CONCATENATE(\"E\",B128),'Base Datos'!$I$5:$I$30000)","v":0},{"$f":"SUMIF('Base Datos'!$J$5:$J$30000,CONCATENATE(\"S\",B128),'Base Datos'!$I$5:$I$30000)","v":0},0,""]
[null,null,null,null,null,null,null,{"$f":"SUMIF('Base Datos'!$J$5:$J$30000,CONCATENATE(\"E\",B129),'Base Datos'!$I$5:$I$30000)","v":0},{"$f":"SUMIF('Base Datos'!$J$5:$J$30000,CONCATENATE(\"S\",B129),'Base Datos'!$I$5:$I$30000)","v":0},0,""]
[null,null,null,null,null,null,null,{"$f":"SUMIF('Base Datos'!$J$5:$J$30000,CONCATENATE(\"E\",B130),'Base Datos'!$I$5:$I$30000)","v":0},{"$f":"SUMIF('Base Datos'!$J$5:$J$30000,CONCATENATE(\"S\",B130),'Base Datos'!$I$5:$I$30000)","v":0},0,""]
[null,null,null,null,null,null,null,{"$f":"SUMIF('Base Datos'!$J$5:$J$30000,CONCATENATE(\"E\",B131),'Base Datos'!$I$5:$I$30000)","v":0},{"$f":"SUMIF('Base Datos'!$J$5:$J$30000,CONCATENATE(\"S\",B131),'Base Datos'!$I$5:$I$30000)","v":0},0,""]
[null,null,null,null,null,null,null,{"$f":"SUMIF('Base Datos'!$J$5:$J$30000,CONCATENATE(\"E\",B132),'Base Datos'!$I$5:$I$30000)","v":0},{"$f":"SUMIF('Base Datos'!$J$5:$J$30000,CONCATENATE(\"S\",B132),'Base Datos'!$I$5:$I$30000)","v":0},0,""]
[null,null,null,null,null,null,null,{"$f":"SUMIF('Base Datos'!$J$5:$J$30000,CONCATENATE(\"E\",B133),'Base Datos'!$I$5:$I$30000)","v":0},{"$f":"SUMIF('Base Datos'!$J$5:$J$30000,CONCATENATE(\"S\",B133),'Base Datos'!$I$5:$I$30000)","v":0},0,""]
[null,null,null,null,null,null,null,{"$f":"SUMIF('Base Datos'!$J$5:$J$30000,CONCATENATE(\"E\",B134),'Base Datos'!$I$5:$I$30000)","v":0},{"$f":"SUMIF('Base Datos'!$J$5:$J$30000,CONCATENATE(\"S\",B134),'Base Datos'!$I$5:$I$30000)","v":0},0,""]
[null,null,null,null,null,null,null,{"$f":"SUMIF('Base Datos'!$J$5:$J$30000,CONCATENATE(\"E\",B135),'Base Datos'!$I$5:$I$30000)","v":0},{"$f":"SUMIF('Base Datos'!$J$5:$J$30000,CONCATENATE(\"S\",B135),'Base Datos'!$I$5:$I$30000)","v":0},0,{"$f":"IFERROR(ROUND(J135/F135,0),\"\")","v":""}]
[null,null,null,null,null,null,null,{"$f":"SUMIF('Base Datos'!$J$5:$J$30000,CONCATENATE(\"E\",B136),'Base Datos'!$I$5:$I$30000)","v":0},{"$f":"SUMIF('Base Datos'!$J$5:$J$30000,CONCATENATE(\"S\",B136),'Base Datos'!$I$5:$I$30000)","v":0},0,""]
[null,null,null,null,null,null,null,{"$f":"SUMIF('Base Datos'!$J$5:$J$30000,CONCATENATE(\"E\",B137),'Base Datos'!$I$5:$I$30000)","v":0},{"$f":"SUMIF('Base Datos'!$J$5:$J$30000,CONCATENATE(\"S\",B137),'Base Datos'!$I$5:$I$30000)","v":0},0,""]
[null,null,null,null,null,null,null,{"$f":"SUMIF('Base Datos'!$J$5:$J$30000,CONCATENATE(\"E\",B138),'Base Datos'!$I$5:$I$30000)","v":0},{"$f":"SUMIF('Base Datos'!$J$5:$J$30000,CONCATENATE(\"S\",B138),'Base Datos'!$I$5:$I$30000)","v":0},0,""]
[null,null,null,null,null,null,null,{"$f":"SUMIF('Base Datos'!$J$5:$J$30000,CONCATENATE(\"E\",B139),'Base Datos'!$I$5:$I$30000)","v":0},{"$f":"SUMIF('Base Datos'!$J$5:$J$30000,CONCATENATE(\"S\",B139),'Base Datos'!$I$5:$I$30000)","v":0},0,""]
[null,null,null,null,null,null,null,{"$f":"SUMIF('Base Datos'!$J$5:$J$30000,CONCATENATE(\"E\",B140),'Base Datos'!$I$5:$I$30000)","v":0},{"$f":"SUMIF('Base Datos'!$J$5:$J$30000,CONCATENATE(\"S\",B140),'Base Datos'!$I$5:$I$30000)","v":0},0,""]
[null,null,null,null,null,null,null,{"$f":"SUMIF('Base Datos'!$J$5:$J$30000,CONCATENATE(\"E\",B141),'Base Datos'!$I$5:$I$30000)","v":0},{"$f":"SUMIF('Base Datos'!$J$5:$J$30000,CONCATENATE(\"S\",B141),'Base Datos'!$I$5:$I$30000)","v":0},{"$f":"(G141+H141-I141)","v":0},""]
[null,null,null,null,null,null,null,{"$f":"SUMIF('Base Datos'!$J$5:$J$30000,CONCATENATE(\"E\",B142),'Base Datos'!$I$5:$I$30000)","v":0},{"$f":"SUMIF('Base Datos'!$J$5:$J$30000,CONCATENATE(\"S\",B142),'Base Datos'!$I$5:$I$30000)","v":0},0,""]
[null,null,null,null,null,null,null,{"$f":"SUMIF('Base Datos'!$J$5:$J$30000,CONCATENATE(\"E\",B143),'Base Datos'!$I$5:$I$30000)","v":0},{"$f":"SUMIF('Base Datos'!$J$5:$J$30000,CONCATENATE(\"S\",B143),'Base Datos'!$I$5:$I$30000)","v":0},0,""]
[null,null,null,null,null,null,null,{"$f":"SUMIF('Base Datos'!$J$5:$J$30000,CONCATENATE(\"E\",B144),'Base Datos'!$I$5:$I$30000)","v":0},{"$f":"SUMIF('Base Datos'!$J$5:$J$30000,CONCATENATE(\"S\",B144),'Base Datos'!$I$5:$I$30000)","v":0},0,""]
[null,null,null,null,null,null,null,{"$f":"SUMIF('Base Datos'!$J$5:$J$30000,CONCATENATE(\"E\",B145),'Base Datos'!$I$5:$I$30000)","v":0},{"$f":"SUMIF('Base Datos'!$J$5:$J$30000,CONCATENATE(\"S\",B145),'Base Datos'!$I$5:$I$30000)","v":0},0,""]
[null,null,null,null,null,null,null,{"$f":"SUMIF('Base Datos'!$J$5:$J$30000,CONCATENATE(\"E\",B146),'Base Datos'!$I$5:$I$30000)","v":0},{"$f":"SUMIF('Base Datos'!$J$5:$J$30000,CONCATENATE(\"S\",B146),'Base Datos'!$I$5:$I$30000)","v":0},0,""]
[null,null,null,null,null,null,null,{"$f":"SUMIF('Base Datos'!$J$5:$J$30000,CONCATENATE(\"E\",B147),'Base Datos'!$I$5:$I$30000)","v":0},{"$f":"SUMIF('Base Datos'!$J$5:$J$30000,CONCATENATE(\"S\",B147),'Base Datos'!$I$5:$I$30000)","v":0},0,""]
[null,null,null,null,null,null,null,{"$f":"SUMIF('Base Datos'!$J$5:$J$30000,CONCATENATE(\"E\",B148),'Base Datos'!$I$5:$I$30000)","v":0},{"$f":"SUMIF('Base Datos'!$J$5:$J$30000,CONCATENATE(\"S\",B148),'Base Datos'!$I$5:$I$30000)","v":0},0,""]
[null,null,null,null,null,null,null,{"$f":"SUMIF('Base Datos'!$J$5:$J$30000,CONCATENATE(\"E\",B149),'Base Datos'!$I$5:$I$30000)","v":0},{"$f":"SUMIF('Base Datos'!$J$5:$J$30000,CONCATENATE(\"S\",B149),'Base Datos'!$I$5:$I$30000)","v":0},0,""]
[null,null,null,null,null,null,null,{"$f":"SUMIF('Base Datos'!$J$5:$J$30000,CONCATENATE(\"E\",B150),'Base Datos'!$I$5:$I$30000)","v":0},{"$f":"SUMIF('Base Datos'!$J$5:$J$30000,CONCATENATE(\"S\",B150),'Base Datos'!$I$5:$I$30000)","v":0},0,""]
[null,null,null,null,null,null,null,{"$f":"SUMIF('Base Datos'!$J$5:$J$30000,CONCATENATE(\"E\",B151),'Base Datos'!$I$5:$I$30000)","v":0},{"$f":"SUMIF('Base Datos'!$J$5:$J$30000,CONCATENATE(\"S\",B151),'Base Datos'!$I$5:$I$30000)","v":0},0,""]
[null,null,null,null,null,null,null,{"$f":"SUMIF('Base Datos'!$J$5:$J$30000,CONCATENATE(\"E\",B152),'Base Datos'!$I$5:$I$30000)","v":0},{"$f":"SUMIF('Base Datos'!$J$5:$J$30000,CONCATENATE(\"S\",B152),'Base Datos'!$I$5:$I$30000)","v":0},0,""]
[null,null,null,null,null,null,null,{"$f":"SUMIF('Base Datos'!$J$5:$J$30000,CONCATENATE(\"E\",B153),'Base Datos'!$I$5:$I$30000)","v":0},{"$f":"SUMIF('Base Datos'!$J$5:$J$30000,CONCATENATE(\"S\",B153),'Base Datos'!$I$5:$I$30000)","v":0},0,""]
[null,null,null,null,null,null,null,{"$f":"SUMIF('Base Datos'!$J$5:$J$30000,CONCATENATE(\"E\",B154),'Base Datos'!$I$5:$I$30000)","v":0},{"$f":"SUMIF('Base Datos'!$J$5:$J$30000,CONCATENATE(\"S\",B154),'Base Datos'!$I$5:$I$30000)","v":0},0,""]
[null,null,null,null,null,null,null,{"$f":"SUMIF('Base Datos'!$J$5:$J$30000,CONCATENATE(\"E\",B155),'Base Datos'!$I$5:$I$30000)","v":0},{"$f":"SUMIF('Base Datos'!$J$5:$J$30000,CONCATENATE(\"S\",B155),'Base Datos'!$I$5:$I$30000)","v":0},0,""]
[null,null,null,null,null,null,null,{"$f":"SUMIF('Base Datos'!$J$5:$J$30000,CONCATENATE(\"E\",B156),'Base Datos'!$I$5:$I$30000)","v":0},{"$f":"SUMIF('Base Datos'!$J$5:$J$30000,CONCATENATE(\"S\",B156),'Base Datos'!$I$5:$I$30000)","v":0},0,""]
[null,null,null,null,null,null,null,{"$f":"SUMIF('Base Datos'!$J$5:$J$30000,CONCATENATE(\"E\",B157),'Base Datos'!$I$5:$I$30000)","v":0},{"$f":"SUMIF('Base Datos'!$J$5:$J$30000,CONCATENATE(\"S\",B157),'Base Datos'!$I$5:$I$30000)","v":0},0,""]
[null,null,null,null,null,null,null,{"$f":"SUMIF('Base Datos'!$J$5:$J$30000,CONCATENATE(\"E\",B158),'Base Datos'!$I$5:$I$30000)","v":0},{"$f":"SUMIF('Base Datos'!$J$5:$J$30000,CONCATENATE(\"S\",B158),'Base Datos'!$I$5:$I$30000)","v":0},0,""]
[null,null,null,null,null,null,null,{"$f":"SUMIF('Base Datos'!$J$5:$J$30000,CONCATENATE(\"E\",B159),'Base Datos'!$I$5:$I$30000)","v":0},{"$f":"SUMIF('Base Datos'!$J$5:$J$30000,CONCATENATE(\"S\",B159),'Base Datos'!$I$5:$I$30000)","v":0},0,""]
[null,null,null,null,null,null,null,{"$f":"SUMIF('Base Datos'!$J$5:$J$30000,CONCATENATE(\"E\",B160),'Base Datos'!$I$5:$I$30000)","v":0},{"$f":"SUMIF('Base Datos'!$J$5:$J$30000,CONCATENATE(\"S\",B160),'Base Datos'!$I$5:$I$30000)","v":0},0,""]
[null,null,null,null,null,null,null,{"$f":"SUMIF('Base Datos'!$J$5:$J$30000,CONCATENATE(\"E\",B161),'Base Datos'!$I$5:$I$30000)","v":0},{"$f":"SUMIF('Base Datos'!$J$5:$J$30000,CONCATENATE(\"S\",B161),'Base Datos'!$I$5:$I$30000)","v":0},0,""]
[null,null,null,null,null,null,null,{"$f":"SUMIF('Base Datos'!$J$5:$J$30000,CONCATENATE(\"E\",B162),'Base Datos'!$I$5:$I$30000)","v":0},{"$f":"SUMIF('Base Datos'!$J$5:$J$30000,CONCATENATE(\"S\",B162),'Base Datos'!$I$5:$I$30000)","v":0},0,""]
[null,null,null,null,null,null,null,{"$f":"SUMIF('Base Datos'!$J$5:$J$30000,CONCATENATE(\"E\",B163),'Base Datos'!$I$5:$I$30000)","v":0},{"$f":"SUMIF('Base Datos'!$J$5:$J$30000,CONCATENATE(\"S\",B163),'Base Datos'!$I$5:$I$30000)","v":0},0,""]
[null,null,null,null,null,null,null,{"$f":"SUMIF('Base Datos'!$J$5:$J$30000,CONCATENATE(\"E\",B164),'Base Datos'!$I$5:$I$30000)","v":0},{"$f":"SUMIF('Base Datos'!$J$5:$J$30000,CONCATENATE(\"S\",B164),'Base Datos'!$I$5:$I$30000)","v":0},0,""]
[null,null,null,null,null,null,null,{"$f":"SUMIF('Base Datos'!$J$5:$J$30000,CONCATENATE(\"E\",B165),'Base Datos'!$I$5:$I$30000)","v":0},{"$f":"SUMIF('Base Datos'!$J$5:$J$30000,CONCATENATE(\"S\",B165),'Base Datos'!$I$5:$I$30000)","v":0},0,""]
[null,null,null,null,null,null,null,{"$f":"SUMIF('Base Datos'!$J$5:$J$30000,CONCATENATE(\"E\",B166),'Base Datos'!$I$5:$I$30000)","v":0},{"$f":"SUMIF('Base Datos'!$J$5:$J$30000,CONCATENATE(\"S\",B166),'Base Datos'!$I$5:$I$30000)","v":0},0,""]
[null,null,null,null,null,null,null,{"$f":"SUMIF('Base Datos'!$J$5:$J$30000,CONCATENATE(\"E\",B167),'Base Datos'!$I$5:$I$30000)","v":0},{"$f":"SUMIF('Base Datos'!$J$5:$J$30000,CONCATENATE(\"S\",B167),'Base Datos'!$I$5:$I$30000)","v":0},0,""]
[null,null,null,null,null,null,null,{"$f":"SUMIF('Base Datos'!$J$5:$J$30000,CONCATENATE(\"E\",B168),'Base Datos'!$I$5:$I$30000)","v":0},{"$f":"SUMIF('Base Datos'!$J$5:$J$30000,CONCATENATE(\"S\",B168),'Base Datos'!$I$5:$I$30000)","v":0},0,""]
[null,null,null,null,null,null,null,{"$f":"SUMIF('Base Datos'!$J$5:$J$30000,CONCATENATE(\"E\",B169),'Base Datos'!$I$5:$I$30000)","v":0},{"$f":"SUMIF('Base Datos'!$J$5:$J$30000,CONCATENATE(\"S\",B169),'Base Datos'!$I$5:$I$30000)","v":0},0,""]
[null,null,null,null,null,null,null,{"$f":"SUMIF('Base Datos'!$J$5:$J$30000,CONCATENATE(\"E\",B170),'Base Datos'!$I$5:$I$30000)","v":0},{"$f":"SUMIF('Base Datos'!$J$5:$J$30000,CONCATENATE(\"S\",B170),'Base Datos'!$I$5:$I$30000)","v":0},0,""]
[null,null,null,null,null,null,null,{"$f":"SUMIF('Base Datos'!$J$5:$J$30000,CONCATENATE(\"E\",B171),'Base Datos'!$I$5:$I$30000)","v":0},{"$f":"SUMIF('Base Datos'!$J$5:$J$30000,CONCATENATE(\"S\",B171),'Base Datos'!$I$5:$I$30000)","v":0},0,""]
[null,null,null,null,null,null,null,{"$f":"SUMIF('Base Datos'!$J$5:$J$30000,CONCATENATE(\"E\",B172),'Base Datos'!$I$5:$I$30000)","v":0},{"$f":"SUMIF('Base Datos'!$J$5:$J$30000,CONCATENATE(\"S\",B172),'Base Datos'!$I$5:$I$30000)","v":0},0,""]
[null,null,null,null,null,null,null,{"$f":"SUMIF('Base Datos'!$J$5:$J$30000,CONCATENATE(\"E\",B173),'Base Datos'!$I$5:$I$30000)","v":0},{"$f":"SUMIF('Base Datos'!$J$5:$J$30000,CONCATENATE(\"S\",B173),'Base Datos'!$I$5:$I$30000)","v":0},0,""]
[null,null,null,null,null,null,null,{"$f":"SUMIF('Base Datos'!$J$5:$J$30000,CONCATENATE(\"E\",B174),'Base Datos'!$I$5:$I$30000)","v":0},{"$f":"SUMIF('Base Datos'!$J$5:$J$30000,CONCATENATE(\"S\",B174),'Base Datos'!$I$5:$I$30000)","v":0},0,""]
[null,null,null,null,null,null,null,{"$f":"SUMIF('Base Datos'!$J$5:$J$30000,CONCATENATE(\"E\",B175),'Base Datos'!$I$5:$I$30000)","v":0},{"$f":"SUMIF('Base Datos'!$J$5:$J$30000,CONCATENATE(\"S\",B175),'Base Datos'!$I$5:$I$30000)","v":0},0,""]
[null,null,null,null,null,null,null,{"$f":"SUMIF('Base Datos'!$J$5:$J$30000,CONCATENATE(\"E\",B176),'Base Datos'!$I$5:$I$30000)","v":0},{"$f":"SUMIF('Base Datos'!$J$5:$J$30000,CONCATENATE(\"S\",B176),'Base Datos'!$I$5:$I$30000)","v":0},0,""]
[null,null,null,null,null,null,null,{"$f":"SUMIF('Base Datos'!$J$5:$J$30000,CONCATENATE(\"E\",B177),'Base Datos'!$I$5:$I$30000)","v":0},{"$f":"SUMIF('Base Datos'!$J$5:$J$30000,CONCATENATE(\"S\",B177),'Base Datos'!$I$5:$I$30000)","v":0},0,""]
[null,null,null,null,null,null,null,{"$f":"SUMIF('Base Datos'!$J$5:$J$30000,CONCATENATE(\"E\",B178),'Base Datos'!$I$5:$I$30000)","v":0},{"$f":"SUMIF('Base Datos'!$J$5:$J$30000,CONCATENATE(\"S\",B178),'Base Datos'!$I$5:$I$30000)","v":0},0,""]
[null,null,null,null,null,null,null,{"$f":"SUMIF('Base Datos'!$J$5:$J$30000,CONCATENATE(\"E\",B179),'Base Datos'!$I$5:$I$30000)","v":0},{"$f":"SUMIF('Base Datos'!$J$5:$J$30000,CONCATENATE(\"S\",B179),'Base Datos'!$I$5:$I$30000)","v":0},0,""]
[null,null,null,null,null,null,null,{"$f":"SUMIF('Base Datos'!$J$5:$J$30000,CONCATENATE(\"E\",B180),'Base Datos'!$I$5:$I$30000)","v":0},{"$f":"SUMIF('Base Datos'!$J$5:$J$30000,CONCATENATE(\"S\",B180),'Base Datos'!$I$5:$I$30000)","v":0},0,""]
[null,null,null,null,null,null,null,{"$f":"SUMIF('Base Datos'!$J$5:$J$30000,CONCATENATE(\"E\",B181),'Base Datos'!$I$5:$I$30000)","v":0},{"$f":"SUMIF('Base Datos'!$J$5:$J$30000,CONCATENATE(\"S\",B181),'Base Datos'!$I$5:$I$30000)","v":0},0,""]
[null,null,null,null,null,null,null,{"$f":"SUMIF('Base Datos'!$J$5:$J$30000,CONCATENATE(\"E\",B182),'Base Datos'!$I$5:$I$30000)","v":0},{"$f":"SUMIF('Base Datos'!$J$5:$J$30000,CONCATENATE(\"S\",B182),'Base Datos'!$I$5:$I$30000)","v":0},0,""]
[null,null,null,null,null,null,null,{"$f":"SUMIF('Base Datos'!$J$5:$J$30000,CONCATENATE(\"E\",B183),'Base Datos'!$I$5:$I$30000)","v":0},{"$f":"SUMIF('Base Datos'!$J$5:$J$30000,CONCATENATE(\"S\",B183),'Base Datos'!$I$5:$I$30000)","v":0},0,""]
[null,null,null,null,null,null,null,{"$f":"SUMIF('Base Datos'!$J$5:$J$30000,CONCATENATE(\"E\",B184),'Base Datos'!$I$5:$I$30000)","v":0},{"$f":"SUMIF('Base Datos'!$J$5:$J$30000,CONCATENATE(\"S\",B184),'Base Datos'!$I$5:$I$30000)","v":0},0,""]
[null,null,null,null,null,null,null,{"$f":"SUMIF('Base Datos'!$J$5:$J$30000,CONCATENATE(\"E\",B185),'Base Datos'!$I$5:$I$30000)","v":0},{"$f":"SUMIF('Base Datos'!$J$5:$J$30000,CONCATENATE(\"S\",B185),'Base Datos'!$I$5:$I$30000)","v":0},0,""]
[null,null,null,null,null,null,null,{"$f":"SUMIF('Base Datos'!$J$5:$J$30000,CONCATENATE(\"E\",B186),'Base Datos'!$I$5:$I$30000)","v":0},{"$f":"SUMIF('Base Datos'!$J$5:$J$30000,CONCATENATE(\"S\",B186),'Base Datos'!$I$5:$I$30000)","v":0},0,""]
[null,null,null,null,null,null,null,{"$f":"SUMIF('Base Datos'!$J$5:$J$30000,CONCATENATE(\"E\",B187),'Base Datos'!$I$5:$I$30000)","v":0},{"$f":"SUMIF('Base Datos'!$J$5:$J$30000,CONCATENATE(\"S\",B187),'Base Datos'!$I$5:$I$30000)","v":0},0,""]
[null,null,null,null,null,null,null,{"$f":"SUMIF('Base Datos'!$J$5:$J$30000,CONCATENATE(\"E\",B188),'Base Datos'!$I$5:$I$30000)","v":0},{"$f":"SUMIF('Base Datos'!$J$5:$J$30000,CONCATENATE(\"S\",B188),'Base Datos'!$I$5:$I$30000)","v":0},0,""]
[null,null,null,null,null,null,null,{"$f":"SUMIF('Base Datos'!$J$5:$J$30000,CONCATENATE(\"E\",B189),'Base Datos'!$I$5:$I$30000)","v":0},{"$f":"SUMIF('Base Datos'!$J$5:$J$30000,CONCATENATE(\"S\",B189),'Base Datos'!$I$5:$I$30000)","v":0},0,""]
[null,null,null,null,null,null,null,{"$f":"SUMIF('Base Datos'!$J$5:$J$30000,CONCATENATE(\"E\",B190),'Base Datos'!$I$5:$I$30000)","v":0},{"$f":"SUMIF('Base Datos'!$J$5:$J$30000,CONCATENATE(\"S\",B190),'Base Datos'!$I$5:$I$30000)","v":0},0,""]
[null,null,null,null,null,null,null,{"$f":"SUMIF('Base Datos'!$J$5:$J$30000,CONCATENATE(\"E\",B191),'Base Datos'!$I$5:$I$30000)","v":0},{"$f":"SUMIF('Base Datos'!$J$5:$J$30000,CONCATENATE(\"S\",B191),'Base Datos'!$I$5:$I$30000)","v":0},0,""]
[null,null,null,null,null,null,null,{"$f":"SUMIF('Base Datos'!$J$5:$J$30000,CONCATENATE(\"E\",B192),'Base Datos'!$I$5:$I$30000)","v":0},{"$f":"SUMIF('Base Datos'!$J$5:$J$30000,CONCATENATE(\"S\",B192),'Base Datos'!$I$5:$I$30000)","v":0},0,""]
[null,null,null,null,null,null,null,{"$f":"SUMIF('Base Datos'!$J$5:$J$30000,CONCATENATE(\"E\",B193),'Base Datos'!$I$5:$I$30000)","v":0},{"$f":"SUMIF('Base Datos'!$J$5:$J$30000,CONCATENATE(\"S\",B193),'Base Datos'!$I$5:$I$30000)","v":0},0,""]
[null,null,null,null,null,null,null,{"$f":"SUMIF('Base Datos'!$J$5:$J$30000,CONCATENATE(\"E\",B194),'Base Datos'!$I$5:$I$30000)","v":0},{"$f":"SUMIF('Base Datos'!$J$5:$J$30000,CONCATENATE(\"S\",B194),'Base Datos'!$I$5:$I$30000)","v":0},0,""]
[null,null,null,null,null,null,null,{"$f":"SUMIF('Base Datos'!$J$5:$J$30000,CONCATENATE(\"E\",B195),'Base Datos'!$I$5:$I$30000)","v":0},{"$f":"SUMIF('Base Datos'!$J$5:$J$30000,CONCATENATE(\"S\",B195),'Base Datos'!$I$5:$I$30000)","v":0},0,""]
[null,null,null,null,null,null,null,{"$f":"SUMIF('Base Datos'!$J$5:$J$30000,CONCATENATE(\"E\",B196),'Base Datos'!$I$5:$I$30000)","v":0},{"$f":"SUMIF('Base Datos'!$J$5:$J$30000,CONCATENATE(\"S\",B196),'Base Datos'!$I$5:$I$30000)","v":0},0,""]
[null,null,null,null,null,null,null,{"$f":"SUMIF('Base Datos'!$J$5:$J$30000,CONCATENATE(\"E\",B197),'Base Datos'!$I$5:$I$30000)","v":0},{"$f":"SUMIF('Base Datos'!$J$5:$J$30000,CONCATENATE(\"S\",B197),'Base Datos'!$I$5:$I$30000)","v":0},0,""]
[null,null,null,null,null,null,null,{"$f":"SUMIF('Base Datos'!$J$5:$J$30000,CONCATENATE(\"E\",B198),'Base Datos'!$I$5:$I$30000)","v":0},{"$f":"SUMIF('Base Datos'!$J$5:$J$30000,CONCATENATE(\"S\",B198),'Base Datos'!$I$5:$I$30000)","v":0},0,""]
[null,null,null,null,null,null,null,{"$f":"SUMIF('Base Datos'!$J$5:$J$30000,CONCATENATE(\"E\",B199),'Base Datos'!$I$5:$I$30000)","v":0},{"$f":"SUMIF('Base Datos'!$J$5:$J$30000,CONCATENATE(\"S\",B199),'Base Datos'!$I$5:$I$30000)","v":0},0,{"$f":"IFERROR(ROUND(J199/F199,0),\"\")","v":""}]
[null,null,null,null,null,null,null,{"$f":"SUMIF('Base Datos'!$J$5:$J$30000,CONCATENATE(\"E\",B200),'Base Datos'!$I$5:$I$30000)","v":0},{"$f":"SUMIF('Base Datos'!$J$5:$J$30000,CONCATENATE(\"S\",B200),'Base Datos'!$I$5:$I$30000)","v":0},0,""]
[null,null,null,null,null,null,null,{"$f":"SUMIF('Base Datos'!$J$5:$J$30000,CONCATENATE(\"E\",B201),'Base Datos'!$I$5:$I$30000)","v":0},{"$f":"SUMIF('Base Datos'!$J$5:$J$30000,CONCATENATE(\"S\",B201),'Base Datos'!$I$5:$I$30000)","v":0},0,""]
[null,null,null,null,null,null,null,{"$f":"SUMIF('Base Datos'!$J$5:$J$30000,CONCATENATE(\"E\",B202),'Base Datos'!$I$5:$I$30000)","v":0},{"$f":"SUMIF('Base Datos'!$J$5:$J$30000,CONCATENATE(\"S\",B202),'Base Datos'!$I$5:$I$30000)","v":0},0,""]
[null,null,null,null,null,null,null,{"$f":"SUMIF('Base Datos'!$J$5:$J$30000,CONCATENATE(\"E\",B203),'Base Datos'!$I$5:$I$30000)","v":0},{"$f":"SUMIF('Base Datos'!$J$5:$J$30000,CONCATENATE(\"S\",B203),'Base Datos'!$I$5:$I$30000)","v":0},0,""]
[null,null,null,null,null,null,null,{"$f":"SUMIF('Base Datos'!$J$5:$J$30000,CONCATENATE(\"E\",B204),'Base Datos'!$I$5:$I$30000)","v":0},{"$f":"SUMIF('Base Datos'!$J$5:$J$30000,CONCATENATE(\"S\",B204),'Base Datos'!$I$5:$I$30000)","v":0},0,""]
[null,null,null,null,null,null,null,{"$f":"SUMIF('Base Datos'!$J$5:$J$30000,CONCATENATE(\"E\",B205),'Base Datos'!$I$5:$I$30000)","v":0},{"$f":"SUMIF('Base Datos'!$J$5:$J$30000,CONCATENATE(\"S\",B205),'Base Datos'!$I$5:$I$30000)","v":0},{"$f":"(G205+H205-I205)","v":0},""]
[null,null,null,null,null,null,null,{"$f":"SUMIF('Base Datos'!$J$5:$J$30000,CONCATENATE(\"E\",B206),'Base Datos'!$I$5:$I$30000)","v":0},{"$f":"SUMIF('Base Datos'!$J$5:$J$30000,CONCATENATE(\"S\",B206),'Base Datos'!$I$5:$I$30000)","v":0},0,""]
[null,null,null,null,null,null,null,{"$f":"SUMIF('Base Datos'!$J$5:$J$30000,CONCATENATE(\"E\",B207),'Base Datos'!$I$5:$I$30000)","v":0},{"$f":"SUMIF('Base Datos'!$J$5:$J$30000,CONCATENATE(\"S\",B207),'Base Datos'!$I$5:$I$30000)","v":0},0,""]
[null,null,null,null,null,null,null,{"$f":"SUMIF('Base Datos'!$J$5:$J$30000,CONCATENATE(\"E\",B208),'Base Datos'!$I$5:$I$30000)","v":0},{"$f":"SUMIF('Base Datos'!$J$5:$J$30000,CONCATENATE(\"S\",B208),'Base Datos'!$I$5:$I$30000)","v":0},0,""]
[null,null,null,null,null,null,null,{"$f":"SUMIF('Base Datos'!$J$5:$J$30000,CONCATENATE(\"E\",B209),'Base Datos'!$I$5:$I$30000)","v":0},{"$f":"SUMIF('Base Datos'!$J$5:$J$30000,CONCATENATE(\"S\",B209),'Base Datos'!$I$5:$I$30000)","v":0},0,""]
[null,null,null,null,null,null,null,{"$f":"SUMIF('Base Datos'!$J$5:$J$30000,CONCATENATE(\"E\",B210),'Base Datos'!$I$5:$I$30000)","v":0},{"$f":"SUMIF('Base Datos'!$J$5:$J$30000,CONCATENATE(\"S\",B210),'Base Datos'!$I$5:$I$30000)","v":0},0,""]
[null,null,null,null,null,null,null,{"$f":"SUMIF('Base Datos'!$J$5:$J$30000,CONCATENATE(\"E\",B211),'Base Datos'!$I$5:$I$30000)","v":0},{"$f":"SUMIF('Base Datos'!$J$5:$J$30000,CONCATENATE(\"S\",B211),'Base Datos'!$I$5:$I$30000)","v":0},0,""]
[null,null,null,null,null,null,null,{"$f":"SUMIF('Base Datos'!$J$5:$J$30000,CONCATENATE(\"E\",B212),'Base Datos'!$I$5:$I$30000)","v":0},{"$f":"SUMIF('Base Datos'!$J$5:$J$30000,CONCATENATE(\"S\",B212),'Base Datos'!$I$5:$I$30000)","v":0},0,""]
[null,null,null,null,null,null,null,{"$f":"SUMIF('Base Datos'!$J$5:$J$30000,CONCATENATE(\"E\",B213),'Base Datos'!$I$5:$I$30000)","v":0},{"$f":"SUMIF('Base Datos'!$J$5:$J$30000,CONCATENATE(\"S\",B213),'Base Datos'!$I$5:$I$30000)","v":0},0,""]
[null,null,null,null,null,null,null,{"$f":"SUMIF('Base Datos'!$J$5:$J$30000,CONCATENATE(\"E\",B214),'Base Datos'!$I$5:$I$30000)","v":0},{"$f":"SUMIF('Base Datos'!$J$5:$J$30000,CONCATENATE(\"S\",B214),'Base Datos'!$I$5:$I$30000)","v":0},0,""]
[null,null,null,null,null,null,null,{"$f":"SUMIF('Base Datos'!$J$5:$J$30000,CONCATENATE(\"E\",B215),'Base Datos'!$I$5:$I$30000)","v":0},{"$f":"SUMIF('Base Datos'!$J$5:$J$30000,CONCATENATE(\"S\",B215),'Base Datos'!$I$5:$I$30000)","v":0},0,""]
[null,null,null,null,null,null,null,{"$f":"SUMIF('Base Datos'!$J$5:$J$30000,CONCATENATE(\"E\",B216),'Base Datos'!$I$5:$I$30000)","v":0},{"$f":"SUMIF('Base Datos'!$J$5:$J$30000,CONCATENATE(\"S\",B216),'Base Datos'!$I$5:$I$30000)","v":0},0,""]
[null,null,null,null,null,null,null,{"$f":"SUMIF('Base Datos'!$J$5:$J$30000,CONCATENATE(\"E\",B217),'Base Datos'!$I$5:$I$30000)","v":0},{"$f":"SUMIF('Base Datos'!$J$5:$J$30000,CONCATENATE(\"S\",B217),'Base Datos'!$I$5:$I$30000)","v":0},0,""]
[null,null,null,null,null,null,null,{"$f":"SUMIF('Base Datos'!$J$5:$J$30000,CONCATENATE(\"E\",B218),'Base Datos'!$I$5:$I$30000)","v":0},{"$f":"SUMIF('Base Datos'!$J$5:$J$30000,CONCATENATE(\"S\",B218),'Base Datos'!$I$5:$I$30000)","v":0},0,""]
[null,null,null,null,null,null,null,{"$f":"SUMIF('Base Datos'!$J$5:$J$30000,CONCATENATE(\"E\",B219),'Base Datos'!$I$5:$I$30000)","v":0},{"$f":"SUMIF('Base Datos'!$J$5:$J$30000,CONCATENATE(\"S\",B219),'Base Datos'!$I$5:$I$30000)","v":0},0,""]
[null,null,null,null,null,null,null,{"$f":"SUMIF('Base Datos'!$J$5:$J$30000,CONCATENATE(\"E\",B220),'Base Datos'!$I$5:$I$30000)","v":0},{"$f":"SUMIF('Base Datos'!$J$5:$J$30000,CONCATENATE(\"S\",B220),'Base Datos'!$I$5:$I$30000)","v":0},0,""]
[null,null,null,null,null,null,null,{"$f":"SUMIF('Base Datos'!$J$5:$J$30000,CONCATENATE(\"E\",B221),'Base Datos'!$I$5:$I$30000)","v":0},{"$f":"SUMIF('Base Datos'!$J$5:$J$30000,CONCATENATE(\"S\",B221),'Base Datos'!$I$5:$I$30000)","v":0},0,""]
[null,null,null,null,null,null,null,{"$f":"SUMIF('Base Datos'!$J$5:$J$30000,CONCATENATE(\"E\",B222),'Base Datos'!$I$5:$I$30000)","v":0},{"$f":"SUMIF('Base Datos'!$J$5:$J$30000,CONCATENATE(\"S\",B222),'Base Datos'!$I$5:$I$30000)","v":0},0,""]
[null,null,null,null,null,null,null,{"$f":"SUMIF('Base Datos'!$J$5:$J$30000,CONCATENATE(\"E\",B223),'Base Datos'!$I$5:$I$30000)","v":0},{"$f":"SUMIF('Base Datos'!$J$5:$J$30000,CONCATENATE(\"S\",B223),'Base Datos'!$I$5:$I$30000)","v":0},0,""]
[null,null,null,null,null,null,null,{"$f":"SUMIF('Base Datos'!$J$5:$J$30000,CONCATENATE(\"E\",B224),'Base Datos'!$I$5:$I$30000)","v":0},{"$f":"SUMIF('Base Datos'!$J$5:$J$30000,CONCATENATE(\"S\",B224),'Base Datos'!$I$5:$I$30000)","v":0},0,""]
[null,null,null,null,null,null,null,{"$f":"SUMIF('Base Datos'!$J$5:$J$30000,CONCATENATE(\"E\",B225),'Base Datos'!$I$5:$I$30000)","v":0},{"$f":"SUMIF('Base Datos'!$J$5:$J$30000,CONCATENATE(\"S\",B225),'Base Datos'!$I$5:$I$30000)","v":0},0,""]
[null,null,null,null,null,null,null,{"$f":"SUMIF('Base Datos'!$J$5:$J$30000,CONCATENATE(\"E\",B226),'Base Datos'!$I$5:$I$30000)","v":0},{"$f":"SUMIF('Base Datos'!$J$5:$J$30000,CONCATENATE(\"S\",B226),'Base Datos'!$I$5:$I$30000)","v":0},0,""]
[null,null,null,null,null,null,null,{"$f":"SUMIF('Base Datos'!$J$5:$J$30000,CONCATENATE(\"E\",B227),'Base Datos'!$I$5:$I$30000)","v":0},{"$f":"SUMIF('Base Datos'!$J$5:$J$30000,CONCATENATE(\"S\",B227),'Base Datos'!$I$5:$I$30000)","v":0},0,""]
[null,null,null,null,null,null,null,{"$f":"SUMIF('Base Datos'!$J$5:$J$30000,CONCATENATE(\"E\",B228),'Base Datos'!$I$5:$I$30000)","v":0},{"$f":"SUMIF('Base Datos'!$J$5:$J$30000,CONCATENATE(\"S\",B228),'Base Datos'!$I$5:$I$30000)","v":0},0,""]
[null,null,null,null,null,null,null,{"$f":"SUMIF('Base Datos'!$J$5:$J$30000,CONCATENATE(\"E\",B229),'Base Datos'!$I$5:$I$30000)","v":0},{"$f":"SUMIF('Base Datos'!$J$5:$J$30000,CONCATENATE(\"S\",B229),'Base Datos'!$I$5:$I$30000)","v":0},0,""]
[null,null,null,null,null,null,null,{"$f":"SUMIF('Base Datos'!$J$5:$J$30000,CONCATENATE(\"E\",B230),'Base Datos'!$I$5:$I$30000)","v":0},{"$f":"SUMIF('Base Datos'!$J$5:$J$30000,CONCATENATE(\"S\",B230),'Base Datos'!$I$5:$I$30000)","v":0},0,""]
[null,null,null,null,null,null,null,{"$f":"SUMIF('Base Datos'!$J$5:$J$30000,CONCATENATE(\"E\",B231),'Base Datos'!$I$5:$I$30000)","v":0},{"$f":"SUMIF('Base Datos'!$J$5:$J$30000,CONCATENATE(\"S\",B231),'Base Datos'!$I$5:$I$30000)","v":0},0,""]
[null,null,null,null,null,null,null,{"$f":"SUMIF('Base Datos'!$J$5:$J$30000,CONCATENATE(\"E\",B232),'Base Datos'!$I$5:$I$30000)","v":0},{"$f":"SUMIF('Base Datos'!$J$5:$J$30000,CONCATENATE(\"S\",B232),'Base Datos'!$I$5:$I$30000)","v":0},0,""]
[null,null,null,null,null,null,null,{"$f":"SUMIF('Base Datos'!$J$5:$J$30000,CONCATENATE(\"E\",B233),'Base Datos'!$I$5:$I$30000)","v":0},{"$f":"SUMIF('Base Datos'!$J$5:$J$30000,CONCATENATE(\"S\",B233),'Base Datos'!$I$5:$I$30000)","v":0},0,""]
[null,null,null,null,null,null,null,{"$f":"SUMIF('Base Datos'!$J$5:$J$30000,CONCATENATE(\"E\",B234),'Base Datos'!$I$5:$I$30000)","v":0},{"$f":"SUMIF('Base Datos'!$J$5:$J$30000,CONCATENATE(\"S\",B234),'Base Datos'!$I$5:$I$30000)","v":0},0,""]
[null,null,null,null,null,null,null,{"$f":"SUMIF('Base Datos'!$J$5:$J$30000,CONCATENATE(\"E\",B235),'Base Datos'!$I$5:$I$30000)","v":0},{"$f":"SUMIF('Base Datos'!$J$5:$J$30000,CONCATENATE(\"S\",B235),'Base Datos'!$I$5:$I$30000)","v":0},0,""]
[null,null,null,null,null,null,null,{"$f":"SUMIF('Base Datos'!$J$5:$J$30000,CONCATENATE(\"E\",B236),'Base Datos'!$I$5:$I$30000)","v":0},{"$f":"SUMIF('Base Datos'!$J$5:$J$30000,CONCATENATE(\"S\",B236),'Base Datos'!$I$5:$I$30000)","v":0},0,""]
[null,null,null,null,null,null,null,{"$f":"SUMIF('Base Datos'!$J$5:$J$30000,CONCATENATE(\"E\",B237),'Base Datos'!$I$5:$I$30000)","v":0},{"$f":"SUMIF('Base Datos'!$J$5:$J$30000,CONCATENATE(\"S\",B237),'Base Datos'!$I$5:$I$30000)","v":0},0,""]
[null,null,null,null,null,null,null,{"$f":"SUMIF('Base Datos'!$J$5:$J$30000,CONCATENATE(\"E\",B238),'Base Datos'!$I$5:$I$30000)","v":0},{"$f":"SUMIF('Base Datos'!$J$5:$J$30000,CONCATENATE(\"S\",B238),'Base Datos'!$I$5:$I$30000)","v":0},0,""]
[null,null,null,null,null,null,null,{"$f":"SUMIF('Base Datos'!$J$5:$J$30000,CONCATENATE(\"E\",B239),'Base Datos'!$I$5:$I$30000)","v":0},{"$f":"SUMIF('Base Datos'!$J$5:$J$30000,CONCATENATE(\"S\",B239),'Base Datos'!$I$5:$I$30000)","v":0},0,""]
[null,null,null,null,null,null,null,{"$f":"SUMIF('Base Datos'!$J$5:$J$30000,CONCATENATE(\"E\",B240),'Base Datos'!$I$5:$I$30000)","v":0},{"$f":"SUMIF('Base Datos'!$J$5:$J$30000,CONCATENATE(\"S\",B240),'Base Datos'!$I$5:$I$30000)","v":0},0,""]
[null,null,null,null,null,null,null,{"$f":"SUMIF('Base Datos'!$J$5:$J$30000,CONCATENATE(\"E\",B241),'Base Datos'!$I$5:$I$30000)","v":0},{"$f":"SUMIF('Base Datos'!$J$5:$J$30000,CONCATENATE(\"S\",B241),'Base Datos'!$I$5:$I$30000)","v":0},0,""]
[null,null,null,null,null,null,null,{"$f":"SUMIF('Base Datos'!$J$5:$J$30000,CONCATENATE(\"E\",B242),'Base Datos'!$I$5:$I$30000)","v":0},{"$f":"SUMIF('Base Datos'!$J$5:$J$30000,CONCATENATE(\"S\",B242),'Base Datos'!$I$5:$I$30000)","v":0},0,""]
[null,null,null,null,null,null,null,{"$f":"SUMIF('Base Datos'!$J$5:$J$30000,CONCATENATE(\"E\",B243),'Base Datos'!$I$5:$I$30000)","v":0},{"$f":"SUMIF('Base Datos'!$J$5:$J$30000,CONCATENATE(\"S\",B243),'Base Datos'!$I$5:$I$30000)","v":0},0,""]
[null,null,null,null,null,null,null,{"$f":"SUMIF('Base Datos'!$J$5:$J$30000,CONCATENATE(\"E\",B244),'Base Datos'!$I$5:$I$30000)","v":0},{"$f":"SUMIF('Base Datos'!$J$5:$J$30000,CONCATENATE(\"S\",B244),'Base Datos'!$I$5:$I$30000)","v":0},0,""]
[null,null,null,null,null,null,null,{"$f":"SUMIF('Base Datos'!$J$5:$J$30000,CONCATENATE(\"E\",B245),'Base Datos'!$I$5:$I$30000)","v":0},{"$f":"SUMIF('Base Datos'!$J$5:$J$30000,CONCATENATE(\"S\",B245),'Base Datos'!$I$5:$I$30000)","v":0},0,""]
[null,null,null,null,null,null,null,{"$f":"SUMIF('Base Datos'!$J$5:$J$30000,CONCATENATE(\"E\",B246),'Base Datos'!$I$5:$I$30000)","v":0},{"$f":"SUMIF('Base Datos'!$J$5:$J$30000,CONCATENATE(\"S\",B246),'Base Datos'!$I$5:$I$30000)","v":0},0,""]
[null,null,null,null,null,null,null,{"$f":"SUMIF('Base Datos'!$J$5:$J$30000,CONCATENATE(\"E\",B247),'Base Datos'!$I$5:$I$30000)","v":0},{"$f":"SUMIF('Base Datos'!$J$5:$J$30000,CONCATENATE(\"S\",B247),'Base Datos'!$I$5:$I$30000)","v":0},0,""]
[null,null,null,null,null,null,null,{"$f":"SUMIF('Base Datos'!$J$5:$J$30000,CONCATENATE(\"E\",B248),'Base Datos'!$I$5:$I$30000)","v":0},{"$f":"SUMIF('Base Datos'!$J$5:$J$30000,CONCATENATE(\"S\",B248),'Base Datos'!$I$5:$I$30000)","v":0},0,""]
[null,null,null,null,null,null,null,{"$f":"SUMIF('Base Datos'!$J$5:$J$30000,CONCATENATE(\"E\",B249),'Base Datos'!$I$5:$I$30000)","v":0},{"$f":"SUMIF('Base Datos'!$J$5:$J$30000,CONCATENATE(\"S\",B249),'Base Datos'!$I$5:$I$30000)","v":0},0,""]
[null,null,null,null,null,null,null,{"$f":"SUMIF('Base Datos'!$J$5:$J$30000,CONCATENATE(\"E\",B250),'Base Datos'!$I$5:$I$30000)","v":0},{"$f":"SUMIF('Base Datos'!$J$5:$J$30000,CONCATENATE(\"S\",B250),'Base Datos'!$I$5:$I$30000)","v":0},0,""]
[null,null,null,null,null,null,null,{"$f":"SUMIF('Base Datos'!$J$5:$J$30000,CONCATENATE(\"E\",B251),'Base Datos'!$I$5:$I$30000)","v":0},{"$f":"SUMIF('Base Datos'!$J$5:$J$30000,CONCATENATE(\"S\",B251),'Base Datos'!$I$5:$I$30000)","v":0},0,""]
[null,null,null,null,null,null,null,{"$f":"SUMIF('Base Datos'!$J$5:$J$30000,CONCATENATE(\"E\",B252),'Base Datos'!$I$5:$I$30000)","v":0},{"$f":"SUMIF('Base Datos'!$J$5:$J$30000,CONCATENATE(\"S\",B252),'Base Datos'!$I$5:$I$30000)","v":0},0,""]
[null,null,null,null,null,null,null,{"$f":"SUMIF('Base Datos'!$J$5:$J$30000,CONCATENATE(\"E\",B253),'Base Datos'!$I$5:$I$30000)","v":0},{"$f":"SUMIF('Base Datos'!$J$5:$J$30000,CONCATENATE(\"S\",B253),'Base Datos'!$I$5:$I$30000)","v":0},0,""]
[null,null,null,null,null,null,null,{"$f":"SUMIF('Base Datos'!$J$5:$J$30000,CONCATENATE(\"E\",B254),'Base Datos'!$I$5:$I$30000)","v":0},{"$f":"SUMIF('Base Datos'!$J$5:$J$30000,CONCATENATE(\"S\",B254),'Base Datos'!$I$5:$I$30000)","v":0},0,""]
[null,null,null,null,null,null,null,{"$f":"SUMIF('Base Datos'!$J$5:$J$30000,CONCATENATE(\"E\",B255),'Base Datos'!$I$5:$I$30000)","v":0},{"$f":"SUMIF('Base Datos'!$J$5:$J$30000,CONCATENATE(\"S\",B255),'Base Datos'!$I$5:$I$30000)","v":0},0,""]
[null,null,null,null,null,null,null,{"$f":"SUMIF('Base Datos'!$J$5:$J$30000,CONCATENATE(\"E\",B256),'Base Datos'!$I$5:$I$30000)","v":0},{"$f":"SUMIF('Base Datos'!$J$5:$J$30000,CONCATENATE(\"S\",B256),'Base Datos'!$I$5:$I$30000)","v":0},0,""]
[null,null,null,null,null,null,null,{"$f":"SUMIF('Base Datos'!$J$5:$J$30000,CONCATENATE(\"E\",B257),'Base Datos'!$I$5:$I$30000)","v":0},{"$f":"SUMIF('Base Datos'!$J$5:$J$30000,CONCATENATE(\"S\",B257),'Base Datos'!$I$5:$I$30000)","v":0},0,""]
[null,null,null,null,null,null,null,{"$f":"SUMIF('Base Datos'!$J$5:$J$30000,CONCATENATE(\"E\",B258),'Base Datos'!$I$5:$I$30000)","v":0},{"$f":"SUMIF('Base Datos'!$J$5:$J$30000,CONCATENATE(\"S\",B258),'Base Datos'!$I$5:$I$30000)","v":0},0,""]
[null,null,null,null,null,null,null,{"$f":"SUMIF('Base Datos'!$J$5:$J$30000,CONCATENATE(\"E\",B259),'Base Datos'!$I$5:$I$30000)","v":0},{"$f":"SUMIF('Base Datos'!$J$5:$J$30000,CONCATENATE(\"S\",B259),'Base Datos'!$I$5:$I$30000)","v":0},0,""]
[null,null,null,null,null,null,null,{"$f":"SUMIF('Base Datos'!$J$5:$J$30000,CONCATENATE(\"E\",B260),'Base Datos'!$I$5:$I$30000)","v":0},{"$f":"SUMIF('Base Datos'!$J$5:$J$30000,CONCATENATE(\"S\",B260),'Base Datos'!$I$5:$I$30000)","v":0},0,""]
[null,null,null,null,null,null,null,{"$f":"SUMIF('Base Datos'!$J$5:$J$30000,CONCATENATE(\"E\",B261),'Base Datos'!$I$5:$I$30000)","v":0},{"$f":"SUMIF('Base Datos'!$J$5:$J$30000,CONCATENATE(\"S\",B261),'Base Datos'!$I$5:$I$30000)","v":0},0,""]
[null,null,null,null,null,null,null,{"$f":"SUMIF('Base Datos'!$J$5:$J$30000,CONCATENATE(\"E\",B262),'Base Datos'!$I$5:$I$30000)","v":0},{"$f":"SUMIF('Base Datos'!$J$5:$J$30000,CONCATENATE(\"S\",B262),'Base Datos'!$I$5:$I$30000)","v":0},0,""]
[null,null,null,null,null,null,null,{"$f":"SUMIF('Base Datos'!$J$5:$J$30000,CONCATENATE(\"E\",B263),'Base Datos'!$I$5:$I$30000)","v":0},{"$f":"SUMIF('Base Datos'!$J$5:$J$30000,CONCATENATE(\"S\",B263),'Base Datos'!$I$5:$I$30000)","v":0},0,{"$f":"IFERROR(ROUND(J263/F263,0),\"\")","v":""}]
[null,null,null,null,null,null,null,{"$f":"SUMIF('Base Datos'!$J$5:$J$30000,CONCATENATE(\"E\",B264),'Base Datos'!$I$5:$I$30000)","v":0},{"$f":"SUMIF('Base Datos'!$J$5:$J$30000,CONCATENATE(\"S\",B264),'Base Datos'!$I$5:$I$30000)","v":0},0,""]
[null,null,null,null,null,null,null,{"$f":"SUMIF('Base Datos'!$J$5:$J$30000,CONCATENATE(\"E\",B265),'Base Datos'!$I$5:$I$30000)","v":0},{"$f":"SUMIF('Base Datos'!$J$5:$J$30000,CONCATENATE(\"S\",B265),'Base Datos'!$I$5:$I$30000)","v":0},0,""]
[null,null,null,null,null,null,null,{"$f":"SUMIF('Base Datos'!$J$5:$J$30000,CONCATENATE(\"E\",B266),'Base Datos'!$I$5:$I$30000)","v":0},{"$f":"SUMIF('Base Datos'!$J$5:$J$30000,CONCATENATE(\"S\",B266),'Base Datos'!$I$5:$I$30000)","v":0},0,""]
[null,null,null,null,null,null,null,{"$f":"SUMIF('Base Datos'!$J$5:$J$30000,CONCATENATE(\"E\",B267),'Base Datos'!$I$5:$I$30000)","v":0},{"$f":"SUMIF('Base Datos'!$J$5:$J$30000,CONCATENATE(\"S\",B267),'Base Datos'!$I$5:$I$30000)","v":0},0,""]
[null,null,null,null,null,null,null,{"$f":"SUMIF('Base Datos'!$J$5:$J$30000,CONCATENATE(\"E\",B268),'Base Datos'!$I$5:$I$30000)","v":0},{"$f":"SUMIF('Base Datos'!$J$5:$J$30000,CONCATENATE(\"S\",B268),'Base Datos'!$I$5:$I$30000)","v":0},0,""]
[null,null,null,null,null,null,null,{"$f":"SUMIF('Base Datos'!$J$5:$J$30000,CONCATENATE(\"E\",B269),'Base Datos'!$I$5:$I$30000)","v":0},{"$f":"SUMIF('Base Datos'!$J$5:$J$30000,CONCATENATE(\"S\",B269),'Base Datos'!$I$5:$I$30000)","v":0},{"$f":"(G269+H269-I269)","v":0},""]
[null,null,null,null,null,null,null,{"$f":"SUMIF('Base Datos'!$J$5:$J$30000,CONCATENATE(\"E\",B270),'Base Datos'!$I$5:$I$30000)","v":0},{"$f":"SUMIF('Base Datos'!$J$5:$J$30000,CONCATENATE(\"S\",B270),'Base Datos'!$I$5:$I$30000)","v":0},0,""]
[null,null,null,null,null,null,null,{"$f":"SUMIF('Base Datos'!$J$5:$J$30000,CONCATENATE(\"E\",B271),'Base Datos'!$I$5:$I$30000)","v":0},{"$f":"SUMIF('Base Datos'!$J$5:$J$30000,CONCATENATE(\"S\",B271),'Base Datos'!$I$5:$I$30000)","v":0},0,""]
[null,null,null,null,null,null,null,{"$f":"SUMIF('Base Datos'!$J$5:$J$30000,CONCATENATE(\"E\",B272),'Base Datos'!$I$5:$I$30000)","v":0},{"$f":"SUMIF('Base Datos'!$J$5:$J$30000,CONCATENATE(\"S\",B272),'Base Datos'!$I$5:$I$30000)","v":0},0,""]
[null,null,null,null,null,null,null,{"$f":"SUMIF('Base Datos'!$J$5:$J$30000,CONCATENATE(\"E\",B273),'Base Datos'!$I$5:$I$30000)","v":0},{"$f":"SUMIF('Base Datos'!$J$5:$J$30000,CONCATENATE(\"S\",B273),'Base Datos'!$I$5:$I$30000)","v":0},0,""]
[null,null,null,null,null,null,null,{"$f":"SUMIF('Base Datos'!$J$5:$J$30000,CONCATENATE(\"E\",B274),'Base Datos'!$I$5:$I$30000)","v":0},{"$f":"SUMIF('Base Datos'!$J$5:$J$30000,CONCATENATE(\"S\",B274),'Base Datos'!$I$5:$I$30000)","v":0},0,""]
[null,null,null,null,null,null,null,{"$f":"SUMIF('Base Datos'!$J$5:$J$30000,CONCATENATE(\"E\",B275),'Base Datos'!$I$5:$I$30000)","v":0},{"$f":"SUMIF('Base Datos'!$J$5:$J$30000,CONCATENATE(\"S\",B275),'Base Datos'!$I$5:$I$30000)","v":0},0,""]
[null,null,null,null,null,null,null,{"$f":"SUMIF('Base Datos'!$J$5:$J$30000,CONCATENATE(\"E\",B276),'Base Datos'!$I$5:$I$30000)","v":0},{"$f":"SUMIF('Base Datos'!$J$5:$J$30000,CONCATENATE(\"S\",B276),'Base Datos'!$I$5:$I$30000)","v":0},0,""]
[null,null,null,null,null,null,null,{"$f":"SUMIF('Base Datos'!$J$5:$J$30000,CONCATENATE(\"E\",B277),'Base Datos'!$I$5:$I$30000)","v":0},{"$f":"SUMIF('Base Datos'!$J$5:$J$30000,CONCATENATE(\"S\",B277),'Base Datos'!$I$5:$I$30000)","v":0},0,""]
[null,null,null,null,null,null,null,{"$f":"SUMIF('Base Datos'!$J$5:$J$30000,CONCATENATE(\"E\",B278),'Base Datos'!$I$5:$I$30000)","v":0},{"$f":"SUMIF('Base Datos'!$J$5:$J$30000,CONCATENATE(\"S\",B278),'Base Datos'!$I$5:$I$30000)","v":0},0,""]
[null,null,null,null,null,null,null,{"$f":"SUMIF('Base Datos'!$J$5:$J$30000,CONCATENATE(\"E\",B279),'Base Datos'!$I$5:$I$30000)","v":0},{"$f":"SUMIF('Base Datos'!$J$5:$J$30000,CONCATENATE(\"S\",B279),'Base Datos'!$I$5:$I$30000)","v":0},0,""]
[null,null,null,null,null,null,null,{"$f":"SUMIF('Base Datos'!$J$5:$J$30000,CONCATENATE(\"E\",B280),'Base Datos'!$I$5:$I$30000)","v":0},{"$f":"SUMIF('Base Datos'!$J$5:$J$30000,CONCATENATE(\"S\",B280),'Base Datos'!$I$5:$I$30000)","v":0},0,""]
[null,null,null,null,null,null,null,{"$f":"SUMIF('Base Datos'!$J$5:$J$30000,CONCATENATE(\"E\",B281),'Base Datos'!$I$5:$I$30000)","v":0},{"$f":"SUMIF('Base Datos'!$J$5:$J$30000,CONCATENATE(\"S\",B281),'Base Datos'!$I$5:$I$30000)","v":0},0,""]
[null,null,null,null,null,null,null,{"$f":"SUMIF('Base Datos'!$J$5:$J$30000,CONCATENATE(\"E\",B282),'Base Datos'!$I$5:$I$30000)","v":0},{"$f":"SUMIF('Base Datos'!$J$5:$J$30000,CONCATENATE(\"S\",B282),'Base Datos'!$I$5:$I$30000)","v":0},0,""]
[null,null,null,null,null,null,null,{"$f":"SUMIF('Base Datos'!$J$5:$J$30000,CONCATENATE(\"E\",B283),'Base Datos'!$I$5:$I$30000)","v":0},{"$f":"SUMIF('Base Datos'!$J$5:$J$30000,CONCATENATE(\"S\",B283),'Base Datos'!$I$5:$I$30000)","v":0},0,""]
[null,null,null,null,null,null,null,{"$f":"SUMIF('Base Datos'!$J$5:$J$30000,CONCATENATE(\"E\",B284),'Base Datos'!$I$5:$I$30000)","v":0},{"$f":"SUMIF('Base Datos'!$J$5:$J$30000,CONCATENATE(\"S\",B284),'Base Datos'!$I$5:$I$30000)","v":0},0,""]
[null,null,null,null,null,null,null,{"$f":"SUMIF('Base Datos'!$J$5:$J$30000,CONCATENATE(\"E\",B285),'Base Datos'!$I$5:$I$30000)","v":0},{"$f":"SUMIF('Base Datos'!$J$5:$J$30000,CONCATENATE(\"S\",B285),'Base Datos'!$I$5:$I$30000)","v":0},0,""]
[null,null,null,null,null,null,null,{"$f":"SUMIF('Base Datos'!$J$5:$J$30000,CONCATENATE(\"E\",B286),'Base Datos'!$I$5:$I$30000)","v":0},{"$f":"SUMIF('Base Datos'!$J$5:$J$30000,CONCATENATE(\"S\",B286),'Base Datos'!$I$5:$I$30000)","v":0},0,""]
[null,null,null,null,null,null,null,{"$f":"SUMIF('Base Datos'!$J$5:$J$30000,CONCATENATE(\"E\",B287),'Base Datos'!$I$5:$I$30000)","v":0},{"$f":"SUMIF('Base Datos'!$J$5:$J$30000,CONCATENATE(\"S\",B287),'Base Datos'!$I$5:$I$30000)","v":0},0,""]
[null,null,null,null,null,null,null,{"$f":"SUMIF('Base Datos'!$J$5:$J$30000,CONCATENATE(\"E\",B288),'Base Datos'!$I$5:$I$30000)","v":0},{"$f":"SUMIF('Base Datos'!$J$5:$J$30000,CONCATENATE(\"S\",B288),'Base Datos'!$I$5:$I$30000)","v":0},0,""]
[null,null,null,null,null,null,null,{"$f":"SUMIF('Base Datos'!$J$5:$J$30000,CONCATENATE(\"E\",B289),'Base Datos'!$I$5:$I$30000)","v":0},{"$f":"SUMIF('Base Datos'!$J$5:$J$30000,CONCATENATE(\"S\",B289),'Base Datos'!$I$5:$I$30000)","v":0},0,""]
[null,null,null,null,null,null,null,{"$f":"SUMIF('Base Datos'!$J$5:$J$30000,CONCATENATE(\"E\",B290),'Base Datos'!$I$5:$I$30000)","v":0},{"$f":"SUMIF('Base Datos'!$J$5:$J$30000,CONCATENATE(\"S\",B290),'Base Datos'!$I$5:$I$30000)","v":0},0,""]
[null,null,null,null,null,null,null,{"$f":"SUMIF('Base Datos'!$J$5:$J$30000,CONCATENATE(\"E\",B291),'Base Datos'!$I$5:$I$30000)","v":0},{"$f":"SUMIF('Base Datos'!$J$5:$J$30000,CONCATENATE(\"S\",B291),'Base Datos'!$I$5:$I$30000)","v":0},0,""]
[null,null,null,null,null,null,null,{"$f":"SUMIF('Base Datos'!$J$5:$J$30000,CONCATENATE(\"E\",B292),'Base Datos'!$I$5:$I$30000)","v":0},{"$f":"SUMIF('Base Datos'!$J$5:$J$30000,CONCATENATE(\"S\",B292),'Base Datos'!$I$5:$I$30000)","v":0},0,""]
[null,null,null,null,null,null,null,{"$f":"SUMIF('Base Datos'!$J$5:$J$30000,CONCATENATE(\"E\",B293),'Base Datos'!$I$5:$I$30000)","v":0},{"$f":"SUMIF('Base Datos'!$J$5:$J$30000,CONCATENATE(\"S\",B293),'Base Datos'!$I$5:$I$30000)","v":0},0,""]
[null,null,null,null,null,null,null,{"$f":"SUMIF('Base Datos'!$J$5:$J$30000,CONCATENATE(\"E\",B294),'Base Datos'!$I$5:$I$30000)","v":0},{"$f":"SUMIF('Base Datos'!$J$5:$J$30000,CONCATENATE(\"S\",B294),'Base Datos'!$I$5:$I$30000)","v":0},0,""]
[null,null,null,null,null,null,null,{"$f":"SUMIF('Base Datos'!$J$5:$J$30000,CONCATENATE(\"E\",B295),'Base Datos'!$I$5:$I$30000)","v":0},{"$f":"SUMIF('Base Datos'!$J$5:$J$30000,CONCATENATE(\"S\",B295),'Base Datos'!$I$5:$I$30000)","v":0},0,""]
[null,null,null,null,null,null,null,{"$f":"SUMIF('Base Datos'!$J$5:$J$30000,CONCATENATE(\"E\",B296),'Base Datos'!$I$5:$I$30000)","v":0},{"$f":"SUMIF('Base Datos'!$J$5:$J$30000,CONCATENATE(\"S\",B296),'Base Datos'!$I$5:$I$30000)","v":0},0,""]
[null,null,null,null,null,null,null,{"$f":"SUMIF('Base Datos'!$J$5:$J$30000,CONCATENATE(\"E\",B297),'Base Datos'!$I$5:$I$30000)","v":0},{"$f":"SUMIF('Base Datos'!$J$5:$J$30000,CONCATENATE(\"S\",B297),'Base Datos'!$I$5:$I$30000)","v":0},0,""]
[null,null,null,null,null,null,null,{"$f":"SUMIF('Base Datos'!$J$5:$J$30000,CONCATENATE(\"E\",B298),'Base Datos'!$I$5:$I$30000)","v":0},{"$f":"SUMIF('Base Datos'!$J$5:$J$30000,CONCATENATE(\"S\",B298),'Base Datos'!$I$5:$I$30000)","v":0},0,""]
[null,null,null,null,null,null,null,{"$f":"SUMIF('Base Datos'!$J$5:$J$30000,CONCATENATE(\"E\",B299),'Base Datos'!$I$5:$I$30000)","v":0},{"$f":"SUMIF('Base Datos'!$J$5:$J$30000,CONCATENATE(\"S\",B299),'Base Datos'!$I$5:$I$30000)","v":0},0,""]
[null,null,null,null,null,null,null,{"$f":"SUMIF('Base Datos'!$J$5:$J$30000,CONCATENATE(\"E\",B300),'Base Datos'!$I$5:$I$30000)","v":0},{"$f":"SUMIF('Base Datos'!$J$5:$J$30000,CONCATENATE(\"S\",B300),'Base Datos'!$I$5:$I$30000)","v":0},0,""]
[null,null,null,null,null,null,null,{"$f":"SUMIF('Base Datos'!$J$5:$J$30000,CONCATENATE(\"E\",B301),'Base Datos'!$I$5:$I$30000)","v":0},{"$f":"SUMIF('Base Datos'!$J$5:$J$30000,CONCATENATE(\"S\",B301),'Base Datos'!$I$5:$I$30000)","v":0},0,""]
[null,null,null,null,null,null,null,{"$f":"SUMIF('Base Datos'!$J$5:$J$30000,CONCATENATE(\"E\",B302),'Base Datos'!$I$5:$I$30000)","v":0},{"$f":"SUMIF('Base Datos'!$J$5:$J$30000,CONCATENATE(\"S\",B302),'Base Datos'!$I$5:$I$30000)","v":0},0,""]
[null,null,null,null,null,null,null,{"$f":"SUMIF('Base Datos'!$J$5:$J$30000,CONCATENATE(\"E\",B303),'Base Datos'!$I$5:$I$30000)","v":0},{"$f":"SUMIF('Base Datos'!$J$5:$J$30000,CONCATENATE(\"S\",B303),'Base Datos'!$I$5:$I$30000)","v":0},0,""]
[null,null,null,null,null,null,null,{"$f":"SUMIF('Base Datos'!$J$5:$J$30000,CONCATENATE(\"E\",B304),'Base Datos'!$I$5:$I$30000)","v":0},{"$f":"SUMIF('Base Datos'!$J$5:$J$30000,CONCATENATE(\"S\",B304),'Base Datos'!$I$5:$I$30000)","v":0},0,""]
[null,null,null,null,null,null,null,{"$f":"SUMIF('Base Datos'!$J$5:$J$30000,CONCATENATE(\"E\",B305),'Base Datos'!$I$5:$I$30000)","v":0},{"$f":"SUMIF('Base Datos'!$J$5:$J$30000,CONCATENATE(\"S\",B305),'Base Datos'!$I$5:$I$30000)","v":0},0,""]
[null,null,null,null,null,null,null,{"$f":"SUMIF('Base Datos'!$J$5:$J$30000,CONCATENATE(\"E\",B306),'Base Datos'!$I$5:$I$30000)","v":0},{"$f":"SUMIF('Base Datos'!$J$5:$J$30000,CONCATENATE(\"S\",B306),'Base Datos'!$I$5:$I$30000)","v":0},0,""]
[null,null,null,null,null,null,null,{"$f":"SUMIF('Base Datos'!$J$5:$J$30000,CONCATENATE(\"E\",B307),'Base Datos'!$I$5:$I$30000)","v":0},{"$f":"SUMIF('Base Datos'!$J$5:$J$30000,CONCATENATE(\"S\",B307),'Base Datos'!$I$5:$I$30000)","v":0},0,""]
[null,null,null,null,null,null,null,{"$f":"SUMIF('Base Datos'!$J$5:$J$30000,CONCATENATE(\"E\",B308),'Base Datos'!$I$5:$I$30000)","v":0},{"$f":"SUMIF('Base Datos'!$J$5:$J$30000,CONCATENATE(\"S\",B308),'Base Datos'!$I$5:$I$30000)","v":0},0,""]
[null,null,null,null,null,null,null,{"$f":"SUMIF('Base Datos'!$J$5:$J$30000,CONCATENATE(\"E\",B309),'Base Datos'!$I$5:$I$30000)","v":0},{"$f":"SUMIF('Base Datos'!$J$5:$J$30000,CONCATENATE(\"S\",B309),'Base Datos'!$I$5:$I$30000)","v":0},0,""]
[null,null,null,null,null,null,null,{"$f":"SUMIF('Base Datos'!$J$5:$J$30000,CONCATENATE(\"E\",B310),'Base Datos'!$I$5:$I$30000)","v":0},{"$f":"SUMIF('Base Datos'!$J$5:$J$30000,CONCATENATE(\"S\",B310),'Base Datos'!$I$5:$I$30000)","v":0},0,""]
[null,null,null,null,null,null,null,{"$f":"SUMIF('Base Datos'!$J$5:$J$30000,CONCATENATE(\"E\",B311),'Base Datos'!$I$5:$I$30000)","v":0},{"$f":"SUMIF('Base Datos'!$J$5:$J$30000,CONCATENATE(\"S\",B311),'Base Datos'!$I$5:$I$30000)","v":0},0,""]
[null,null,null,null,null,null,null,{"$f":"SUMIF('Base Datos'!$J$5:$J$30000,CONCATENATE(\"E\",B312),'Base Datos'!$I$5:$I$30000)","v":0},{"$f":"SUMIF('Base Datos'!$J$5:$J$30000,CONCATENATE(\"S\",B312),'Base Datos'!$I$5:$I$30000)","v":0},0,""]
[null,null,null,null,null,null,null,{"$f":"SUMIF('Base Datos'!$J$5:$J$30000,CONCATENATE(\"E\",B313),'Base Datos'!$I$5:$I$30000)","v":0},{"$f":"SUMIF('Base Datos'!$J$5:$J$30000,CONCATENATE(\"S\",B313),'Base Datos'!$I$5:$I$30000)","v":0},0,""]
[null,null,null,null,null,null,null,{"$f":"SUMIF('Base Datos'!$J$5:$J$30000,CONCATENATE(\"E\",B314),'Base Datos'!$I$5:$I$30000)","v":0},{"$f":"SUMIF('Base Datos'!$J$5:$J$30000,CONCATENATE(\"S\",B314),'Base Datos'!$I$5:$I$30000)","v":0},0,""]
[null,null,null,null,null,null,null,{"$f":"SUMIF('Base Datos'!$J$5:$J$30000,CONCATENATE(\"E\",B315),'Base Datos'!$I$5:$I$30000)","v":0},{"$f":"SUMIF('Base Datos'!$J$5:$J$30000,CONCATENATE(\"S\",B315),'Base Datos'!$I$5:$I$30000)","v":0},0,""]
[null,null,null,null,null,null,null,{"$f":"SUMIF('Base Datos'!$J$5:$J$30000,CONCATENATE(\"E\",B316),'Base Datos'!$I$5:$I$30000)","v":0},{"$f":"SUMIF('Base Datos'!$J$5:$J$30000,CONCATENATE(\"S\",B316),'Base Datos'!$I$5:$I$30000)","v":0},0,""]
[null,null,null,null,null,null,null,{"$f":"SUMIF('Base Datos'!$J$5:$J$30000,CONCATENATE(\"E\",B317),'Base Datos'!$I$5:$I$30000)","v":0},{"$f":"SUMIF('Base Datos'!$J$5:$J$30000,CONCATENATE(\"S\",B317),'Base Datos'!$I$5:$I$30000)","v":0},0,""]
[null,null,null,null,null,null,null,{"$f":"SUMIF('Base Datos'!$J$5:$J$30000,CONCATENATE(\"E\",B318),'Base Datos'!$I$5:$I$30000)","v":0},{"$f":"SUMIF('Base Datos'!$J$5:$J$30000,CONCATENATE(\"S\",B318),'Base Datos'!$I$5:$I$30000)","v":0},0,""]
[null,null,null,null,null,null,null,{"$f":"SUMIF('Base Datos'!$J$5:$J$30000,CONCATENATE(\"E\",B319),'Base Datos'!$I$5:$I$30000)","v":0},{"$f":"SUMIF('Base Datos'!$J$5:$J$30000,CONCATENATE(\"S\",B319),'Base Datos'!$I$5:$I$30000)","v":0},0,""]
[null,null,null,null,null,null,null,{"$f":"SUMIF('Base Datos'!$J$5:$J$30000,CONCATENATE(\"E\",B320),'Base Datos'!$I$5:$I$30000)","v":0},{"$f":"SUMIF('Base Datos'!$J$5:$J$30000,CONCATENATE(\"S\",B320),'Base Datos'!$I$5:$I$30000)","v":0},0,""]
[null,null,null,null,null,null,null,{"$f":"SUMIF('Base Datos'!$J$5:$J$30000,CONCATENATE(\"E\",B321),'Base Datos'!$I$5:$I$30000)","v":0},{"$f":"SUMIF('Base Datos'!$J$5:$J$30000,CONCATENATE(\"S\",B321),'Base Datos'!$I$5:$I$30000)","v":0},0,""]
[null,null,null,null,null,null,null,{"$f":"SUMIF('Base Datos'!$J$5:$J$30000,CONCATENATE(\"E\",B322),'Base Datos'!$I$5:$I$30000)","v":0},{"$f":"SUMIF('Base Datos'!$J$5:$J$30000,CONCATENATE(\"S\",B322),'Base Datos'!$I$5:$I$30000)","v":0},0,""]
[null,null,null,null,null,null,null,{"$f":"SUMIF('Base Datos'!$J$5:$J$30000,CONCATENATE(\"E\",B323),'Base Datos'!$I$5:$I$30000)","v":0},{"$f":"SUMIF('Base Datos'!$J$5:$J$30000,CONCATENATE(\"S\",B323),'Base Datos'!$I$5:$I$30000)","v":0},0,""]
[null,null,null,null,null,null,null,{"$f":"SUMIF('Base Datos'!$J$5:$J$30000,CONCATENATE(\"E\",B324),'Base Datos'!$I$5:$I$30000)","v":0},{"$f":"SUMIF('Base Datos'!$J$5:$J$30000,CONCATENATE(\"S\",B324),'Base Datos'!$I$5:$I$30000)","v":0},0,""]
[null,null,null,null,null,null,null,{"$f":"SUMIF('Base Datos'!$J$5:$J$30000,CONCATENATE(\"E\",B325),'Base Datos'!$I$5:$I$30000)","v":0},{"$f":"SUMIF('Base Datos'!$J$5:$J$30000,CONCATENATE(\"S\",B325),'Base Datos'!$I$5:$I$30000)","v":0},0,""]
[null,null,null,null,null,null,null,{"$f":"SUMIF('Base Datos'!$J$5:$J$30000,CONCATENATE(\"E\",B326),'Base Datos'!$I$5:$I$30000)","v":0},{"$f":"SUMIF('Base Datos'!$J$5:$J$30000,CONCATENATE(\"S\",B326),'Base Datos'!$I$5:$I$30000)","v":0},0,""]
[null,null,null,null,null,null,null,{"$f":"SUMIF('Base Datos'!$J$5:$J$30000,CONCATENATE(\"E\",B327),'Base Datos'!$I$5:$I$30000)","v":0},{"$f":"SUMIF('Base Datos'!$J$5:$J$30000,CONCATENATE(\"S\",B327),'Base Datos'!$I$5:$I$30000)","v":0},0,{"$f":"IFERROR(ROUND(J327/F327,0),\"\")","v":""}]
[null,null,null,null,null,null,null,{"$f":"SUMIF('Base Datos'!$J$5:$J$30000,CONCATENATE(\"E\",B328),'Base Datos'!$I$5:$I$30000)","v":0},{"$f":"SUMIF('Base Datos'!$J$5:$J$30000,CONCATENATE(\"S\",B328),'Base Datos'!$I$5:$I$30000)","v":0},0,""]
[null,null,null,null,null,null,null,{"$f":"SUMIF('Base Datos'!$J$5:$J$30000,CONCATENATE(\"E\",B329),'Base Datos'!$I$5:$I$30000)","v":0},{"$f":"SUMIF('Base Datos'!$J$5:$J$30000,CONCATENATE(\"S\",B329),'Base Datos'!$I$5:$I$30000)","v":0},0,""]
[null,null,null,null,null,null,null,{"$f":"SUMIF('Base Datos'!$J$5:$J$30000,CONCATENATE(\"E\",B330),'Base Datos'!$I$5:$I$30000)","v":0},{"$f":"SUMIF('Base Datos'!$J$5:$J$30000,CONCATENATE(\"S\",B330),'Base Datos'!$I$5:$I$30000)","v":0},0,""]
[null,null,null,null,null,null,null,{"$f":"SUMIF('Base Datos'!$J$5:$J$30000,CONCATENATE(\"E\",B331),'Base Datos'!$I$5:$I$30000)","v":0},{"$f":"SUMIF('Base Datos'!$J$5:$J$30000,CONCATENATE(\"S\",B331),'Base Datos'!$I$5:$I$30000)","v":0},0,""]
[null,null,null,null,null,null,null,{"$f":"SUMIF('Base Datos'!$J$5:$J$30000,CONCATENATE(\"E\",B332),'Base Datos'!$I$5:$I$30000)","v":0},{"$f":"SUMIF('Base Datos'!$J$5:$J$30000,CONCATENATE(\"S\",B332),'Base Datos'!$I$5:$I$30000)","v":0},0,""]
[null,null,null,null,null,null,null,{"$f":"SUMIF('Base Datos'!$J$5:$J$30000,CONCATENATE(\"E\",B333),'Base Datos'!$I$5:$I$30000)","v":0},{"$f":"SUMIF('Base Datos'!$J$5:$J$30000,CONCATENATE(\"S\",B333),'Base Datos'!$I$5:$I$30000)","v":0},{"$f":"(G333+H333-I333)","v":0},""]
[null,null,null,null,null,null,null,{"$f":"SUMIF('Base Datos'!$J$5:$J$30000,CONCATENATE(\"E\",B334),'Base Datos'!$I$5:$I$30000)","v":0},{"$f":"SUMIF('Base Datos'!$J$5:$J$30000,CONCATENATE(\"S\",B334),'Base Datos'!$I$5:$I$30000)","v":0},0,""]
[null,null,null,null,null,null,null,{"$f":"SUMIF('Base Datos'!$J$5:$J$30000,CONCATENATE(\"E\",B335),'Base Datos'!$I$5:$I$30000)","v":0},{"$f":"SUMIF('Base Datos'!$J$5:$J$30000,CONCATENATE(\"S\",B335),'Base Datos'!$I$5:$I$30000)","v":0},0,""]
[null,null,null,null,null,null,null,{"$f":"SUMIF('Base Datos'!$J$5:$J$30000,CONCATENATE(\"E\",B336),'Base Datos'!$I$5:$I$30000)","v":0},{"$f":"SUMIF('Base Datos'!$J$5:$J$30000,CONCATENATE(\"S\",B336),'Base Datos'!$I$5:$I$30000)","v":0},0,""]
[null,null,null,null,null,null,null,{"$f":"SUMIF('Base Datos'!$J$5:$J$30000,CONCATENATE(\"E\",B337),'Base Datos'!$I$5:$I$30000)","v":0},{"$f":"SUMIF('Base Datos'!$J$5:$J$30000,CONCATENATE(\"S\",B337),'Base Datos'!$I$5:$I$30000)","v":0},0,""]
[null,null,null,null,null,null,null,{"$f":"SUMIF('Base Datos'!$J$5:$J$30000,CONCATENATE(\"E\",B338),'Base Datos'!$I$5:$I$30000)","v":0},{"$f":"SUMIF('Base Datos'!$J$5:$J$30000,CONCATENATE(\"S\",B338),'Base Datos'!$I$5:$I$30000)","v":0},0,""]
[null,null,null,null,null,null,null,{"$f":"SUMIF('Base Datos'!$J$5:$J$30000,CONCATENATE(\"E\",B339),'Base Datos'!$I$5:$I$30000)","v":0},{"$f":"SUMIF('Base Datos'!$J$5:$J$30000,CONCATENATE(\"S\",B339),'Base Datos'!$I$5:$I$30000)","v":0},0,""]
[null,null,null,null,null,null,null,{"$f":"SUMIF('Base Datos'!$J$5:$J$30000,CONCATENATE(\"E\",B340),'Base Datos'!$I$5:$I$30000)","v":0},{"$f":"SUMIF('Base Datos'!$J$5:$J$30000,CONCATENATE(\"S\",B340),'Base Datos'!$I$5:$I$30000)","v":0},0,""]
[null,null,null,null,null,null,null,{"$f":"SUMIF('Base Datos'!$J$5:$J$30000,CONCATENATE(\"E\",B341),'Base Datos'!$I$5:$I$30000)","v":0},{"$f":"SUMIF('Base Datos'!$J$5:$J$30000,CONCATENATE(\"S\",B341),'Base Datos'!$I$5:$I$30000)","v":0},0,""]
[null,null,null,null,null,null,null,{"$f":"SUMIF('Base Datos'!$J$5:$J$30000,CONCATENATE(\"E\",B342),'Base Datos'!$I$5:$I$30000)","v":0},{"$f":"SUMIF('Base Datos'!$J$5:$J$30000,CONCATENATE(\"S\",B342),'Base Datos'!$I$5:$I$30000)","v":0},0,""]
[null,null,null,null,null,null,null,{"$f":"SUMIF('Base Datos'!$J$5:$J$30000,CONCATENATE(\"E\",B343),'Base Datos'!$I$5:$I$30000)","v":0},{"$f":"SUMIF('Base Datos'!$J$5:$J$30000,CONCATENATE(\"S\",B343),'Base Datos'!$I$5:$I$30000)","v":0},0,""]
[null,null,null,null,null,null,null,{"$f":"SUMIF('Base Datos'!$J$5:$J$30000,CONCATENATE(\"E\",B344),'Base Datos'!$I$5:$I$30000)","v":0},{"$f":"SUMIF('Base Datos'!$J$5:$J$30000,CONCATENATE(\"S\",B344),'Base Datos'!$I$5:$I$30000)","v":0},0,""]
[null,null,null,null,null,null,null,{"$f":"SUMIF('Base Datos'!$J$5:$J$30000,CONCATENATE(\"E\",B345),'Base Datos'!$I$5:$I$30000)","v":0},{"$f":"SUMIF('Base Datos'!$J$5:$J$30000,CONCATENATE(\"S\",B345),'Base Datos'!$I$5:$I$30000)","v":0},0,""]
[null,null,null,null,null,null,null,{"$f":"SUMIF('Base Datos'!$J$5:$J$30000,CONCATENATE(\"E\",B346),'Base Datos'!$I$5:$I$30000)","v":0},{"$f":"SUMIF('Base Datos'!$J$5:$J$30000,CONCATENATE(\"S\",B346),'Base Datos'!$I$5:$I$30000)","v":0},0,""]
[null,null,null,null,null,null,null,{"$f":"SUMIF('Base Datos'!$J$5:$J$30000,CONCATENATE(\"E\",B347),'Base Datos'!$I$5:$I$30000)","v":0},{"$f":"SUMIF('Base Datos'!$J$5:$J$30000,CONCATENATE(\"S\",B347),'Base Datos'!$I$5:$I$30000)","v":0},0,""]
[null,null,null,null,null,null,null,{"$f":"SUMIF('Base Datos'!$J$5:$J$30000,CONCATENATE(\"E\",B348),'Base Datos'!$I$5:$I$30000)","v":0},{"$f":"SUMIF('Base Datos'!$J$5:$J$30000,CONCATENATE(\"S\",B348),'Base Datos'!$I$5:$I$30000)","v":0},0,""]
[null,null,null,null,null,null,null,{"$f":"SUMIF('Base Datos'!$J$5:$J$30000,CONCATENATE(\"E\",B349),'Base Datos'!$I$5:$I$30000)","v":0},{"$f":"SUMIF('Base Datos'!$J$5:$J$30000,CONCATENATE(\"S\",B349),'Base Datos'!$I$5:$I$30000)","v":0},0,""]
[null,null,null,null,null,null,null,{"$f":"SUMIF('Base Datos'!$J$5:$J$30000,CONCATENATE(\"E\",B350),'Base Datos'!$I$5:$I$30000)","v":0},{"$f":"SUMIF('Base Datos'!$J$5:$J$30000,CONCATENATE(\"S\",B350),'Base Datos'!$I$5:$I$30000)","v":0},0,""]
[null,null,null,null,null,null,null,{"$f":"SUMIF('Base Datos'!$J$5:$J$30000,CONCATENATE(\"E\",B351),'Base Datos'!$I$5:$I$30000)","v":0},{"$f":"SUMIF('Base Datos'!$J$5:$J$30000,CONCATENATE(\"S\",B351),'Base Datos'!$I$5:$I$30000)","v":0},0,""]
[null,null,null,null,null,null,null,{"$f":"SUMIF('Base Datos'!$J$5:$J$30000,CONCATENATE(\"E\",B352),'Base Datos'!$I$5:$I$30000)","v":0},{"$f":"SUMIF('Base Datos'!$J$5:$J$30000,CONCATENATE(\"S\",B352),'Base Datos'!$I$5:$I$30000)","v":0},0,""]
[null,null,null,null,null,null,null,{"$f":"SUMIF('Base Datos'!$J$5:$J$30000,CONCATENATE(\"E\",B353),'Base Datos'!$I$5:$I$30000)","v":0},{"$f":"SUMIF('Base Datos'!$J$5:$J$30000,CONCATENATE(\"S\",B353),'Base Datos'!$I$5:$I$30000)","v":0},0,""]
[null,null,null,null,null,null,null,{"$f":"SUMIF('Base Datos'!$J$5:$J$30000,CONCATENATE(\"E\",B354),'Base Datos'!$I$5:$I$30000)","v":0},{"$f":"SUMIF('Base Datos'!$J$5:$J$30000,CONCATENATE(\"S\",B354),'Base Datos'!$I$5:$I$30000)","v":0},0,""]
[null,null,null,null,null,null,null,{"$f":"SUMIF('Base Datos'!$J$5:$J$30000,CONCATENATE(\"E\",B355),'Base Datos'!$I$5:$I$30000)","v":0},{"$f":"SUMIF('Base Datos'!$J$5:$J$30000,CONCATENATE(\"S\",B355),'Base Datos'!$I$5:$I$30000)","v":0},0,""]
[null,null,null,null,null,null,null,{"$f":"SUMIF('Base Datos'!$J$5:$J$30000,CONCATENATE(\"E\",B356),'Base Datos'!$I$5:$I$30000)","v":0},{"$f":"SUMIF('Base Datos'!$J$5:$J$30000,CONCATENATE(\"S\",B356),'Base Datos'!$I$5:$I$30000)","v":0},0,""]
[null,null,null,null,null,null,null,{"$f":"SUMIF('Base Datos'!$J$5:$J$30000,CONCATENATE(\"E\",B357),'Base Datos'!$I$5:$I$30000)","v":0},{"$f":"SUMIF('Base Datos'!$J$5:$J$30000,CONCATENATE(\"S\",B357),'Base Datos'!$I$5:$I$30000)","v":0},0,""]
[null,null,null,null,null,null,null,{"$f":"SUMIF('Base Datos'!$J$5:$J$30000,CONCATENATE(\"E\",B358),'Base Datos'!$I$5:$I$30000)","v":0},{"$f":"SUMIF('Base Datos'!$J$5:$J$30000,CONCATENATE(\"S\",B358),'Base Datos'!$I$5:$I$30000)","v":0},0,""]
[null,null,null,null,null,null,null,{"$f":"SUMIF('Base Datos'!$J$5:$J$30000,CONCATENATE(\"E\",B359),'Base Datos'!$I$5:$I$30000)","v":0},{"$f":"SUMIF('Base Datos'!$J$5:$J$30000,CONCATENATE(\"S\",B359),'Base Datos'!$I$5:$I$30000)","v":0},0,""]
[null,null,null,null,null,null,null,{"$f":"SUMIF('Base Datos'!$J$5:$J$30000,CONCATENATE(\"E\",B360),'Base Datos'!$I$5:$I$30000)","v":0},{"$f":"SUMIF('Base Datos'!$J$5:$J$30000,CONCATENATE(\"S\",B360),'Base Datos'!$I$5:$I$30000)","v":0},0,""]
[null,null,null,null,null,null,null,{"$f":"SUMIF('Base Datos'!$J$5:$J$30000,CONCATENATE(\"E\",B361),'Base Datos'!$I$5:$I$30000)","v":0},{"$f":"SUMIF('Base Datos'!$J$5:$J$30000,CONCATENATE(\"S\",B361),'Base Datos'!$I$5:$I$30000)","v":0},0,""]
[null,null,null,null,null,null,null,{"$f":"SUMIF('Base Datos'!$J$5:$J$30000,CONCATENATE(\"E\",B362),'Base Datos'!$I$5:$I$30000)","v":0},{"$f":"SUMIF('Base Datos'!$J$5:$J$30000,CONCATENATE(\"S\",B362),'Base Datos'!$I$5:$I$30000)","v":0},0,""]
[null,null,null,null,null,null,null,{"$f":"SUMIF('Base Datos'!$J$5:$J$30000,CONCATENATE(\"E\",B363),'Base Datos'!$I$5:$I$30000)","v":0},{"$f":"SUMIF('Base Datos'!$J$5:$J$30000,CONCATENATE(\"S\",B363),'Base Datos'!$I$5:$I$30000)","v":0},0,""]
[null,null,null,null,null,null,null,{"$f":"SUMIF('Base Datos'!$J$5:$J$30000,CONCATENATE(\"E\",B364),'Base Datos'!$I$5:$I$30000)","v":0},{"$f":"SUMIF('Base Datos'!$J$5:$J$30000,CONCATENATE(\"S\",B364),'Base Datos'!$I$5:$I$30000)","v":0},0,""]
[null,null,null,null,null,null,null,{"$f":"SUMIF('Base Datos'!$J$5:$J$30000,CONCATENATE(\"E\",B365),'Base Datos'!$I$5:$I$30000)","v":0},{"$f":"SUMIF('Base Datos'!$J$5:$J$30000,CONCATENATE(\"S\",B365),'Base Datos'!$I$5:$I$30000)","v":0},0,""]
[null,null,null,null,null,null,null,{"$f":"SUMIF('Base Datos'!$J$5:$J$30000,CONCATENATE(\"E\",B366),'Base Datos'!$I$5:$I$30000)","v":0},{"$f":"SUMIF('Base Datos'!$J$5:$J$30000,CONCATENATE(\"S\",B366),'Base Datos'!$I$5:$I$30000)","v":0},0,""]
[null,null,null,null,null,null,null,{"$f":"SUMIF('Base Datos'!$J$5:$J$30000,CONCATENATE(\"E\",B367),'Base Datos'!$I$5:$I$30000)","v":0},{"$f":"SUMIF('Base Datos'!$J$5:$J$30000,CONCATENATE(\"S\",B367),'Base Datos'!$I$5:$I$30000)","v":0},0,""]
[null,null,null,null,null,null,null,{"$f":"SUMIF('Base Datos'!$J$5:$J$30000,CONCATENATE(\"E\",B368),'Base Datos'!$I$5:$I$30000)","v":0},{"$f":"SUMIF('Base Datos'!$J$5:$J$30000,CONCATENATE(\"S\",B368),'Base Datos'!$I$5:$I$30000)","v":0},0,""]
[null,null,null,null,null,null,null,{"$f":"SUMIF('Base Datos'!$J$5:$J$30000,CONCATENATE(\"E\",B369),'Base Datos'!$I$5:$I$30000)","v":0},{"$f":"SUMIF('Base Datos'!$J$5:$J$30000,CONCATENATE(\"S\",B369),'Base Datos'!$I$5:$I$30000)","v":0},0,""]
[null,null,null,null,null,null,null,{"$f":"SUMIF('Base Datos'!$J$5:$J$30000,CONCATENATE(\"E\",B370),'Base Datos'!$I$5:$I$30000)","v":0},{"$f":"SUMIF('Base Datos'!$J$5:$J$30000,CONCATENATE(\"S\",B370),'Base Datos'!$I$5:$I$30000)","v":0},0,""]
[null,null,null,null,null,null,null,{"$f":"SUMIF('Base Datos'!$J$5:$J$30000,CONCATENATE(\"E\",B371),'Base Datos'!$I$5:$I$30000)","v":0},{"$f":"SUMIF('Base Datos'!$J$5:$J$30000,CONCATENATE(\"S\",B371),'Base Datos'!$I$5:$I$30000)","v":0},0,""]
[null,null,null,null,null,null,null,{"$f":"SUMIF('Base Datos'!$J$5:$J$30000,CONCATENATE(\"E\",B372),'Base Datos'!$I$5:$I$30000)","v":0},{"$f":"SUMIF('Base Datos'!$J$5:$J$30000,CONCATENATE(\"S\",B372),'Base Datos'!$I$5:$I$30000)","v":0},0,""]
[null,null,null,null,null,null,null,{"$f":"SUMIF('Base Datos'!$J$5:$J$30000,CONCATENATE(\"E\",B373),'Base Datos'!$I$5:$I$30000)","v":0},{"$f":"SUMIF('Base Datos'!$J$5:$J$30000,CONCATENATE(\"S\",B373),'Base Datos'!$I$5:$I$30000)","v":0},0,""]
[null,null,null,null,null,null,null,{"$f":"SUMIF('Base Datos'!$J$5:$J$30000,CONCATENATE(\"E\",B374),'Base Datos'!$I$5:$I$30000)","v":0},{"$f":"SUMIF('Base Datos'!$J$5:$J$30000,CONCATENATE(\"S\",B374),'Base Datos'!$I$5:$I$30000)","v":0},0,""]
[null,null,null,null,null,null,null,{"$f":"SUMIF('Base Datos'!$J$5:$J$30000,CONCATENATE(\"E\",B375),'Base Datos'!$I$5:$I$30000)","v":0},{"$f":"SUMIF('Base Datos'!$J$5:$J$30000,CONCATENATE(\"S\",B375),'Base Datos'!$I$5:$I$30000)","v":0},0,""]
[null,null,null,null,null,null,null,{"$f":"SUMIF('Base Datos'!$J$5:$J$30000,CONCATENATE(\"E\",B376),'Base Datos'!$I$5:$I$30000)","v":0},{"$f":"SUMIF('Base Datos'!$J$5:$J$30000,CONCATENATE(\"S\",B376),'Base Datos'!$I$5:$I$30000)","v":0},0,""]
[null,null,null,null,null,null,null,{"$f":"SUMIF('Base Datos'!$J$5:$J$30000,CONCATENATE(\"E\",B377),'Base Datos'!$I$5:$I$30000)","v":0},{"$f":"SUMIF('Base Datos'!$J$5:$J$30000,CONCATENATE(\"S\",B377),'Base Datos'!$I$5:$I$30000)","v":0},0,""]
[null,null,null,null,null,null,null,{"$f":"SUMIF('Base Datos'!$J$5:$J$30000,CONCATENATE(\"E\",B378),'Base Datos'!$I$5:$I$30000)","v":0},{"$f":"SUMIF('Base Datos'!$J$5:$J$30000,CONCATENATE(\"S\",B378),'Base Datos'!$I$5:$I$30000)","v":0},0,""]
[null,null,null,null,null,null,null,{"$f":"SUMIF('Base Datos'!$J$5:$J$30000,CONCATENATE(\"E\",B379),'Base Datos'!$I$5:$I$30000)","v":0},{"$f":"SUMIF('Base Datos'!$J$5:$J$30000,CONCATENATE(\"S\",B379),'Base Datos'!$I$5:$I$30000)","v":0},0,""]
[null,null,null,null,null,null,null,{"$f":"SUMIF('Base Datos'!$J$5:$J$30000,CONCATENATE(\"E\",B380),'Base Datos'!$I$5:$I$30000)","v":0},{"$f":"SUMIF('Base Datos'!$J$5:$J$30000,CONCATENATE(\"S\",B380),'Base Datos'!$I$5:$I$30000)","v":0},0,""]
[null,null,null,null,null,null,null,{"$f":"SUMIF('Base Datos'!$J$5:$J$30000,CONCATENATE(\"E\",B381),'Base Datos'!$I$5:$I$30000)","v":0},{"$f":"SUMIF('Base Datos'!$J$5:$J$30000,CONCATENATE(\"S\",B381),'Base Datos'!$I$5:$I$30000)","v":0},0,""]
[null,null,null,null,null,null,null,{"$f":"SUMIF('Base Datos'!$J$5:$J$30000,CONCATENATE(\"E\",B382),'Base Datos'!$I$5:$I$30000)","v":0},{"$f":"SUMIF('Base Datos'!$J$5:$J$30000,CONCATENATE(\"S\",B382),'Base Datos'!$I$5:$I$30000)","v":0},0,""]
[null,null,null,null,null,null,null,{"$f":"SUMIF('Base Datos'!$J$5:$J$30000,CONCATENATE(\"E\",B383),'Base Datos'!$I$5:$I$30000)","v":0},{"$f":"SUMIF('Base Datos'!$J$5:$J$30000,CONCATENATE(\"S\",B383),'Base Datos'!$I$5:$I$30000)","v":0},0,""]
[null,null,null,null,null,null,null,{"$f":"SUMIF('Base Datos'!$J$5:$J$30000,CONCATENATE(\"E\",B384),'Base Datos'!$I$5:$I$30000)","v":0},{"$f":"SUMIF('Base Datos'!$J$5:$J$30000,CONCATENATE(\"S\",B384),'Base Datos'!$I$5:$I$30000)","v":0},0,""]
[null,null,null,null,null,null,null,{"$f":"SUMIF('Base Datos'!$J$5:$J$30000,CONCATENATE(\"E\",B385),'Base Datos'!$I$5:$I$30000)","v":0},{"$f":"SUMIF('Base Datos'!$J$5:$J$30000,CONCATENATE(\"S\",B385),'Base Datos'!$I$5:$I$30000)","v":0},0,""]
[null,null,null,null,null,null,null,{"$f":"SUMIF('Base Datos'!$J$5:$J$30000,CONCATENATE(\"E\",B386),'Base Datos'!$I$5:$I$30000)","v":0},{"$f":"SUMIF('Base Datos'!$J$5:$J$30000,CONCATENATE(\"S\",B386),'Base Datos'!$I$5:$I$30000)","v":0},0,""]
[null,null,null,null,null,null,null,{"$f":"SUMIF('Base Datos'!$J$5:$J$30000,CONCATENATE(\"E\",B387),'Base Datos'!$I$5:$I$30000)","v":0},{"$f":"SUMIF('Base Datos'!$J$5:$J$30000,CONCATENATE(\"S\",B387),'Base Datos'!$I$5:$I$30000)","v":0},0,""]
[null,null,null,null,null,null,null,{"$f":"SUMIF('Base Datos'!$J$5:$J$30000,CONCATENATE(\"E\",B388),'Base Datos'!$I$5:$I$30000)","v":0},{"$f":"SUMIF('Base Datos'!$J$5:$J$30000,CONCATENATE(\"S\",B388),'Base Datos'!$I$5:$I$30000)","v":0},0,""]
[null,null,null,null,null,null,null,{"$f":"SUMIF('Base Datos'!$J$5:$J$30000,CONCATENATE(\"E\",B389),'Base Datos'!$I$5:$I$30000)","v":0},{"$f":"SUMIF('Base Datos'!$J$5:$J$30000,CONCATENATE(\"S\",B389),'Base Datos'!$I$5:$I$30000)","v":0},0,""]
[null,null,null,null,null,null,null,{"$f":"SUMIF('Base Datos'!$J$5:$J$30000,CONCATENATE(\"E\",B390),'Base Datos'!$I$5:$I$30000)","v":0},{"$f":"SUMIF('Base Datos'!$J$5:$J$30000,CONCATENATE(\"S\",B390),'Base Datos'!$I$5:$I$30000)","v":0},0,""]
[null,null,null,null,null,null,null,{"$f":"SUMIF('Base Datos'!$J$5:$J$30000,CONCATENATE(\"E\",B391),'Base Datos'!$I$5:$I$30000)","v":0},{"$f":"SUMIF('Base Datos'!$J$5:$J$30000,CONCATENATE(\"S\",B391),'Base Datos'!$I$5:$I$30000)","v":0},0,{"$f":"IFERROR(ROUND(J391/F391,0),\"\")","v":""}]
[null,null,null,null,null,null,null,{"$f":"SUMIF('Base Datos'!$J$5:$J$30000,CONCATENATE(\"E\",B392),'Base Datos'!$I$5:$I$30000)","v":0},{"$f":"SUMIF('Base Datos'!$J$5:$J$30000,CONCATENATE(\"S\",B392),'Base Datos'!$I$5:$I$30000)","v":0},0,""]
[null,null,null,null,null,null,null,{"$f":"SUMIF('Base Datos'!$J$5:$J$30000,CONCATENATE(\"E\",B393),'Base Datos'!$I$5:$I$30000)","v":0},{"$f":"SUMIF('Base Datos'!$J$5:$J$30000,CONCATENATE(\"S\",B393),'Base Datos'!$I$5:$I$30000)","v":0},0,""]
[null,null,null,null,null,null,null,{"$f":"SUMIF('Base Datos'!$J$5:$J$30000,CONCATENATE(\"E\",B394),'Base Datos'!$I$5:$I$30000)","v":0},{"$f":"SUMIF('Base Datos'!$J$5:$J$30000,CONCATENATE(\"S\",B394),'Base Datos'!$I$5:$I$30000)","v":0},0,""]
[null,null,null,null,null,null,null,{"$f":"SUMIF('Base Datos'!$J$5:$J$30000,CONCATENATE(\"E\",B395),'Base Datos'!$I$5:$I$30000)","v":0},{"$f":"SUMIF('Base Datos'!$J$5:$J$30000,CONCATENATE(\"S\",B395),'Base Datos'!$I$5:$I$30000)","v":0},0,""]
[null,null,null,null,null,null,null,{"$f":"SUMIF('Base Datos'!$J$5:$J$30000,CONCATENATE(\"E\",B396),'Base Datos'!$I$5:$I$30000)","v":0},{"$f":"SUMIF('Base Datos'!$J$5:$J$30000,CONCATENATE(\"S\",B396),'Base Datos'!$I$5:$I$30000)","v":0},0,""]
[null,null,null,null,null,null,null,{"$f":"SUMIF('Base Datos'!$J$5:$J$30000,CONCATENATE(\"E\",B397),'Base Datos'!$I$5:$I$30000)","v":0},{"$f":"SUMIF('Base Datos'!$J$5:$J$30000,CONCATENATE(\"S\",B397),'Base Datos'!$I$5:$I$30000)","v":0},{"$f":"(G397+H397-I397)","v":0},""]
[null,null,null,null,null,null,null,{"$f":"SUMIF('Base Datos'!$J$5:$J$30000,CONCATENATE(\"E\",B398),'Base Datos'!$I$5:$I$30000)","v":0},{"$f":"SUMIF('Base Datos'!$J$5:$J$30000,CONCATENATE(\"S\",B398),'Base Datos'!$I$5:$I$30000)","v":0},0,""]
[null,null,null,null,null,null,null,{"$f":"SUMIF('Base Datos'!$J$5:$J$30000,CONCATENATE(\"E\",B399),'Base Datos'!$I$5:$I$30000)","v":0},{"$f":"SUMIF('Base Datos'!$J$5:$J$30000,CONCATENATE(\"S\",B399),'Base Datos'!$I$5:$I$30000)","v":0},0,""]
[null,null,null,null,null,null,null,{"$f":"SUMIF('Base Datos'!$J$5:$J$30000,CONCATENATE(\"E\",B400),'Base Datos'!$I$5:$I$30000)","v":0},{"$f":"SUMIF('Base Datos'!$J$5:$J$30000,CONCATENATE(\"S\",B400),'Base Datos'!$I$5:$I$30000)","v":0},0,""]
[null,null,null,null,null,null,null,{"$f":"SUMIF('Base Datos'!$J$5:$J$30000,CONCATENATE(\"E\",B401),'Base Datos'!$I$5:$I$30000)","v":0},{"$f":"SUMIF('Base Datos'!$J$5:$J$30000,CONCATENATE(\"S\",B401),'Base Datos'!$I$5:$I$30000)","v":0},0,""]
[null,null,null,null,null,null,null,{"$f":"SUMIF('Base Datos'!$J$5:$J$30000,CONCATENATE(\"E\",B402),'Base Datos'!$I$5:$I$30000)","v":0},{"$f":"SUMIF('Base Datos'!$J$5:$J$30000,CONCATENATE(\"S\",B402),'Base Datos'!$I$5:$I$30000)","v":0},0,""]
[null,null,null,null,null,null,null,{"$f":"SUMIF('Base Datos'!$J$5:$J$30000,CONCATENATE(\"E\",B403),'Base Datos'!$I$5:$I$30000)","v":0},{"$f":"SUMIF('Base Datos'!$J$5:$J$30000,CONCATENATE(\"S\",B403),'Base Datos'!$I$5:$I$30000)","v":0},0,""]
[null,null,null,null,null,null,null,{"$f":"SUMIF('Base Datos'!$J$5:$J$30000,CONCATENATE(\"E\",B404),'Base Datos'!$I$5:$I$30000)","v":0},{"$f":"SUMIF('Base Datos'!$J$5:$J$30000,CONCATENATE(\"S\",B404),'Base Datos'!$I$5:$I$30000)","v":0},0,""]
[null,null,null,null,null,null,null,{"$f":"SUMIF('Base Datos'!$J$5:$J$30000,CONCATENATE(\"E\",B405),'Base Datos'!$I$5:$I$30000)","v":0},{"$f":"SUMIF('Base Datos'!$J$5:$J$30000,CONCATENATE(\"S\",B405),'Base Datos'!$I$5:$I$30000)","v":0},0,""]
[null,null,null,null,null,null,null,{"$f":"SUMIF('Base Datos'!$J$5:$J$30000,CONCATENATE(\"E\",B406),'Base Datos'!$I$5:$I$30000)","v":0},{"$f":"SUMIF('Base Datos'!$J$5:$J$30000,CONCATENATE(\"S\",B406),'Base Datos'!$I$5:$I$30000)","v":0},0,""]
[null,null,null,null,null,null,null,{"$f":"SUMIF('Base Datos'!$J$5:$J$30000,CONCATENATE(\"E\",B407),'Base Datos'!$I$5:$I$30000)","v":0},{"$f":"SUMIF('Base Datos'!$J$5:$J$30000,CONCATENATE(\"S\",B407),'Base Datos'!$I$5:$I$30000)","v":0},0,""]
[null,null,null,null,null,null,null,{"$f":"SUMIF('Base Datos'!$J$5:$J$30000,CONCATENATE(\"E\",B408),'Base Datos'!$I$5:$I$30000)","v":0},{"$f":"SUMIF('Base Datos'!$J$5:$J$30000,CONCATENATE(\"S\",B408),'Base Datos'!$I$5:$I$30000)","v":0},0,""]
[null,null,null,null,null,null,null,{"$f":"SUMIF('Base Datos'!$J$5:$J$30000,CONCATENATE(\"E\",B409),'Base Datos'!$I$5:$I$30000)","v":0},{"$f":"SUMIF('Base Datos'!$J$5:$J$30000,CONCATENATE(\"S\",B409),'Base Datos'!$I$5:$I$30000)","v":0},0,""]
[null,null,null,null,null,null,null,{"$f":"SUMIF('Base Datos'!$J$5:$J$30000,CONCATENATE(\"E\",B410),'Base Datos'!$I$5:$I$30000)","v":0},{"$f":"SUMIF('Base Datos'!$J$5:$J$30000,CONCATENATE(\"S\",B410),'Base Datos'!$I$5:$I$30000)","v":0},0,""]
[null,null,null,null,null,null,null,{"$f":"SUMIF('Base Datos'!$J$5:$J$30000,CONCATENATE(\"E\",B411),'Base Datos'!$I$5:$I$30000)","v":0},{"$f":"SUMIF('Base Datos'!$J$5:$J$30000,CONCATENATE(\"S\",B411),'Base Datos'!$I$5:$I$30000)","v":0},0,""]
[null,null,null,null,null,null,null,{"$f":"SUMIF('Base Datos'!$J$5:$J$30000,CONCATENATE(\"E\",B412),'Base Datos'!$I$5:$I$30000)","v":0},{"$f":"SUMIF('Base Datos'!$J$5:$J$30000,CONCATENATE(\"S\",B412),'Base Datos'!$I$5:$I$30000)","v":0},0,""]
[null,null,null,null,null,null,null,{"$f":"SUMIF('Base Datos'!$J$5:$J$30000,CONCATENATE(\"E\",B413),'Base Datos'!$I$5:$I$30000)","v":0},{"$f":"SUMIF('Base Datos'!$J$5:$J$30000,CONCATENATE(\"S\",B413),'Base Datos'!$I$5:$I$30000)","v":0},0,""]
[null,null,null,null,null,null,null,{"$f":"SUMIF('Base Datos'!$J$5:$J$30000,CONCATENATE(\"E\",B414),'Base Datos'!$I$5:$I$30000)","v":0},{"$f":"SUMIF('Base Datos'!$J$5:$J$30000,CONCATENATE(\"S\",B414),'Base Datos'!$I$5:$I$30000)","v":0},0,""]
[null,null,null,null,null,null,null,{"$f":"SUMIF('Base Datos'!$J$5:$J$30000,CONCATENATE(\"E\",B415),'Base Datos'!$I$5:$I$30000)","v":0},{"$f":"SUMIF('Base Datos'!$J$5:$J$30000,CONCATENATE(\"S\",B415),'Base Datos'!$I$5:$I$30000)","v":0},0,""]
[null,null,null,null,null,null,null,{"$f":"SUMIF('Base Datos'!$J$5:$J$30000,CONCATENATE(\"E\",B416),'Base Datos'!$I$5:$I$30000)","v":0},{"$f":"SUMIF('Base Datos'!$J$5:$J$30000,CONCATENATE(\"S\",B416),'Base Datos'!$I$5:$I$30000)","v":0},0,""]
[null,null,null,null,null,null,null,{"$f":"SUMIF('Base Datos'!$J$5:$J$30000,CONCATENATE(\"E\",B417),'Base Datos'!$I$5:$I$30000)","v":0},{"$f":"SUMIF('Base Datos'!$J$5:$J$30000,CONCATENATE(\"S\",B417),'Base Datos'!$I$5:$I$30000)","v":0},0,""]
[null,null,null,null,null,null,null,{"$f":"SUMIF('Base Datos'!$J$5:$J$30000,CONCATENATE(\"E\",B418),'Base Datos'!$I$5:$I$30000)","v":0},{"$f":"SUMIF('Base Datos'!$J$5:$J$30000,CONCATENATE(\"S\",B418),'Base Datos'!$I$5:$I$30000)","v":0},0,""]
[null,null,null,null,null,null,null,{"$f":"SUMIF('Base Datos'!$J$5:$J$30000,CONCATENATE(\"E\",B419),'Base Datos'!$I$5:$I$30000)","v":0},{"$f":"SUMIF('Base Datos'!$J$5:$J$30000,CONCATENATE(\"S\",B419),'Base Datos'!$I$5:$I$30000)","v":0},0,""]
[null,null,null,null,null,null,null,{"$f":"SUMIF('Base Datos'!$J$5:$J$30000,CONCATENATE(\"E\",B420),'Base Datos'!$I$5:$I$30000)","v":0},{"$f":"SUMIF('Base Datos'!$J$5:$J$30000,CONCATENATE(\"S\",B420),'Base Datos'!$I$5:$I$30000)","v":0},0,""]
[null,null,null,null,null,null,null,{"$f":"SUMIF('Base Datos'!$J$5:$J$30000,CONCATENATE(\"E\",B421),'Base Datos'!$I$5:$I$30000)","v":0},{"$f":"SUMIF('Base Datos'!$J$5:$J$30000,CONCATENATE(\"S\",B421),'Base Datos'!$I$5:$I$30000)","v":0},0,""]
[null,null,null,null,null,null,null,{"$f":"SUMIF('Base Datos'!$J$5:$J$30000,CONCATENATE(\"E\",B422),'Base Datos'!$I$5:$I$30000)","v":0},{"$f":"SUMIF('Base Datos'!$J$5:$J$30000,CONCATENATE(\"S\",B422),'Base Datos'!$I$5:$I$30000)","v":0},0,""]
[null,null,null,null,null,null,null,{"$f":"SUMIF('Base Datos'!$J$5:$J$30000,CONCATENATE(\"E\",B423),'Base Datos'!$I$5:$I$30000)","v":0},{"$f":"SUMIF('Base Datos'!$J$5:$J$30000,CONCATENATE(\"S\",B423),'Base Datos'!$I$5:$I$30000)","v":0},0,""]
[null,null,null,null,null,null,null,{"$f":"SUMIF('Base Datos'!$J$5:$J$30000,CONCATENATE(\"E\",B424),'Base Datos'!$I$5:$I$30000)","v":0},{"$f":"SUMIF('Base Datos'!$J$5:$J$30000,CONCATENATE(\"S\",B424),'Base Datos'!$I$5:$I$30000)","v":0},0,""]
[null,null,null,null,null,null,null,{"$f":"SUMIF('Base Datos'!$J$5:$J$30000,CONCATENATE(\"E\",B425),'Base Datos'!$I$5:$I$30000)","v":0},{"$f":"SUMIF('Base Datos'!$J$5:$J$30000,CONCATENATE(\"S\",B425),'Base Datos'!$I$5:$I$30000)","v":0},0,""]
[null,null,null,null,null,null,null,{"$f":"SUMIF('Base Datos'!$J$5:$J$30000,CONCATENATE(\"E\",B426),'Base Datos'!$I$5:$I$30000)","v":0},{"$f":"SUMIF('Base Datos'!$J$5:$J$30000,CONCATENATE(\"S\",B426),'Base Datos'!$I$5:$I$30000)","v":0},0,""]
[null,null,null,null,null,null,null,{"$f":"SUMIF('Base Datos'!$J$5:$J$30000,CONCATENATE(\"E\",B427),'Base Datos'!$I$5:$I$30000)","v":0},{"$f":"SUMIF('Base Datos'!$J$5:$J$30000,CONCATENATE(\"S\",B427),'Base Datos'!$I$5:$I$30000)","v":0},0,""]
[null,null,null,null,null,null,null,{"$f":"SUMIF('Base Datos'!$J$5:$J$30000,CONCATENATE(\"E\",B428),'Base Datos'!$I$5:$I$30000)","v":0},{"$f":"SUMIF('Base Datos'!$J$5:$J$30000,CONCATENATE(\"S\",B428),'Base Datos'!$I$5:$I$30000)","v":0},0,""]
[null,null,null,null,null,null,null,{"$f":"SUMIF('Base Datos'!$J$5:$J$30000,CONCATENATE(\"E\",B429),'Base Datos'!$I$5:$I$30000)","v":0},{"$f":"SUMIF('Base Datos'!$J$5:$J$30000,CONCATENATE(\"S\",B429),'Base Datos'!$I$5:$I$30000)","v":0},0,""]
[null,null,null,null,null,null,null,{"$f":"SUMIF('Base Datos'!$J$5:$J$30000,CONCATENATE(\"E\",B430),'Base Datos'!$I$5:$I$30000)","v":0},{"$f":"SUMIF('Base Datos'!$J$5:$J$30000,CONCATENATE(\"S\",B430),'Base Datos'!$I$5:$I$30000)","v":0},0,""]
[null,null,null,null,null,null,null,{"$f":"SUMIF('Base Datos'!$J$5:$J$30000,CONCATENATE(\"E\",B431),'Base Datos'!$I$5:$I$30000)","v":0},{"$f":"SUMIF('Base Datos'!$J$5:$J$30000,CONCATENATE(\"S\",B431),'Base Datos'!$I$5:$I$30000)","v":0},0,""]
[null,null,null,null,null,null,null,{"$f":"SUMIF('Base Datos'!$J$5:$J$30000,CONCATENATE(\"E\",B432),'Base Datos'!$I$5:$I$30000)","v":0},{"$f":"SUMIF('Base Datos'!$J$5:$J$30000,CONCATENATE(\"S\",B432),'Base Datos'!$I$5:$I$30000)","v":0},0,""]
[null,null,null,null,null,null,null,{"$f":"SUMIF('Base Datos'!$J$5:$J$30000,CONCATENATE(\"E\",B433),'Base Datos'!$I$5:$I$30000)","v":0},{"$f":"SUMIF('Base Datos'!$J$5:$J$30000,CONCATENATE(\"S\",B433),'Base Datos'!$I$5:$I$30000)","v":0},0,""]
[null,null,null,null,null,null,null,{"$f":"SUMIF('Base Datos'!$J$5:$J$30000,CONCATENATE(\"E\",B434),'Base Datos'!$I$5:$I$30000)","v":0},{"$f":"SUMIF('Base Datos'!$J$5:$J$30000,CONCATENATE(\"S\",B434),'Base Datos'!$I$5:$I$30000)","v":0},0,""]
[null,null,null,null,null,null,null,{"$f":"SUMIF('Base Datos'!$J$5:$J$30000,CONCATENATE(\"E\",B435),'Base Datos'!$I$5:$I$30000)","v":0},{"$f":"SUMIF('Base Datos'!$J$5:$J$30000,CONCATENATE(\"S\",B435),'Base Datos'!$I$5:$I$30000)","v":0},0,""]
[null,null,null,null,null,null,null,{"$f":"SUMIF('Base Datos'!$J$5:$J$30000,CONCATENATE(\"E\",B436),'Base Datos'!$I$5:$I$30000)","v":0},{"$f":"SUMIF('Base Datos'!$J$5:$J$30000,CONCATENATE(\"S\",B436),'Base Datos'!$I$5:$I$30000)","v":0},0,""]
[null,null,null,null,null,null,null,{"$f":"SUMIF('Base Datos'!$J$5:$J$30000,CONCATENATE(\"E\",B437),'Base Datos'!$I$5:$I$30000)","v":0},{"$f":"SUMIF('Base Datos'!$J$5:$J$30000,CONCATENATE(\"S\",B437),'Base Datos'!$I$5:$I$30000)","v":0},0,""]
[null,null,null,null,null,null,null,{"$f":"SUMIF('Base Datos'!$J$5:$J$30000,CONCATENATE(\"E\",B438),'Base Datos'!$I$5:$I$30000)","v":0},{"$f":"SUMIF('Base Datos'!$J$5:$J$30000,CONCATENATE(\"S\",B438),'Base Datos'!$I$5:$I$30000)","v":0},0,""]
[null,null,null,null,null,null,null,{"$f":"SUMIF('Base Datos'!$J$5:$J$30000,CONCATENATE(\"E\",B439),'Base Datos'!$I$5:$I$30000)","v":0},{"$f":"SUMIF('Base Datos'!$J$5:$J$30000,CONCATENATE(\"S\",B439),'Base Datos'!$I$5:$I$30000)","v":0},0,""]
[null,null,null,null,null,null,null,{"$f":"SUMIF('Base Datos'!$J$5:$J$30000,CONCATENATE(\"E\",B440),'Base Datos'!$I$5:$I$30000)","v":0},{"$f":"SUMIF('Base Datos'!$J$5:$J$30000,CONCATENATE(\"S\",B440),'Base Datos'!$I$5:$I$30000)","v":0},0,""]
[null,null,null,null,null,null,null,{"$f":"SUMIF('Base Datos'!$J$5:$J$30000,CONCATENATE(\"E\",B441),'Base Datos'!$I$5:$I$30000)","v":0},{"$f":"SUMIF('Base Datos'!$J$5:$J$30000,CONCATENATE(\"S\",B441),'Base Datos'!$I$5:$I$30000)","v":0},0,""]
[null,null,null,null,null,null,null,{"$f":"SUMIF('Base Datos'!$J$5:$J$30000,CONCATENATE(\"E\",B442),'Base Datos'!$I$5:$I$30000)","v":0},{"$f":"SUMIF('Base Datos'!$J$5:$J$30000,CONCATENATE(\"S\",B442),'Base Datos'!$I$5:$I$30000)","v":0},0,""]
[null,null,null,null,null,null,null,{"$f":"SUMIF('Base Datos'!$J$5:$J$30000,CONCATENATE(\"E\",B443),'Base Datos'!$I$5:$I$30000)","v":0},{"$f":"SUMIF('Base Datos'!$J$5:$J$30000,CONCATENATE(\"S\",B443),'Base Datos'!$I$5:$I$30000)","v":0},0,""]
[null,null,null,null,null,null,null,{"$f":"SUMIF('Base Datos'!$J$5:$J$30000,CONCATENATE(\"E\",B444),'Base Datos'!$I$5:$I$30000)","v":0},{"$f":"SUMIF('Base Datos'!$J$5:$J$30000,CONCATENATE(\"S\",B444),'Base Datos'!$I$5:$I$30000)","v":0},0,""]
[null,null,null,null,null,null,null,{"$f":"SUMIF('Base Datos'!$J$5:$J$30000,CONCATENATE(\"E\",B445),'Base Datos'!$I$5:$I$30000)","v":0},{"$f":"SUMIF('Base Datos'!$J$5:$J$30000,CONCATENATE(\"S\",B445),'Base Datos'!$I$5:$I$30000)","v":0},0,""]
[null,null,null,null,null,null,null,{"$f":"SUMIF('Base Datos'!$J$5:$J$30000,CONCATENATE(\"E\",B446),'Base Datos'!$I$5:$I$30000)","v":0},{"$f":"SUMIF('Base Datos'!$J$5:$J$30000,CONCATENATE(\"S\",B446),'Base Datos'!$I$5:$I$30000)","v":0},0,""]
[null,null,null,null,null,null,null,{"$f":"SUMIF('Base Datos'!$J$5:$J$30000,CONCATENATE(\"E\",B447),'Base Datos'!$I$5:$I$30000)","v":0},{"$f":"SUMIF('Base Datos'!$J$5:$J$30000,CONCATENATE(\"S\",B447),'Base Datos'!$I$5:$I$30000)","v":0},0,""]
[null,null,null,null,null,null,null,{"$f":"SUMIF('Base Datos'!$J$5:$J$30000,CONCATENATE(\"E\",B448),'Base Datos'!$I$5:$I$30000)","v":0},{"$f":"SUMIF('Base Datos'!$J$5:$J$30000,CONCATENATE(\"S\",B448),'Base Datos'!$I$5:$I$30000)","v":0},0,""]
[null,null,null,null,null,null,null,{"$f":"SUMIF('Base Datos'!$J$5:$J$30000,CONCATENATE(\"E\",B449),'Base Datos'!$I$5:$I$30000)","v":0},{"$f":"SUMIF('Base Datos'!$J$5:$J$30000,CONCATENATE(\"S\",B449),'Base Datos'!$I$5:$I$30000)","v":0},0,""]
[null,null,null,null,null,null,null,{"$f":"SUMIF('Base Datos'!$J$5:$J$30000,CONCATENATE(\"E\",B450),'Base Datos'!$I$5:$I$30000)","v":0},{"$f":"SUMIF('Base Datos'!$J$5:$J$30000,CONCATENATE(\"S\",B450),'Base Datos'!$I$5:$I$30000)","v":0},0,""]
[null,null,null,null,null,null,null,{"$f":"SUMIF('Base Datos'!$J$5:$J$30000,CONCATENATE(\"E\",B451),'Base Datos'!$I$5:$I$30000)","v":0},{"$f":"SUMIF('Base Datos'!$J$5:$J$30000,CONCATENATE(\"S\",B451),'Base Datos'!$I$5:$I$30000)","v":0},0,""]
[null,null,null,null,null,null,null,{"$f":"SUMIF('Base Datos'!$J$5:$J$30000,CONCATENATE(\"E\",B452),'Base Datos'!$I$5:$I$30000)","v":0},{"$f":"SUMIF('Base Datos'!$J$5:$J$30000,CONCATENATE(\"S\",B452),'Base Datos'!$I$5:$I$30000)","v":0},0,""]
[null,null,null,null,null,null,null,{"$f":"SUMIF('Base Datos'!$J$5:$J$30000,CONCATENATE(\"E\",B453),'Base Datos'!$I$5:$I$30000)","v":0},{"$f":"SUMIF('Base Datos'!$J$5:$J$30000,CONCATENATE(\"S\",B453),'Base Datos'!$I$5:$I$30000)","v":0},0,""]
[null,null,null,null,null,null,null,{"$f":"SUMIF('Base Datos'!$J$5:$J$30000,CONCATENATE(\"E\",B454),'Base Datos'!$I$5:$I$30000)","v":0},{"$f":"SUMIF('Base Datos'!$J$5:$J$30000,CONCATENATE(\"S\",B454),'Base Datos'!$I$5:$I$30000)","v":0},0,""]
[null,null,null,null,null,null,null,{"$f":"SUMIF('Base Datos'!$J$5:$J$30000,CONCATENATE(\"E\",B455),'Base Datos'!$I$5:$I$30000)","v":0},{"$f":"SUMIF('Base Datos'!$J$5:$J$30000,CONCATENATE(\"S\",B455),'Base Datos'!$I$5:$I$30000)","v":0},0,{"$f":"IFERROR(ROUND(J455/F455,0),\"\")","v":""}]
[null,null,null,null,null,null,null,{"$f":"SUMIF('Base Datos'!$J$5:$J$30000,CONCATENATE(\"E\",B456),'Base Datos'!$I$5:$I$30000)","v":0},{"$f":"SUMIF('Base Datos'!$J$5:$J$30000,CONCATENATE(\"S\",B456),'Base Datos'!$I$5:$I$30000)","v":0},0,""]
[null,null,null,null,null,null,null,{"$f":"SUMIF('Base Datos'!$J$5:$J$30000,CONCATENATE(\"E\",B457),'Base Datos'!$I$5:$I$30000)","v":0},{"$f":"SUMIF('Base Datos'!$J$5:$J$30000,CONCATENATE(\"S\",B457),'Base Datos'!$I$5:$I$30000)","v":0},0,""]
[null,null,null,null,null,null,null,{"$f":"SUMIF('Base Datos'!$J$5:$J$30000,CONCATENATE(\"E\",B458),'Base Datos'!$I$5:$I$30000)","v":0},{"$f":"SUMIF('Base Datos'!$J$5:$J$30000,CONCATENATE(\"S\",B458),'Base Datos'!$I$5:$I$30000)","v":0},0,""]
[null,null,null,null,null,null,null,{"$f":"SUMIF('Base Datos'!$J$5:$J$30000,CONCATENATE(\"E\",B459),'Base Datos'!$I$5:$I$30000)","v":0},{"$f":"SUMIF('Base Datos'!$J$5:$J$30000,CONCATENATE(\"S\",B459),'Base Datos'!$I$5:$I$30000)","v":0},0,""]
[null,null,null,null,null,null,null,{"$f":"SUMIF('Base Datos'!$J$5:$J$30000,CONCATENATE(\"E\",B460),'Base Datos'!$I$5:$I$30000)","v":0},{"$f":"SUMIF('Base Datos'!$J$5:$J$30000,CONCATENATE(\"S\",B460),'Base Datos'!$I$5:$I$30000)","v":0},0,""]
[null,null,null,null,null,null,null,{"$f":"SUMIF('Base Datos'!$J$5:$J$30000,CONCATENATE(\"E\",B461),'Base Datos'!$I$5:$I$30000)","v":0},{"$f":"SUMIF('Base Datos'!$J$5:$J$30000,CONCATENATE(\"S\",B461),'Base Datos'!$I$5:$I$30000)","v":0},{"$f":"(G461+H461-I461)","v":0},""]
[null,null,null,null,null,null,null,{"$f":"SUMIF('Base Datos'!$J$5:$J$30000,CONCATENATE(\"E\",B462),'Base Datos'!$I$5:$I$30000)","v":0},{"$f":"SUMIF('Base Datos'!$J$5:$J$30000,CONCATENATE(\"S\",B462),'Base Datos'!$I$5:$I$30000)","v":0},0,""]
[null,null,null,null,null,null,null,{"$f":"SUMIF('Base Datos'!$J$5:$J$30000,CONCATENATE(\"E\",B463),'Base Datos'!$I$5:$I$30000)","v":0},{"$f":"SUMIF('Base Datos'!$J$5:$J$30000,CONCATENATE(\"S\",B463),'Base Datos'!$I$5:$I$30000)","v":0},0,""]
[null,null,null,null,null,null,null,{"$f":"SUMIF('Base Datos'!$J$5:$J$30000,CONCATENATE(\"E\",B464),'Base Datos'!$I$5:$I$30000)","v":0},{"$f":"SUMIF('Base Datos'!$J$5:$J$30000,CONCATENATE(\"S\",B464),'Base Datos'!$I$5:$I$30000)","v":0},0,""]
[null,null,null,null,null,null,null,{"$f":"SUMIF('Base Datos'!$J$5:$J$30000,CONCATENATE(\"E\",B465),'Base Datos'!$I$5:$I$30000)","v":0},{"$f":"SUMIF('Base Datos'!$J$5:$J$30000,CONCATENATE(\"S\",B465),'Base Datos'!$I$5:$I$30000)","v":0},0,""]
[null,null,null,null,null,null,null,{"$f":"SUMIF('Base Datos'!$J$5:$J$30000,CONCATENATE(\"E\",B466),'Base Datos'!$I$5:$I$30000)","v":0},{"$f":"SUMIF('Base Datos'!$J$5:$J$30000,CONCATENATE(\"S\",B466),'Base Datos'!$I$5:$I$30000)","v":0},0,""]
[null,null,null,null,null,null,null,{"$f":"SUMIF('Base Datos'!$J$5:$J$30000,CONCATENATE(\"E\",B467),'Base Datos'!$I$5:$I$30000)","v":0},{"$f":"SUMIF('Base Datos'!$J$5:$J$30000,CONCATENATE(\"S\",B467),'Base Datos'!$I$5:$I$30000)","v":0},0,""]
[null,null,null,null,null,null,null,{"$f":"SUMIF('Base Datos'!$J$5:$J$30000,CONCATENATE(\"E\",B468),'Base Datos'!$I$5:$I$30000)","v":0},{"$f":"SUMIF('Base Datos'!$J$5:$J$30000,CONCATENATE(\"S\",B468),'Base Datos'!$I$5:$I$30000)","v":0},0,""]
[null,null,null,null,null,null,null,{"$f":"SUMIF('Base Datos'!$J$5:$J$30000,CONCATENATE(\"E\",B469),'Base Datos'!$I$5:$I$30000)","v":0},{"$f":"SUMIF('Base Datos'!$J$5:$J$30000,CONCATENATE(\"S\",B469),'Base Datos'!$I$5:$I$30000)","v":0},0,""]
[null,null,null,null,null,null,null,{"$f":"SUMIF('Base Datos'!$J$5:$J$30000,CONCATENATE(\"E\",B470),'Base Datos'!$I$5:$I$30000)","v":0},{"$f":"SUMIF('Base Datos'!$J$5:$J$30000,CONCATENATE(\"S\",B470),'Base Datos'!$I$5:$I$30000)","v":0},0,""]
[null,null,null,null,null,null,null,{"$f":"SUMIF('Base Datos'!$J$5:$J$30000,CONCATENATE(\"E\",B471),'Base Datos'!$I$5:$I$30000)","v":0},{"$f":"SUMIF('Base Datos'!$J$5:$J$30000,CONCATENATE(\"S\",B471),'Base Datos'!$I$5:$I$30000)","v":0},0,""]
[null,null,null,null,null,null,null,{"$f":"SUMIF('Base Datos'!$J$5:$J$30000,CONCATENATE(\"E\",B472),'Base Datos'!$I$5:$I$30000)","v":0},{"$f":"SUMIF('Base Datos'!$J$5:$J$30000,CONCATENATE(\"S\",B472),'Base Datos'!$I$5:$I$30000)","v":0},0,""]
[null,null,null,null,null,null,null,{"$f":"SUMIF('Base Datos'!$J$5:$J$30000,CONCATENATE(\"E\",B473),'Base Datos'!$I$5:$I$30000)","v":0},{"$f":"SUMIF('Base Datos'!$J$5:$J$30000,CONCATENATE(\"S\",B473),'Base Datos'!$I$5:$I$30000)","v":0},0,""]
[null,null,null,null,null,null,null,{"$f":"SUMIF('Base Datos'!$J$5:$J$30000,CONCATENATE(\"E\",B474),'Base Datos'!$I$5:$I$30000)","v":0},{"$f":"SUMIF('Base Datos'!$J$5:$J$30000,CONCATENATE(\"S\",B474),'Base Datos'!$I$5:$I$30000)","v":0},0,""]
[null,null,null,null,null,null,null,{"$f":"SUMIF('Base Datos'!$J$5:$J$30000,CONCATENATE(\"E\",B475),'Base Datos'!$I$5:$I$30000)","v":0},{"$f":"SUMIF('Base Datos'!$J$5:$J$30000,CONCATENATE(\"S\",B475),'Base Datos'!$I$5:$I$30000)","v":0},0,""]
[null,null,null,null,null,null,null,{"$f":"SUMIF('Base Datos'!$J$5:$J$30000,CONCATENATE(\"E\",B476),'Base Datos'!$I$5:$I$30000)","v":0},{"$f":"SUMIF('Base Datos'!$J$5:$J$30000,CONCATENATE(\"S\",B476),'Base Datos'!$I$5:$I$30000)","v":0},0,""]
[null,null,null,null,null,null,null,{"$f":"SUMIF('Base Datos'!$J$5:$J$30000,CONCATENATE(\"E\",B477),'Base Datos'!$I$5:$I$30000)","v":0},{"$f":"SUMIF('Base Datos'!$J$5:$J$30000,CONCATENATE(\"S\",B477),'Base Datos'!$I$5:$I$30000)","v":0},0,""]
[null,null,null,null,null,null,null,{"$f":"SUMIF('Base Datos'!$J$5:$J$30000,CONCATENATE(\"E\",B478),'Base Datos'!$I$5:$I$30000)","v":0},{"$f":"SUMIF('Base Datos'!$J$5:$J$30000,CONCATENATE(\"S\",B478),'Base Datos'!$I$5:$I$30000)","v":0},0,""]
[null,null,null,null,null,null,null,{"$f":"SUMIF('Base Datos'!$J$5:$J$30000,CONCATENATE(\"E\",B479),'Base Datos'!$I$5:$I$30000)","v":0},{"$f":"SUMIF('Base Datos'!$J$5:$J$30000,CONCATENATE(\"S\",B479),'Base Datos'!$I$5:$I$30000)","v":0},0,""]
[null,null,null,null,null,null,null,{"$f":"SUMIF('Base Datos'!$J$5:$J$30000,CONCATENATE(\"E\",B480),'Base Datos'!$I$5:$I$30000)","v":0},{"$f":"SUMIF('Base Datos'!$J$5:$J$30000,CONCATENATE(\"S\",B480),'Base Datos'!$I$5:$I$30000)","v":0},0,""]
[null,null,null,null,null,null,null,{"$f":"SUMIF('Base Datos'!$J$5:$J$30000,CONCATENATE(\"E\",B481),'Base Datos'!$I$5:$I$30000)","v":0},{"$f":"SUMIF('Base Datos'!$J$5:$J$30000,CONCATENATE(\"S\",B481),'Base Datos'!$I$5:$I$30000)","v":0},0,""]
[null,null,null,null,null,null,null,{"$f":"SUMIF('Base Datos'!$J$5:$J$30000,CONCATENATE(\"E\",B482),'Base Datos'!$I$5:$I$30000)","v":0},{"$f":"SUMIF('Base Datos'!$J$5:$J$30000,CONCATENATE(\"S\",B482),'Base Datos'!$I$5:$I$30000)","v":0},0,""]
[null,null,null,null,null,null,null,{"$f":"SUMIF('Base Datos'!$J$5:$J$30000,CONCATENATE(\"E\",B483),'Base Datos'!$I$5:$I$30000)","v":0},{"$f":"SUMIF('Base Datos'!$J$5:$J$30000,CONCATENATE(\"S\",B483),'Base Datos'!$I$5:$I$30000)","v":0},0,""]
[null,null,null,null,null,null,null,{"$f":"SUMIF('Base Datos'!$J$5:$J$30000,CONCATENATE(\"E\",B484),'Base Datos'!$I$5:$I$30000)","v":0},{"$f":"SUMIF('Base Datos'!$J$5:$J$30000,CONCATENATE(\"S\",B484),'Base Datos'!$I$5:$I$30000)","v":0},0,""]
[null,null,null,null,null,null,null,{"$f":"SUMIF('Base Datos'!$J$5:$J$30000,CONCATENATE(\"E\",B485),'Base Datos'!$I$5:$I$30000)","v":0},{"$f":"SUMIF('Base Datos'!$J$5:$J$30000,CONCATENATE(\"S\",B485),'Base Datos'!$I$5:$I$30000)","v":0},0,""]
[null,null,null,null,null,null,null,{"$f":"SUMIF('Base Datos'!$J$5:$J$30000,CONCATENATE(\"E\",B486),'Base Datos'!$I$5:$I$30000)","v":0},{"$f":"SUMIF('Base Datos'!$J$5:$J$30000,CONCATENATE(\"S\",B486),'Base Datos'!$I$5:$I$30000)","v":0},0,""]
[null,null,null,null,null,null,null,{"$f":"SUMIF('Base Datos'!$J$5:$J$30000,CONCATENATE(\"E\",B487),'Base Datos'!$I$5:$I$30000)","v":0},{"$f":"SUMIF('Base Datos'!$J$5:$J$30000,CONCATENATE(\"S\",B487),'Base Datos'!$I$5:$I$30000)","v":0},0,""]
[null,null,null,null,null,null,null,{"$f":"SUMIF('Base Datos'!$J$5:$J$30000,CONCATENATE(\"E\",B488),'Base Datos'!$I$5:$I$30000)","v":0},{"$f":"SUMIF('Base Datos'!$J$5:$J$30000,CONCATENATE(\"S\",B488),'Base Datos'!$I$5:$I$30000)","v":0},0,""]
[null,null,null,null,null,null,null,{"$f":"SUMIF('Base Datos'!$J$5:$J$30000,CONCATENATE(\"E\",B489),'Base Datos'!$I$5:$I$30000)","v":0},{"$f":"SUMIF('Base Datos'!$J$5:$J$30000,CONCATENATE(\"S\",B489),'Base Datos'!$I$5:$I$30000)","v":0},0,""]
[null,null,null,null,null,null,null,{"$f":"SUMIF('Base Datos'!$J$5:$J$30000,CONCATENATE(\"E\",B490),'Base Datos'!$I$5:$I$30000)","v":0},{"$f":"SUMIF('Base Datos'!$J$5:$J$30000,CONCATENATE(\"S\",B490),'Base Datos'!$I$5:$I$30000)","v":0},0,""]
[null,null,null,null,null,null,null,{"$f":"SUMIF('Base Datos'!$J$5:$J$30000,CONCATENATE(\"E\",B491),'Base Datos'!$I$5:$I$30000)","v":0},{"$f":"SUMIF('Base Datos'!$J$5:$J$30000,CONCATENATE(\"S\",B491),'Base Datos'!$I$5:$I$30000)","v":0},0,""]
[null,null,null,null,null,null,null,{"$f":"SUMIF('Base Datos'!$J$5:$J$30000,CONCATENATE(\"E\",B492),'Base Datos'!$I$5:$I$30000)","v":0},{"$f":"SUMIF('Base Datos'!$J$5:$J$30000,CONCATENATE(\"S\",B492),'Base Datos'!$I$5:$I$30000)","v":0},0,""]
[null,null,null,null,null,null,null,{"$f":"SUMIF('Base Datos'!$J$5:$J$30000,CONCATENATE(\"E\",B493),'Base Datos'!$I$5:$I$30000)","v":0},{"$f":"SUMIF('Base Datos'!$J$5:$J$30000,CONCATENATE(\"S\",B493),'Base Datos'!$I$5:$I$30000)","v":0},0,""]
[null,null,null,null,null,null,null,{"$f":"SUMIF('Base Datos'!$J$5:$J$30000,CONCATENATE(\"E\",B494),'Base Datos'!$I$5:$I$30000)","v":0},{"$f":"SUMIF('Base Datos'!$J$5:$J$30000,CONCATENATE(\"S\",B494),'Base Datos'!$I$5:$I$30000)","v":0},0,""]
[null,null,null,null,null,null,null,{"$f":"SUMIF('Base Datos'!$J$5:$J$30000,CONCATENATE(\"E\",B495),'Base Datos'!$I$5:$I$30000)","v":0},{"$f":"SUMIF('Base Datos'!$J$5:$J$30000,CONCATENATE(\"S\",B495),'Base Datos'!$I$5:$I$30000)","v":0},0,""]
[null,null,null,null,null,null,null,{"$f":"SUMIF('Base Datos'!$J$5:$J$30000,CONCATENATE(\"E\",B496),'Base Datos'!$I$5:$I$30000)","v":0},{"$f":"SUMIF('Base Datos'!$J$5:$J$30000,CONCATENATE(\"S\",B496),'Base Datos'!$I$5:$I$30000)","v":0},0,""]
[null,null,null,null,null,null,null,{"$f":"SUMIF('Base Datos'!$J$5:$J$30000,CONCATENATE(\"E\",B497),'Base Datos'!$I$5:$I$30000)","v":0},{"$f":"SUMIF('Base Datos'!$J$5:$J$30000,CONCATENATE(\"S\",B497),'Base Datos'!$I$5:$I$30000)","v":0},0,""]
[null,null,null,null,null,null,null,{"$f":"SUMIF('Base Datos'!$J$5:$J$30000,CONCATENATE(\"E\",B498),'Base Datos'!$I$5:$I$30000)","v":0},{"$f":"SUMIF('Base Datos'!$J$5:$J$30000,CONCATENATE(\"S\",B498),'Base Datos'!$I$5:$I$30000)","v":0},0,""]
[null,null,null,null,null,null,null,{"$f":"SUMIF('Base Datos'!$J$5:$J$30000,CONCATENATE(\"E\",B499),'Base Datos'!$I$5:$I$30000)","v":0},{"$f":"SUMIF('Base Datos'!$J$5:$J$30000,CONCATENATE(\"S\",B499),'Base Datos'!$I$5:$I$30000)","v":0},0,""]
[null,null,null,null,null,null,null,{"$f":"SUMIF('Base Datos'!$J$5:$J$30000,CONCATENATE(\"E\",B500),'Base Datos'!$I$5:$I$30000)","v":0},{"$f":"SUMIF('Base Datos'!$J$5:$J$30000,CONCATENATE(\"S\",B500),'Base Datos'!$I$5:$I$30000)","v":0},0,""]
[null,null,null,null,null,null,null,{"$f":"SUMIF('Base Datos'!$J$5:$J$30000,CONCATENATE(\"E\",B501),'Base Datos'!$I$5:$I$30000)","v":0},{"$f":"SUMIF('Base Datos'!$J$5:$J$30000,CONCATENATE(\"S\",B501),'Base Datos'!$I$5:$I$30000)","v":0},0,""]
[null,null,null,null,null,null,null,{"$f":"SUMIF('Base Datos'!$J$5:$J$30000,CONCATENATE(\"E\",B502),'Base Datos'!$I$5:$I$30000)","v":0},{"$f":"SUMIF('Base Datos'!$J$5:$J$30000,CONCATENATE(\"S\",B502),'Base Datos'!$I$5:$I$30000)","v":0},0,""]
[null,null,null,null,null,null,null,{"$f":"SUMIF('Base Datos'!$J$5:$J$30000,CONCATENATE(\"E\",B503),'Base Datos'!$I$5:$I$30000)","v":0},{"$f":"SUMIF('Base Datos'!$J$5:$J$30000,CONCATENATE(\"S\",B503),'Base Datos'!$I$5:$I$30000)","v":0},0,""]
[null,null,null,null,null,null,null,{"$f":"SUMIF('Base Datos'!$J$5:$J$30000,CONCATENATE(\"E\",B504),'Base Datos'!$I$5:$I$30000)","v":0},{"$f":"SUMIF('Base Datos'!$J$5:$J$30000,CONCATENATE(\"S\",B504),'Base Datos'!$I$5:$I$30000)","v":0},0,""]
[null,null,null,null,null,null,null,{"$f":"SUMIF('Base Datos'!$J$5:$J$30000,CONCATENATE(\"E\",B505),'Base Datos'!$I$5:$I$30000)","v":0},{"$f":"SUMIF('Base Datos'!$J$5:$J$30000,CONCATENATE(\"S\",B505),'Base Datos'!$I$5:$I$30000)","v":0},0,""]
[null,null,null,null,null,null,null,{"$f":"SUMIF('Base Datos'!$J$5:$J$30000,CONCATENATE(\"E\",B506),'Base Datos'!$I$5:$I$30000)","v":0},{"$f":"SUMIF('Base Datos'!$J$5:$J$30000,CONCATENATE(\"S\",B506),'Base Datos'!$I$5:$I$30000)","v":0},0,""]
[null,null,null,null,null,null,null,{"$f":"SUMIF('Base Datos'!$J$5:$J$30000,CONCATENATE(\"E\",B507),'Base Datos'!$I$5:$I$30000)","v":0},{"$f":"SUMIF('Base Datos'!$J$5:$J$30000,CONCATENATE(\"S\",B507),'Base Datos'!$I$5:$I$30000)","v":0},0,""]
[null,null,null,null,null,null,null,{"$f":"SUMIF('Base Datos'!$J$5:$J$30000,CONCATENATE(\"E\",B508),'Base Datos'!$I$5:$I$30000)","v":0},{"$f":"SUMIF('Base Datos'!$J$5:$J$30000,CONCATENATE(\"S\",B508),'Base Datos'!$I$5:$I$30000)","v":0},0,""]
[null,null,null,null,null,null,null,{"$f":"SUMIF('Base Datos'!$J$5:$J$30000,CONCATENATE(\"E\",B509),'Base Datos'!$I$5:$I$30000)","v":0},{"$f":"SUMIF('Base Datos'!$J$5:$J$30000,CONCATENATE(\"S\",B509),'Base Datos'!$I$5:$I$30000)","v":0},0,""]
[null,null,null,null,null,null,null,{"$f":"SUMIF('Base Datos'!$J$5:$J$30000,CONCATENATE(\"E\",B510),'Base Datos'!$I$5:$I$30000)","v":0},{"$f":"SUMIF('Base Datos'!$J$5:$J$30000,CONCATENATE(\"S\",B510),'Base Datos'!$I$5:$I$30000)","v":0},0,""]
[null,null,null,null,null,null,null,{"$f":"SUMIF('Base Datos'!$J$5:$J$30000,CONCATENATE(\"E\",B511),'Base Datos'!$I$5:$I$30000)","v":0},{"$f":"SUMIF('Base Datos'!$J$5:$J$30000,CONCATENATE(\"S\",B511),'Base Datos'!$I$5:$I$30000)","v":0},0,""]
[null,null,null,null,null,null,null,{"$f":"SUMIF('Base Datos'!$J$5:$J$30000,CONCATENATE(\"E\",B512),'Base Datos'!$I$5:$I$30000)","v":0},{"$f":"SUMIF('Base Datos'!$J$5:$J$30000,CONCATENATE(\"S\",B512),'Base Datos'!$I$5:$I$30000)","v":0},0,""]
[null,null,null,null,null,null,null,{"$f":"SUMIF('Base Datos'!$J$5:$J$30000,CONCATENATE(\"E\",B513),'Base Datos'!$I$5:$I$30000)","v":0},{"$f":"SUMIF('Base Datos'!$J$5:$J$30000,CONCATENATE(\"S\",B513),'Base Datos'!$I$5:$I$30000)","v":0},0,""]
[null,null,null,null,null,null,null,{"$f":"SUMIF('Base Datos'!$J$5:$J$30000,CONCATENATE(\"E\",B514),'Base Datos'!$I$5:$I$30000)","v":0},{"$f":"SUMIF('Base Datos'!$J$5:$J$30000,CONCATENATE(\"S\",B514),'Base Datos'!$I$5:$I$30000)","v":0},0,""]
[null,null,null,null,null,null,null,{"$f":"SUMIF('Base Datos'!$J$5:$J$30000,CONCATENATE(\"E\",B515),'Base Datos'!$I$5:$I$30000)","v":0},{"$f":"SUMIF('Base Datos'!$J$5:$J$30000,CONCATENATE(\"S\",B515),'Base Datos'!$I$5:$I$30000)","v":0},0,""]
[null,null,null,null,null,null,null,{"$f":"SUMIF('Base Datos'!$J$5:$J$30000,CONCATENATE(\"E\",B516),'Base Datos'!$I$5:$I$30000)","v":0},{"$f":"SUMIF('Base Datos'!$J$5:$J$30000,CONCATENATE(\"S\",B516),'Base Datos'!$I$5:$I$30000)","v":0},0,""]
[null,null,null,null,null,null,null,{"$f":"SUMIF('Base Datos'!$J$5:$J$30000,CONCATENATE(\"E\",B517),'Base Datos'!$I$5:$I$30000)","v":0},{"$f":"SUMIF('Base Datos'!$J$5:$J$30000,CONCATENATE(\"S\",B517),'Base Datos'!$I$5:$I$30000)","v":0},0,""]
[null,null,null,null,null,null,null,{"$f":"SUMIF('Base Datos'!$J$5:$J$30000,CONCATENATE(\"E\",B518),'Base Datos'!$I$5:$I$30000)","v":0},{"$f":"SUMIF('Base Datos'!$J$5:$J$30000,CONCATENATE(\"S\",B518),'Base Datos'!$I$5:$I$30000)","v":0},0,""]
[null,null,null,null,null,null,null,{"$f":"SUMIF('Base Datos'!$J$5:$J$30000,CONCATENATE(\"E\",B519),'Base Datos'!$I$5:$I$30000)","v":0},{"$f":"SUMIF('Base Datos'!$J$5:$J$30000,CONCATENATE(\"S\",B519),'Base Datos'!$I$5:$I$30000)","v":0},0,{"$f":"IFERROR(ROUND(J519/F519,0),\"\")","v":""}]
[null,null,null,null,null,null,null,{"$f":"SUMIF('Base Datos'!$J$5:$J$30000,CONCATENATE(\"E\",B520),'Base Datos'!$I$5:$I$30000)","v":0},{"$f":"SUMIF('Base Datos'!$J$5:$J$30000,CONCATENATE(\"S\",B520),'Base Datos'!$I$5:$I$30000)","v":0},0,""]
[null,null,null,null,null,null,null,{"$f":"SUMIF('Base Datos'!$J$5:$J$30000,CONCATENATE(\"E\",B521),'Base Datos'!$I$5:$I$30000)","v":0},{"$f":"SUMIF('Base Datos'!$J$5:$J$30000,CONCATENATE(\"S\",B521),'Base Datos'!$I$5:$I$30000)","v":0},0,""]
[null,null,null,null,null,null,null,{"$f":"SUMIF('Base Datos'!$J$5:$J$30000,CONCATENATE(\"E\",B522),'Base Datos'!$I$5:$I$30000)","v":0},{"$f":"SUMIF('Base Datos'!$J$5:$J$30000,CONCATENATE(\"S\",B522),'Base Datos'!$I$5:$I$30000)","v":0},0,""]
[null,null,null,null,null,null,null,{"$f":"SUMIF('Base Datos'!$J$5:$J$30000,CONCATENATE(\"E\",B523),'Base Datos'!$I$5:$I$30000)","v":0},{"$f":"SUMIF('Base Datos'!$J$5:$J$30000,CONCATENATE(\"S\",B523),'Base Datos'!$I$5:$I$30000)","v":0},0,""]
[null,null,null,null,null,null,null,{"$f":"SUMIF('Base Datos'!$J$5:$J$30000,CONCATENATE(\"E\",B524),'Base Datos'!$I$5:$I$30000)","v":0},{"$f":"SUMIF('Base Datos'!$J$5:$J$30000,CONCATENATE(\"S\",B524),'Base Datos'!$I$5:$I$30000)","v":0},0,""]
[null,null,null,null,null,null,null,{"$f":"SUMIF('Base Datos'!$J$5:$J$30000,CONCATENATE(\"E\",B525),'Base Datos'!$I$5:$I$30000)","v":0},{"$f":"SUMIF('Base Datos'!$J$5:$J$30000,CONCATENATE(\"S\",B525),'Base Datos'!$I$5:$I$30000)","v":0},{"$f":"(G525+H525-I525)","v":0},""]
[null,null,null,null,null,null,null,{"$f":"SUMIF('Base Datos'!$J$5:$J$30000,CONCATENATE(\"E\",B526),'Base Datos'!$I$5:$I$30000)","v":0},{"$f":"SUMIF('Base Datos'!$J$5:$J$30000,CONCATENATE(\"S\",B526),'Base Datos'!$I$5:$I$30000)","v":0},0,""]
[null,null,null,null,null,null,null,{"$f":"SUMIF('Base Datos'!$J$5:$J$30000,CONCATENATE(\"E\",B527),'Base Datos'!$I$5:$I$30000)","v":0},{"$f":"SUMIF('Base Datos'!$J$5:$J$30000,CONCATENATE(\"S\",B527),'Base Datos'!$I$5:$I$30000)","v":0},0,""]
[null,null,null,null,null,null,null,{"$f":"SUMIF('Base Datos'!$J$5:$J$30000,CONCATENATE(\"E\",B528),'Base Datos'!$I$5:$I$30000)","v":0},{"$f":"SUMIF('Base Datos'!$J$5:$J$30000,CONCATENATE(\"S\",B528),'Base Datos'!$I$5:$I$30000)","v":0},0,""]
[null,null,null,null,null,null,null,{"$f":"SUMIF('Base Datos'!$J$5:$J$30000,CONCATENATE(\"E\",B529),'Base Datos'!$I$5:$I$30000)","v":0},{"$f":"SUMIF('Base Datos'!$J$5:$J$30000,CONCATENATE(\"S\",B529),'Base Datos'!$I$5:$I$30000)","v":0},0,""]
[null,null,null,null,null,null,null,{"$f":"SUMIF('Base Datos'!$J$5:$J$30000,CONCATENATE(\"E\",B530),'Base Datos'!$I$5:$I$30000)","v":0},{"$f":"SUMIF('Base Datos'!$J$5:$J$30000,CONCATENATE(\"S\",B530),'Base Datos'!$I$5:$I$30000)","v":0},0,""]
[null,null,null,null,null,null,null,{"$f":"SUMIF('Base Datos'!$J$5:$J$30000,CONCATENATE(\"E\",B531),'Base Datos'!$I$5:$I$30000)","v":0},{"$f":"SUMIF('Base Datos'!$J$5:$J$30000,CONCATENATE(\"S\",B531),'Base Datos'!$I$5:$I$30000)","v":0},0,""]
[null,null,null,null,null,null,null,{"$f":"SUMIF('Base Datos'!$J$5:$J$30000,CONCATENATE(\"E\",B532),'Base Datos'!$I$5:$I$30000)","v":0},{"$f":"SUMIF('Base Datos'!$J$5:$J$30000,CONCATENATE(\"S\",B532),'Base Datos'!$I$5:$I$30000)","v":0},0,""]
[null,null,null,null,null,null,null,{"$f":"SUMIF('Base Datos'!$J$5:$J$30000,CONCATENATE(\"E\",B533),'Base Datos'!$I$5:$I$30000)","v":0},{"$f":"SUMIF('Base Datos'!$J$5:$J$30000,CONCATENATE(\"S\",B533),'Base Datos'!$I$5:$I$30000)","v":0},0,""]
[null,null,null,null,null,null,null,{"$f":"SUMIF('Base Datos'!$J$5:$J$30000,CONCATENATE(\"E\",B534),'Base Datos'!$I$5:$I$30000)","v":0},{"$f":"SUMIF('Base Datos'!$J$5:$J$30000,CONCATENATE(\"S\",B534),'Base Datos'!$I$5:$I$30000)","v":0},0,""]
[null,null,null,null,null,null,null,{"$f":"SUMIF('Base Datos'!$J$5:$J$30000,CONCATENATE(\"E\",B535),'Base Datos'!$I$5:$I$30000)","v":0},{"$f":"SUMIF('Base Datos'!$J$5:$J$30000,CONCATENATE(\"S\",B535),'Base Datos'!$I$5:$I$30000)","v":0},0,""]
[null,null,null,null,null,null,null,{"$f":"SUMIF('Base Datos'!$J$5:$J$30000,CONCATENATE(\"E\",B536),'Base Datos'!$I$5:$I$30000)","v":0},{"$f":"SUMIF('Base Datos'!$J$5:$J$30000,CONCATENATE(\"S\",B536),'Base Datos'!$I$5:$I$30000)","v":0},0,""]
[null,null,null,null,null,null,null,{"$f":"SUMIF('Base Datos'!$J$5:$J$30000,CONCATENATE(\"E\",B537),'Base Datos'!$I$5:$I$30000)","v":0},{"$f":"SUMIF('Base Datos'!$J$5:$J$30000,CONCATENATE(\"S\",B537),'Base Datos'!$I$5:$I$30000)","v":0},0,""]
[null,null,null,null,null,null,null,{"$f":"SUMIF('Base Datos'!$J$5:$J$30000,CONCATENATE(\"E\",B538),'Base Datos'!$I$5:$I$30000)","v":0},{"$f":"SUMIF('Base Datos'!$J$5:$J$30000,CONCATENATE(\"S\",B538),'Base Datos'!$I$5:$I$30000)","v":0},0,""]
[null,null,null,null,null,null,null,{"$f":"SUMIF('Base Datos'!$J$5:$J$30000,CONCATENATE(\"E\",B539),'Base Datos'!$I$5:$I$30000)","v":0},{"$f":"SUMIF('Base Datos'!$J$5:$J$30000,CONCATENATE(\"S\",B539),'Base Datos'!$I$5:$I$30000)","v":0},0,""]
[null,null,null,null,null,null,null,{"$f":"SUMIF('Base Datos'!$J$5:$J$30000,CONCATENATE(\"E\",B540),'Base Datos'!$I$5:$I$30000)","v":0},{"$f":"SUMIF('Base Datos'!$J$5:$J$30000,CONCATENATE(\"S\",B540),'Base Datos'!$I$5:$I$30000)","v":0},0,""]
[null,null,null,null,null,null,null,{"$f":"SUMIF('Base Datos'!$J$5:$J$30000,CONCATENATE(\"E\",B541),'Base Datos'!$I$5:$I$30000)","v":0},{"$f":"SUMIF('Base Datos'!$J$5:$J$30000,CONCATENATE(\"S\",B541),'Base Datos'!$I$5:$I$30000)","v":0},0,""]
[null,null,null,null,null,null,null,{"$f":"SUMIF('Base Datos'!$J$5:$J$30000,CONCATENATE(\"E\",B542),'Base Datos'!$I$5:$I$30000)","v":0},{"$f":"SUMIF('Base Datos'!$J$5:$J$30000,CONCATENATE(\"S\",B542),'Base Datos'!$I$5:$I$30000)","v":0},0,""]
[null,null,null,null,null,null,null,{"$f":"SUMIF('Base Datos'!$J$5:$J$30000,CONCATENATE(\"E\",B543),'Base Datos'!$I$5:$I$30000)","v":0},{"$f":"SUMIF('Base Datos'!$J$5:$J$30000,CONCATENATE(\"S\",B543),'Base Datos'!$I$5:$I$30000)","v":0},0,""]
[null,null,null,null,null,null,null,{"$f":"SUMIF('Base Datos'!$J$5:$J$30000,CONCATENATE(\"E\",B544),'Base Datos'!$I$5:$I$30000)","v":0},{"$f":"SUMIF('Base Datos'!$J$5:$J$30000,CONCATENATE(\"S\",B544),'Base Datos'!$I$5:$I$30000)","v":0},0,""]
[null,null,null,null,null,null,null,{"$f":"SUMIF('Base Datos'!$J$5:$J$30000,CONCATENATE(\"E\",B545),'Base Datos'!$I$5:$I$30000)","v":0},{"$f":"SUMIF('Base Datos'!$J$5:$J$30000,CONCATENATE(\"S\",B545),'Base Datos'!$I$5:$I$30000)","v":0},0,""]
[null,null,null,null,null,null,null,{"$f":"SUMIF('Base Datos'!$J$5:$J$30000,CONCATENATE(\"E\",B546),'Base Datos'!$I$5:$I$30000)","v":0},{"$f":"SUMIF('Base Datos'!$J$5:$J$30000,CONCATENATE(\"S\",B546),'Base Datos'!$I$5:$I$30000)","v":0},0,""]
[null,null,null,null,null,null,null,{"$f":"SUMIF('Base Datos'!$J$5:$J$30000,CONCATENATE(\"E\",B547),'Base Datos'!$I$5:$I$30000)","v":0},{"$f":"SUMIF('Base Datos'!$J$5:$J$30000,CONCATENATE(\"S\",B547),'Base Datos'!$I$5:$I$30000)","v":0},0,""]
[null,null,null,null,null,null,null,{"$f":"SUMIF('Base Datos'!$J$5:$J$30000,CONCATENATE(\"E\",B548),'Base Datos'!$I$5:$I$30000)","v":0},{"$f":"SUMIF('Base Datos'!$J$5:$J$30000,CONCATENATE(\"S\",B548),'Base Datos'!$I$5:$I$30000)","v":0},0,""]
[null,null,null,null,null,null,null,{"$f":"SUMIF('Base Datos'!$J$5:$J$30000,CONCATENATE(\"E\",B549),'Base Datos'!$I$5:$I$30000)","v":0},{"$f":"SUMIF('Base Datos'!$J$5:$J$30000,CONCATENATE(\"S\",B549),'Base Datos'!$I$5:$I$30000)","v":0},0,""]
[null,null,null,null,null,null,null,{"$f":"SUMIF('Base Datos'!$J$5:$J$30000,CONCATENATE(\"E\",B550),'Base Datos'!$I$5:$I$30000)","v":0},{"$f":"SUMIF('Base Datos'!$J$5:$J$30000,CONCATENATE(\"S\",B550),'Base Datos'!$I$5:$I$30000)","v":0},0,""]
[null,null,null,null,null,null,null,{"$f":"SUMIF('Base Datos'!$J$5:$J$30000,CONCATENATE(\"E\",B551),'Base Datos'!$I$5:$I$30000)","v":0},{"$f":"SUMIF('Base Datos'!$J$5:$J$30000,CONCATENATE(\"S\",B551),'Base Datos'!$I$5:$I$30000)","v":0},0,""]
[null,null,null,null,null,null,null,{"$f":"SUMIF('Base Datos'!$J$5:$J$30000,CONCATENATE(\"E\",B552),'Base Datos'!$I$5:$I$30000)","v":0},{"$f":"SUMIF('Base Datos'!$J$5:$J$30000,CONCATENATE(\"S\",B552),'Base Datos'!$I$5:$I$30000)","v":0},0,""]
[null,null,null,null,null,null,null,{"$f":"SUMIF('Base Datos'!$J$5:$J$30000,CONCATENATE(\"E\",B553),'Base Datos'!$I$5:$I$30000)","v":0},{"$f":"SUMIF('Base Datos'!$J$5:$J$30000,CONCATENATE(\"S\",B553),'Base Datos'!$I$5:$I$30000)","v":0},0,""]
[null,null,null,null,null,null,null,{"$f":"SUMIF('Base Datos'!$J$5:$J$30000,CONCATENATE(\"E\",B554),'Base Datos'!$I$5:$I$30000)","v":0},{"$f":"SUMIF('Base Datos'!$J$5:$J$30000,CONCATENATE(\"S\",B554),'Base Datos'!$I$5:$I$30000)","v":0},0,""]
[null,null,null,null,null,null,null,{"$f":"SUMIF('Base Datos'!$J$5:$J$30000,CONCATENATE(\"E\",B555),'Base Datos'!$I$5:$I$30000)","v":0},{"$f":"SUMIF('Base Datos'!$J$5:$J$30000,CONCATENATE(\"S\",B555),'Base Datos'!$I$5:$I$30000)","v":0},0,""]
[null,null,null,null,null,null,null,{"$f":"SUMIF('Base Datos'!$J$5:$J$30000,CONCATENATE(\"E\",B556),'Base Datos'!$I$5:$I$30000)","v":0},{"$f":"SUMIF('Base Datos'!$J$5:$J$30000,CONCATENATE(\"S\",B556),'Base Datos'!$I$5:$I$30000)","v":0},0,""]
[null,null,null,null,null,null,null,{"$f":"SUMIF('Base Datos'!$J$5:$J$30000,CONCATENATE(\"E\",B557),'Base Datos'!$I$5:$I$30000)","v":0},{"$f":"SUMIF('Base Datos'!$J$5:$J$30000,CONCATENATE(\"S\",B557),'Base Datos'!$I$5:$I$30000)","v":0},0,""]
[null,null,null,null,null,null,null,{"$f":"SUMIF('Base Datos'!$J$5:$J$30000,CONCATENATE(\"E\",B558),'Base Datos'!$I$5:$I$30000)","v":0},{"$f":"SUMIF('Base Datos'!$J$5:$J$30000,CONCATENATE(\"S\",B558),'Base Datos'!$I$5:$I$30000)","v":0},0,""]
[null,null,null,null,null,null,null,{"$f":"SUMIF('Base Datos'!$J$5:$J$30000,CONCATENATE(\"E\",B559),'Base Datos'!$I$5:$I$30000)","v":0},{"$f":"SUMIF('Base Datos'!$J$5:$J$30000,CONCATENATE(\"S\",B559),'Base Datos'!$I$5:$I$30000)","v":0},0,""]
[null,null,null,null,null,null,null,{"$f":"SUMIF('Base Datos'!$J$5:$J$30000,CONCATENATE(\"E\",B560),'Base Datos'!$I$5:$I$30000)","v":0},{"$f":"SUMIF('Base Datos'!$J$5:$J$30000,CONCATENATE(\"S\",B560),'Base Datos'!$I$5:$I$30000)","v":0},0,""]
[null,null,null,null,null,null,null,{"$f":"SUMIF('Base Datos'!$J$5:$J$30000,CONCATENATE(\"E\",B561),'Base Datos'!$I$5:$I$30000)","v":0},{"$f":"SUMIF('Base Datos'!$J$5:$J$30000,CONCATENATE(\"S\",B561),'Base Datos'!$I$5:$I$30000)","v":0},0,""]
[null,null,null,null,null,null,null,{"$f":"SUMIF('Base Datos'!$J$5:$J$30000,CONCATENATE(\"E\",B562),'Base Datos'!$I$5:$I$30000)","v":0},{"$f":"SUMIF('Base Datos'!$J$5:$J$30000,CONCATENATE(\"S\",B562),'Base Datos'!$I$5:$I$30000)","v":0},0,""]
[null,null,null,null,null,null,null,{"$f":"SUMIF('Base Datos'!$J$5:$J$30000,CONCATENATE(\"E\",B563),'Base Datos'!$I$5:$I$30000)","v":0},{"$f":"SUMIF('Base Datos'!$J$5:$J$30000,CONCATENATE(\"S\",B563),'Base Datos'!$I$5:$I$30000)","v":0},0,""]
[null,null,null,null,null,null,null,{"$f":"SUMIF('Base Datos'!$J$5:$J$30000,CONCATENATE(\"E\",B564),'Base Datos'!$I$5:$I$30000)","v":0},{"$f":"SUMIF('Base Datos'!$J$5:$J$30000,CONCATENATE(\"S\",B564),'Base Datos'!$I$5:$I$30000)","v":0},0,""]
[null,null,null,null,null,null,null,{"$f":"SUMIF('Base Datos'!$J$5:$J$30000,CONCATENATE(\"E\",B565),'Base Datos'!$I$5:$I$30000)","v":0},{"$f":"SUMIF('Base Datos'!$J$5:$J$30000,CONCATENATE(\"S\",B565),'Base Datos'!$I$5:$I$30000)","v":0},0,""]
[null,null,null,null,null,null,null,{"$f":"SUMIF('Base Datos'!$J$5:$J$30000,CONCATENATE(\"E\",B566),'Base Datos'!$I$5:$I$30000)","v":0},{"$f":"SUMIF('Base Datos'!$J$5:$J$30000,CONCATENATE(\"S\",B566),'Base Datos'!$I$5:$I$30000)","v":0},0,""]
[null,null,null,null,null,null,null,{"$f":"SUMIF('Base Datos'!$J$5:$J$30000,CONCATENATE(\"E\",B567),'Base Datos'!$I$5:$I$30000)","v":0},{"$f":"SUMIF('Base Datos'!$J$5:$J$30000,CONCATENATE(\"S\",B567),'Base Datos'!$I$5:$I$30000)","v":0},0,""]
[null,null,null,null,null,null,null,{"$f":"SUMIF('Base Datos'!$J$5:$J$30000,CONCATENATE(\"E\",B568),'Base Datos'!$I$5:$I$30000)","v":0},{"$f":"SUMIF('Base Datos'!$J$5:$J$30000,CONCATENATE(\"S\",B568),'Base Datos'!$I$5:$I$30000)","v":0},0,""]
[null,null,null,null,null,null,null,{"$f":"SUMIF('Base Datos'!$J$5:$J$30000,CONCATENATE(\"E\",B569),'Base Datos'!$I$5:$I$30000)","v":0},{"$f":"SUMIF('Base Datos'!$J$5:$J$30000,CONCATENATE(\"S\",B569),'Base Datos'!$I$5:$I$30000)","v":0},0,""]
[null,null,null,null,null,null,null,{"$f":"SUMIF('Base Datos'!$J$5:$J$30000,CONCATENATE(\"E\",B570),'Base Datos'!$I$5:$I$30000)","v":0},{"$f":"SUMIF('Base Datos'!$J$5:$J$30000,CONCATENATE(\"S\",B570),'Base Datos'!$I$5:$I$30000)","v":0},0,""]
[null,null,null,null,null,null,null,{"$f":"SUMIF('Base Datos'!$J$5:$J$30000,CONCATENATE(\"E\",B571),'Base Datos'!$I$5:$I$30000)","v":0},{"$f":"SUMIF('Base Datos'!$J$5:$J$30000,CONCATENATE(\"S\",B571),'Base Datos'!$I$5:$I$30000)","v":0},0,""]
[null,null,null,null,null,null,null,{"$f":"SUMIF('Base Datos'!$J$5:$J$30000,CONCATENATE(\"E\",B572),'Base Datos'!$I$5:$I$30000)","v":0},{"$f":"SUMIF('Base Datos'!$J$5:$J$30000,CONCATENATE(\"S\",B572),'Base Datos'!$I$5:$I$30000)","v":0},0,""]
[null,null,null,null,null,null,null,{"$f":"SUMIF('Base Datos'!$J$5:$J$30000,CONCATENATE(\"E\",B573),'Base Datos'!$I$5:$I$30000)","v":0},{"$f":"SUMIF('Base Datos'!$J$5:$J$30000,CONCATENATE(\"S\",B573),'Base Datos'!$I$5:$I$30000)","v":0},0,""]
[null,null,null,null,null,null,null,{"$f":"SUMIF('Base Datos'!$J$5:$J$30000,CONCATENATE(\"E\",B574),'Base Datos'!$I$5:$I$30000)","v":0},{"$f":"SUMIF('Base Datos'!$J$5:$J$30000,CONCATENATE(\"S\",B574),'Base Datos'!$I$5:$I$30000)","v":0},{"$f":"(G574+H574-I574)","v":0},""]
[null,null,null,null,null,null,null,{"$f":"SUMIF('Base Datos'!$J$5:$J$30000,CONCATENATE(\"E\",B575),'Base Datos'!$I$5:$I$30000)","v":0},{"$f":"SUMIF('Base Datos'!$J$5:$J$30000,CONCATENATE(\"S\",B575),'Base Datos'!$I$5:$I$30000)","v":0},0,""]
[null,null,null,null,null,null,null,{"$f":"SUMIF('Base Datos'!$J$5:$J$30000,CONCATENATE(\"E\",B576),'Base Datos'!$I$5:$I$30000)","v":0},{"$f":"SUMIF('Base Datos'!$J$5:$J$30000,CONCATENATE(\"S\",B576),'Base Datos'!$I$5:$I$30000)","v":0},0,""]
[null,null,null,null,null,null,null,{"$f":"SUMIF('Base Datos'!$J$5:$J$30000,CONCATENATE(\"E\",B577),'Base Datos'!$I$5:$I$30000)","v":0},{"$f":"SUMIF('Base Datos'!$J$5:$J$30000,CONCATENATE(\"S\",B577),'Base Datos'!$I$5:$I$30000)","v":0},0,""]
[null,null,null,null,null,null,null,{"$f":"SUMIF('Base Datos'!$J$5:$J$30000,CONCATENATE(\"E\",B578),'Base Datos'!$I$5:$I$30000)","v":0},{"$f":"SUMIF('Base Datos'!$J$5:$J$30000,CONCATENATE(\"S\",B578),'Base Datos'!$I$5:$I$30000)","v":0},0,""]
[null,null,null,null,null,null,null,{"$f":"SUMIF('Base Datos'!$J$5:$J$30000,CONCATENATE(\"E\",B579),'Base Datos'!$I$5:$I$30000)","v":0},{"$f":"SUMIF('Base Datos'!$J$5:$J$30000,CONCATENATE(\"S\",B579),'Base Datos'!$I$5:$I$30000)","v":0},0,""]
[null,null,null,null,null,null,null,{"$f":"SUMIF('Base Datos'!$J$5:$J$30000,CONCATENATE(\"E\",B580),'Base Datos'!$I$5:$I$30000)","v":0},{"$f":"SUMIF('Base Datos'!$J$5:$J$30000,CONCATENATE(\"S\",B580),'Base Datos'!$I$5:$I$30000)","v":0},0,""]
[null,null,null,null,null,null,null,{"$f":"SUMIF('Base Datos'!$J$5:$J$30000,CONCATENATE(\"E\",B581),'Base Datos'!$I$5:$I$30000)","v":0},{"$f":"SUMIF('Base Datos'!$J$5:$J$30000,CONCATENATE(\"S\",B581),'Base Datos'!$I$5:$I$30000)","v":0},0,""]
[null,null,null,null,null,null,null,{"$f":"SUMIF('Base Datos'!$J$5:$J$30000,CONCATENATE(\"E\",B582),'Base Datos'!$I$5:$I$30000)","v":0},{"$f":"SUMIF('Base Datos'!$J$5:$J$30000,CONCATENATE(\"S\",B582),'Base Datos'!$I$5:$I$30000)","v":0},0,""]
[null,null,null,null,null,null,null,{"$f":"SUMIF('Base Datos'!$J$5:$J$30000,CONCATENATE(\"E\",B583),'Base Datos'!$I$5:$I$30000)","v":0},{"$f":"SUMIF('Base Datos'!$J$5:$J$30000,CONCATENATE(\"S\",B583),'Base Datos'!$I$5:$I$30000)","v":0},0,{"$f":"IFERROR(ROUND(J583/F583,0),\"\")","v":""}]
[null,null,null,null,null,null,null,{"$f":"SUMIF('Base Datos'!$J$5:$J$30000,CONCATENATE(\"E\",B584),'Base Datos'!$I$5:$I$30000)","v":0},{"$f":"SUMIF('Base Datos'!$J$5:$J$30000,CONCATENATE(\"S\",B584),'Base Datos'!$I$5:$I$30000)","v":0},0,""]
[null,null,null,null,null,null,null,{"$f":"SUMIF('Base Datos'!$J$5:$J$30000,CONCATENATE(\"E\",B585),'Base Datos'!$I$5:$I$30000)","v":0},{"$f":"SUMIF('Base Datos'!$J$5:$J$30000,CONCATENATE(\"S\",B585),'Base Datos'!$I$5:$I$30000)","v":0},0,""]
[null,null,null,null,null,null,null,{"$f":"SUMIF('Base Datos'!$J$5:$J$30000,CONCATENATE(\"E\",B586),'Base Datos'!$I$5:$I$30000)","v":0},{"$f":"SUMIF('Base Datos'!$J$5:$J$30000,CONCATENATE(\"S\",B586),'Base Datos'!$I$5:$I$30000)","v":0},0,""]
[null,null,null,null,null,null,null,{"$f":"SUMIF('Base Datos'!$J$5:$J$30000,CONCATENATE(\"E\",B587),'Base Datos'!$I$5:$I$30000)","v":0},{"$f":"SUMIF('Base Datos'!$J$5:$J$30000,CONCATENATE(\"S\",B587),'Base Datos'!$I$5:$I$30000)","v":0},0,""]
[null,null,null,null,null,null,null,{"$f":"SUMIF('Base Datos'!$J$5:$J$30000,CONCATENATE(\"E\",B588),'Base Datos'!$I$5:$I$30000)","v":0},{"$f":"SUMIF('Base Datos'!$J$5:$J$30000,CONCATENATE(\"S\",B588),'Base Datos'!$I$5:$I$30000)","v":0},0,""]
[null,null,null,null,null,null,null,{"$f":"SUMIF('Base Datos'!$J$5:$J$30000,CONCATENATE(\"E\",B589),'Base Datos'!$I$5:$I$30000)","v":0},{"$f":"SUMIF('Base Datos'!$J$5:$J$30000,CONCATENATE(\"S\",B589),'Base Datos'!$I$5:$I$30000)","v":0},0,""]
[null,null,null,null,null,null,null,{"$f":"SUMIF('Base Datos'!$J$5:$J$30000,CONCATENATE(\"E\",B590),'Base Datos'!$I$5:$I$30000)","v":0},{"$f":"SUMIF('Base Datos'!$J$5:$J$30000,CONCATENATE(\"S\",B590),'Base Datos'!$I$5:$I$30000)","v":0},0,""]
[null,null,null,null,null,null,null,{"$f":"SUMIF('Base Datos'!$J$5:$J$30000,CONCATENATE(\"E\",B591),'Base Datos'!$I$5:$I$30000)","v":0},{"$f":"SUMIF('Base Datos'!$J$5:$J$30000,CONCATENATE(\"S\",B591),'Base Datos'!$I$5:$I$30000)","v":0},0,""]
[null,null,null,null,null,null,null,{"$f":"SUMIF('Base Datos'!$J$5:$J$30000,CONCATENATE(\"E\",B592),'Base Datos'!$I$5:$I$30000)","v":0},{"$f":"SUMIF('Base Datos'!$J$5:$J$30000,CONCATENATE(\"S\",B592),'Base Datos'!$I$5:$I$30000)","v":0},0,""]
[null,null,null,null,null,null,null,{"$f":"SUMIF('Base Datos'!$J$5:$J$30000,CONCATENATE(\"E\",B593),'Base Datos'!$I$5:$I$30000)","v":0},{"$f":"SUMIF('Base Datos'!$J$5:$J$30000,CONCATENATE(\"S\",B593),'Base Datos'!$I$5:$I$30000)","v":0},0,""]
[null,null,null,null,null,null,null,{"$f":"SUMIF('Base Datos'!$J$5:$J$30000,CONCATENATE(\"E\",B594),'Base Datos'!$I$5:$I$30000)","v":0},{"$f":"SUMIF('Base Datos'!$J$5:$J$30000,CONCATENATE(\"S\",B594),'Base Datos'!$I$5:$I$30000)","v":0},0,""]
[null,null,null,null,null,null,null,{"$f":"SUMIF('Base Datos'!$J$5:$J$30000,CONCATENATE(\"E\",B595),'Base Datos'!$I$5:$I$30000)","v":0},{"$f":"SUMIF('Base Datos'!$J$5:$J$30000,CONCATENATE(\"S\",B595),'Base Datos'!$I$5:$I$30000)","v":0},0,""]
[null,null,null,null,null,null,null,{"$f":"SUMIF('Base Datos'!$J$5:$J$30000,CONCATENATE(\"E\",B596),'Base Datos'!$I$5:$I$30000)","v":0},{"$f":"SUMIF('Base Datos'!$J$5:$J$30000,CONCATENATE(\"S\",B596),'Base Datos'!$I$5:$I$30000)","v":0},0,""]
[null,null,null,null,null,null,null,{"$f":"SUMIF('Base Datos'!$J$5:$J$30000,CONCATENATE(\"E\",B597),'Base Datos'!$I$5:$I$30000)","v":0},{"$f":"SUMIF('Base Datos'!$J$5:$J$30000,CONCATENATE(\"S\",B597),'Base Datos'!$I$5:$I$30000)","v":0},0,""]
[null,null,null,null,null,null,null,{"$f":"SUMIF('Base Datos'!$J$5:$J$30000,CONCATENATE(\"E\",B598),'Base Datos'!$I$5:$I$30000)","v":0},{"$f":"SUMIF('Base Datos'!$J$5:$J$30000,CONCATENATE(\"S\",B598),'Base Datos'!$I$5:$I$30000)","v":0},0,""]
[null,null,null,null,null,null,null,{"$f":"SUMIF('Base Datos'!$J$5:$J$30000,CONCATENATE(\"E\",B599),'Base Datos'!$I$5:$I$30000)","v":0},{"$f":"SUMIF('Base Datos'!$J$5:$J$30000,CONCATENATE(\"S\",B599),'Base Datos'!$I$5:$I$30000)","v":0},0,""]
[null,null,null,null,null,null,null,{"$f":"SUMIF('Base Datos'!$J$5:$J$30000,CONCATENATE(\"E\",B600),'Base Datos'!$I$5:$I$30000)","v":0},{"$f":"SUMIF('Base Datos'!$J$5:$J$30000,CONCATENATE(\"S\",B600),'Base Datos'!$I$5:$I$30000)","v":0},0,""]
[null,null,null,null,null,null,null,{"$f":"SUMIF('Base Datos'!$J$5:$J$30000,CONCATENATE(\"E\",B601),'Base Datos'!$I$5:$I$30000)","v":0},{"$f":"SUMIF('Base Datos'!$J$5:$J$30000,CONCATENATE(\"S\",B601),'Base Datos'!$I$5:$I$30000)","v":0},0,""]
[null,null,null,null,null,null,null,{"$f":"SUMIF('Base Datos'!$J$5:$J$30000,CONCATENATE(\"E\",B602),'Base Datos'!$I$5:$I$30000)","v":0},{"$f":"SUMIF('Base Datos'!$J$5:$J$30000,CONCATENATE(\"S\",B602),'Base Datos'!$I$5:$I$30000)","v":0},0,""]
[null,null,null,null,null,null,null,{"$f":"SUMIF('Base Datos'!$J$5:$J$30000,CONCATENATE(\"E\",B603),'Base Datos'!$I$5:$I$30000)","v":0},{"$f":"SUMIF('Base Datos'!$J$5:$J$30000,CONCATENATE(\"S\",B603),'Base Datos'!$I$5:$I$30000)","v":0},0,""]
[null,null,null,null,null,null,null,{"$f":"SUMIF('Base Datos'!$J$5:$J$30000,CONCATENATE(\"E\",B604),'Base Datos'!$I$5:$I$30000)","v":0},{"$f":"SUMIF('Base Datos'!$J$5:$J$30000,CONCATENATE(\"S\",B604),'Base Datos'!$I$5:$I$30000)","v":0},0,""]
[null,null,null,null,null,null,null,{"$f":"SUMIF('Base Datos'!$J$5:$J$30000,CONCATENATE(\"E\",B605),'Base Datos'!$I$5:$I$30000)","v":0},{"$f":"SUMIF('Base Datos'!$J$5:$J$30000,CONCATENATE(\"S\",B605),'Base Datos'!$I$5:$I$30000)","v":0},0,""]
[null,null,null,null,null,null,null,{"$f":"SUMIF('Base Datos'!$J$5:$J$30000,CONCATENATE(\"E\",B606),'Base Datos'!$I$5:$I$30000)","v":0},{"$f":"SUMIF('Base Datos'!$J$5:$J$30000,CONCATENATE(\"S\",B606),'Base Datos'!$I$5:$I$30000)","v":0},0,""]
[null,null,null,null,null,null,null,{"$f":"SUMIF('Base Datos'!$J$5:$J$30000,CONCATENATE(\"E\",B607),'Base Datos'!$I$5:$I$30000)","v":0},{"$f":"SUMIF('Base Datos'!$J$5:$J$30000,CONCATENATE(\"S\",B607),'Base Datos'!$I$5:$I$30000)","v":0},0,""]
[null,null,null,null,null,null,null,{"$f":"SUMIF('Base Datos'!$J$5:$J$30000,CONCATENATE(\"E\",B608),'Base Datos'!$I$5:$I$30000)","v":0},{"$f":"SUMIF('Base Datos'!$J$5:$J$30000,CONCATENATE(\"S\",B608),'Base Datos'!$I$5:$I$30000)","v":0},0,""]
[null,null,null,null,null,null,null,{"$f":"SUMIF('Base Datos'!$J$5:$J$30000,CONCATENATE(\"E\",B609),'Base Datos'!$I$5:$I$30000)","v":0},{"$f":"SUMIF('Base Datos'!$J$5:$J$30000,CONCATENATE(\"S\",B609),'Base Datos'!$I$5:$I$30000)","v":0},0,""]
[null,null,null,null,null,null,null,{"$f":"SUMIF('Base Datos'!$J$5:$J$30000,CONCATENATE(\"E\",B610),'Base Datos'!$I$5:$I$30000)","v":0},{"$f":"SUMIF('Base Datos'!$J$5:$J$30000,CONCATENATE(\"S\",B610),'Base Datos'!$I$5:$I$30000)","v":0},0,""]
[null,null,null,null,null,null,null,{"$f":"SUMIF('Base Datos'!$J$5:$J$30000,CONCATENATE(\"E\",B611),'Base Datos'!$I$5:$I$30000)","v":0},{"$f":"SUMIF('Base Datos'!$J$5:$J$30000,CONCATENATE(\"S\",B611),'Base Datos'!$I$5:$I$30000)","v":0},0,""]
[null,null,null,null,null,null,null,{"$f":"SUMIF('Base Datos'!$J$5:$J$30000,CONCATENATE(\"E\",B612),'Base Datos'!$I$5:$I$30000)","v":0},{"$f":"SUMIF('Base Datos'!$J$5:$J$30000,CONCATENATE(\"S\",B612),'Base Datos'!$I$5:$I$30000)","v":0},0,""]
[null,null,null,null,null,null,null,{"$f":"SUMIF('Base Datos'!$J$5:$J$30000,CONCATENATE(\"E\",B613),'Base Datos'!$I$5:$I$30000)","v":0},{"$f":"SUMIF('Base Datos'!$J$5:$J$30000,CONCATENATE(\"S\",B613),'Base Datos'!$I$5:$I$30000)","v":0},0,""]
[null,null,null,null,null,null,null,{"$f":"SUMIF('Base Datos'!$J$5:$J$30000,CONCATENATE(\"E\",B614),'Base Datos'!$I$5:$I$30000)","v":0},{"$f":"SUMIF('Base Datos'!$J$5:$J$30000,CONCATENATE(\"S\",B614),'Base Datos'!$I$5:$I$30000)","v":0},0,""]
[null,null,null,null,null,null,null,{"$f":"SUMIF('Base Datos'!$J$5:$J$30000,CONCATENATE(\"E\",B615),'Base Datos'!$I$5:$I$30000)","v":0},{"$f":"SUMIF('Base Datos'!$J$5:$J$30000,CONCATENATE(\"S\",B615),'Base Datos'!$I$5:$I$30000)","v":0},0,""]
[null,null,null,null,null,null,null,{"$f":"SUMIF('Base Datos'!$J$5:$J$30000,CONCATENATE(\"E\",B616),'Base Datos'!$I$5:$I$30000)","v":0},{"$f":"SUMIF('Base Datos'!$J$5:$J$30000,CONCATENATE(\"S\",B616),'Base Datos'!$I$5:$I$30000)","v":0},0,""]
[null,null,null,null,null,null,null,{"$f":"SUMIF('Base Datos'!$J$5:$J$30000,CONCATENATE(\"E\",B617),'Base Datos'!$I$5:$I$30000)","v":0},{"$f":"SUMIF('Base Datos'!$J$5:$J$30000,CONCATENATE(\"S\",B617),'Base Datos'!$I$5:$I$30000)","v":0},0,""]
[null,null,null,null,null,null,null,{"$f":"SUMIF('Base Datos'!$J$5:$J$30000,CONCATENATE(\"E\",B618),'Base Datos'!$I$5:$I$30000)","v":0},{"$f":"SUMIF('Base Datos'!$J$5:$J$30000,CONCATENATE(\"S\",B618),'Base Datos'!$I$5:$I$30000)","v":0},0,""]
[null,null,null,null,null,null,null,{"$f":"SUMIF('Base Datos'!$J$5:$J$30000,CONCATENATE(\"E\",B619),'Base Datos'!$I$5:$I$30000)","v":0},{"$f":"SUMIF('Base Datos'!$J$5:$J$30000,CONCATENATE(\"S\",B619),'Base Datos'!$I$5:$I$30000)","v":0},0,""]
[null,null,null,null,null,null,null,{"$f":"SUMIF('Base Datos'!$J$5:$J$30000,CONCATENATE(\"E\",B620),'Base Datos'!$I$5:$I$30000)","v":0},{"$f":"SUMIF('Base Datos'!$J$5:$J$30000,CONCATENATE(\"S\",B620),'Base Datos'!$I$5:$I$30000)","v":0},0,""]
[null,null,null,null,null,null,null,{"$f":"SUMIF('Base Datos'!$J$5:$J$30000,CONCATENATE(\"E\",B621),'Base Datos'!$I$5:$I$30000)","v":0},{"$f":"SUMIF('Base Datos'!$J$5:$J$30000,CONCATENATE(\"S\",B621),'Base Datos'!$I$5:$I$30000)","v":0},0,""]
[null,null,null,null,null,null,null,{"$f":"SUMIF('Base Datos'!$J$5:$J$30000,CONCATENATE(\"E\",B622),'Base Datos'!$I$5:$I$30000)","v":0},{"$f":"SUMIF('Base Datos'!$J$5:$J$30000,CONCATENATE(\"S\",B622),'Base Datos'!$I$5:$I$30000)","v":0},0,""]
[null,null,null,null,null,null,null,{"$f":"SUMIF('Base Datos'!$J$5:$J$30000,CONCATENATE(\"E\",B623),'Base Datos'!$I$5:$I$30000)","v":0},{"$f":"SUMIF('Base Datos'!$J$5:$J$30000,CONCATENATE(\"S\",B623),'Base Datos'!$I$5:$I$30000)","v":0},0,""]
[null,null,null,null,null,null,null,{"$f":"SUMIF('Base Datos'!$J$5:$J$30000,CONCATENATE(\"E\",B624),'Base Datos'!$I$5:$I$30000)","v":0},{"$f":"SUMIF('Base Datos'!$J$5:$J$30000,CONCATENATE(\"S\",B624),'Base Datos'!$I$5:$I$30000)","v":0},0,""]
[null,null,null,null,null,null,null,{"$f":"SUMIF('Base Datos'!$J$5:$J$30000,CONCATENATE(\"E\",B625),'Base Datos'!$I$5:$I$30000)","v":0},{"$f":"SUMIF('Base Datos'!$J$5:$J$30000,CONCATENATE(\"S\",B625),'Base Datos'!$I$5:$I$30000)","v":0},0,""]
[null,null,null,null,null,null,null,{"$f":"SUMIF('Base Datos'!$J$5:$J$30000,CONCATENATE(\"E\",B626),'Base Datos'!$I$5:$I$30000)","v":0},{"$f":"SUMIF('Base Datos'!$J$5:$J$30000,CONCATENATE(\"S\",B626),'Base Datos'!$I$5:$I$30000)","v":0},0,""]
[null,null,null,null,null,null,null,{"$f":"SUMIF('Base Datos'!$J$5:$J$30000,CONCATENATE(\"E\",B627),'Base Datos'!$I$5:$I$30000)","v":0},{"$f":"SUMIF('Base Datos'!$J$5:$J$30000,CONCATENATE(\"S\",B627),'Base Datos'!$I$5:$I$30000)","v":0},0,""]
[null,null,null,null,null,null,null,{"$f":"SUMIF('Base Datos'!$J$5:$J$30000,CONCATENATE(\"E\",B628),'Base Datos'!$I$5:$I$30000)","v":0},{"$f":"SUMIF('Base Datos'!$J$5:$J$30000,CONCATENATE(\"S\",B628),'Base Datos'!$I$5:$I$30000)","v":0},0,""]
[null,null,null,null,null,null,null,{"$f":"SUMIF('Base Datos'!$J$5:$J$30000,CONCATENATE(\"E\",B629),'Base Datos'!$I$5:$I$30000)","v":0},{"$f":"SUMIF('Base Datos'!$J$5:$J$30000,CONCATENATE(\"S\",B629),'Base Datos'!$I$5:$I$30000)","v":0},0,""]
[null,null,null,null,null,null,null,{"$f":"SUMIF('Base Datos'!$J$5:$J$30000,CONCATENATE(\"E\",B630),'Base Datos'!$I$5:$I$30000)","v":0},{"$f":"SUMIF('Base Datos'!$J$5:$J$30000,CONCATENATE(\"S\",B630),'Base Datos'!$I$5:$I$30000)","v":0},0,""]
[null,null,null,null,null,null,null,{"$f":"SUMIF('Base Datos'!$J$5:$J$30000,CONCATENATE(\"E\",B631),'Base Datos'!$I$5:$I$30000)","v":0},{"$f":"SUMIF('Base Datos'!$J$5:$J$30000,CONCATENATE(\"S\",B631),'Base Datos'!$I$5:$I$30000)","v":0},0,""]
[null,null,null,null,null,null,null,{"$f":"SUMIF('Base Datos'!$J$5:$J$30000,CONCATENATE(\"E\",B632),'Base Datos'!$I$5:$I$30000)","v":0},{"$f":"SUMIF('Base Datos'!$J$5:$J$30000,CONCATENATE(\"S\",B632),'Base Datos'!$I$5:$I$30000)","v":0},0,""]
[null,null,null,null,null,null,null,{"$f":"SUMIF('Base Datos'!$J$5:$J$30000,CONCATENATE(\"E\",B633),'Base Datos'!$I$5:$I$30000)","v":0},{"$f":"SUMIF('Base Datos'!$J$5:$J$30000,CONCATENATE(\"S\",B633),'Base Datos'!$I$5:$I$30000)","v":0},0,""]
[null,null,null,null,null,null,null,{"$f":"SUMIF('Base Datos'!$J$5:$J$30000,CONCATENATE(\"E\",B634),'Base Datos'!$I$5:$I$30000)","v":0},{"$f":"SUMIF('Base Datos'!$J$5:$J$30000,CONCATENATE(\"S\",B634),'Base Datos'!$I$5:$I$30000)","v":0},0,""]
[null,null,null,null,null,null,null,{"$f":"SUMIF('Base Datos'!$J$5:$J$30000,CONCATENATE(\"E\",B635),'Base Datos'!$I$5:$I$30000)","v":0},{"$f":"SUMIF('Base Datos'!$J$5:$J$30000,CONCATENATE(\"S\",B635),'Base Datos'!$I$5:$I$30000)","v":0},0,""]
[null,null,null,null,null,null,null,{"$f":"SUMIF('Base Datos'!$J$5:$J$30000,CONCATENATE(\"E\",B636),'Base Datos'!$I$5:$I$30000)","v":0},{"$f":"SUMIF('Base Datos'!$J$5:$J$30000,CONCATENATE(\"S\",B636),'Base Datos'!$I$5:$I$30000)","v":0},0,""]
[null,null,null,null,null,null,null,{"$f":"SUMIF('Base Datos'!$J$5:$J$30000,CONCATENATE(\"E\",B637),'Base Datos'!$I$5:$I$30000)","v":0},{"$f":"SUMIF('Base Datos'!$J$5:$J$30000,CONCATENATE(\"S\",B637),'Base Datos'!$I$5:$I$30000)","v":0},0,""]
[null,null,null,null,null,null,null,{"$f":"SUMIF('Base Datos'!$J$5:$J$30000,CONCATENATE(\"E\",B638),'Base Datos'!$I$5:$I$30000)","v":0},{"$f":"SUMIF('Base Datos'!$J$5:$J$30000,CONCATENATE(\"S\",B638),'Base Datos'!$I$5:$I$30000)","v":0},{"$f":"(G638+H638-I638)","v":0},""]
[null,null,null,null,null,null,null,{"$f":"SUMIF('Base Datos'!$J$5:$J$30000,CONCATENATE(\"E\",B639),'Base Datos'!$I$5:$I$30000)","v":0},{"$f":"SUMIF('Base Datos'!$J$5:$J$30000,CONCATENATE(\"S\",B639),'Base Datos'!$I$5:$I$30000)","v":0},0,""]
[null,null,null,null,null,null,null,{"$f":"SUMIF('Base Datos'!$J$5:$J$30000,CONCATENATE(\"E\",B640),'Base Datos'!$I$5:$I$30000)","v":0},{"$f":"SUMIF('Base Datos'!$J$5:$J$30000,CONCATENATE(\"S\",B640),'Base Datos'!$I$5:$I$30000)","v":0},0,""]
[null,null,null,null,null,null,null,{"$f":"SUMIF('Base Datos'!$J$5:$J$30000,CONCATENATE(\"E\",B641),'Base Datos'!$I$5:$I$30000)","v":0},{"$f":"SUMIF('Base Datos'!$J$5:$J$30000,CONCATENATE(\"S\",B641),'Base Datos'!$I$5:$I$30000)","v":0},0,""]
[null,null,null,null,null,null,null,{"$f":"SUMIF('Base Datos'!$J$5:$J$30000,CONCATENATE(\"E\",B642),'Base Datos'!$I$5:$I$30000)","v":0},{"$f":"SUMIF('Base Datos'!$J$5:$J$30000,CONCATENATE(\"S\",B642),'Base Datos'!$I$5:$I$30000)","v":0},0,""]
[null,null,null,null,null,null,null,{"$f":"SUMIF('Base Datos'!$J$5:$J$30000,CONCATENATE(\"E\",B643),'Base Datos'!$I$5:$I$30000)","v":0},{"$f":"SUMIF('Base Datos'!$J$5:$J$30000,CONCATENATE(\"S\",B643),'Base Datos'!$I$5:$I$30000)","v":0},0,""]
[null,null,null,null,null,null,null,{"$f":"SUMIF('Base Datos'!$J$5:$J$30000,CONCATENATE(\"E\",B644),'Base Datos'!$I$5:$I$30000)","v":0},{"$f":"SUMIF('Base Datos'!$J$5:$J$30000,CONCATENATE(\"S\",B644),'Base Datos'!$I$5:$I$30000)","v":0},0,""]
[null,null,null,null,null,null,null,{"$f":"SUMIF('Base Datos'!$J$5:$J$30000,CONCATENATE(\"E\",B645),'Base Datos'!$I$5:$I$30000)","v":0},{"$f":"SUMIF('Base Datos'!$J$5:$J$30000,CONCATENATE(\"S\",B645),'Base Datos'!$I$5:$I$30000)","v":0},0,""]
[null,null,null,null,null,null,null,{"$f":"SUMIF('Base Datos'!$J$5:$J$30000,CONCATENATE(\"E\",B646),'Base Datos'!$I$5:$I$30000)","v":0},{"$f":"SUMIF('Base Datos'!$J$5:$J$30000,CONCATENATE(\"S\",B646),'Base Datos'!$I$5:$I$30000)","v":0},0,""]
[null,null,null,null,null,null,null,{"$f":"SUMIF('Base Datos'!$J$5:$J$30000,CONCATENATE(\"E\",B647),'Base Datos'!$I$5:$I$30000)","v":0},{"$f":"SUMIF('Base Datos'!$J$5:$J$30000,CONCATENATE(\"S\",B647),'Base Datos'!$I$5:$I$30000)","v":0},0,{"$f":"IFERROR(ROUND(J647/F647,0),\"\")","v":""}]
[null,null,null,null,null,null,null,{"$f":"SUMIF('Base Datos'!$J$5:$J$30000,CONCATENATE(\"E\",B648),'Base Datos'!$I$5:$I$30000)","v":0},{"$f":"SUMIF('Base Datos'!$J$5:$J$30000,CONCATENATE(\"S\",B648),'Base Datos'!$I$5:$I$30000)","v":0},0,""]
[null,null,null,null,null,null,null,{"$f":"SUMIF('Base Datos'!$J$5:$J$30000,CONCATENATE(\"E\",B649),'Base Datos'!$I$5:$I$30000)","v":0},{"$f":"SUMIF('Base Datos'!$J$5:$J$30000,CONCATENATE(\"S\",B649),'Base Datos'!$I$5:$I$30000)","v":0},0,""]
[null,null,null,null,null,null,null,{"$f":"SUMIF('Base Datos'!$J$5:$J$30000,CONCATENATE(\"E\",B650),'Base Datos'!$I$5:$I$30000)","v":0},{"$f":"SUMIF('Base Datos'!$J$5:$J$30000,CONCATENATE(\"S\",B650),'Base Datos'!$I$5:$I$30000)","v":0},0,""]
[null,null,null,null,null,null,null,{"$f":"SUMIF('Base Datos'!$J$5:$J$30000,CONCATENATE(\"E\",B651),'Base Datos'!$I$5:$I$30000)","v":0},{"$f":"SUMIF('Base Datos'!$J$5:$J$30000,CONCATENATE(\"S\",B651),'Base Datos'!$I$5:$I$30000)","v":0},0,""]
[null,null,null,null,null,null,null,{"$f":"SUMIF('Base Datos'!$J$5:$J$30000,CONCATENATE(\"E\",B652),'Base Datos'!$I$5:$I$30000)","v":0},{"$f":"SUMIF('Base Datos'!$J$5:$J$30000,CONCATENATE(\"S\",B652),'Base Datos'!$I$5:$I$30000)","v":0},0,""]
[null,null,null,null,null,null,null,{"$f":"SUMIF('Base Datos'!$J$5:$J$30000,CONCATENATE(\"E\",B653),'Base Datos'!$I$5:$I$30000)","v":0},{"$f":"SUMIF('Base Datos'!$J$5:$J$30000,CONCATENATE(\"S\",B653),'Base Datos'!$I$5:$I$30000)","v":0},0,""]
[null,null,null,null,null,null,null,{"$f":"SUMIF('Base Datos'!$J$5:$J$30000,CONCATENATE(\"E\",B654),'Base Datos'!$I$5:$I$30000)","v":0},{"$f":"SUMIF('Base Datos'!$J$5:$J$30000,CONCATENATE(\"S\",B654),'Base Datos'!$I$5:$I$30000)","v":0},0,""]
[null,null,null,null,null,null,null,{"$f":"SUMIF('Base Datos'!$J$5:$J$30000,CONCATENATE(\"E\",B655),'Base Datos'!$I$5:$I$30000)","v":0},{"$f":"SUMIF('Base Datos'!$J$5:$J$30000,CONCATENATE(\"S\",B655),'Base Datos'!$I$5:$I$30000)","v":0},0,""]
[null,null,null,null,null,null,null,{"$f":"SUMIF('Base Datos'!$J$5:$J$30000,CONCATENATE(\"E\",B656),'Base Datos'!$I$5:$I$30000)","v":0},{"$f":"SUMIF('Base Datos'!$J$5:$J$30000,CONCATENATE(\"S\",B656),'Base Datos'!$I$5:$I$30000)","v":0},0,""]
[null,null,null,null,null,null,null,{"$f":"SUMIF('Base Datos'!$J$5:$J$30000,CONCATENATE(\"E\",B657),'Base Datos'!$I$5:$I$30000)","v":0},{"$f":"SUMIF('Base Datos'!$J$5:$J$30000,CONCATENATE(\"S\",B657),'Base Datos'!$I$5:$I$30000)","v":0},0,""]
[null,null,null,null,null,null,null,{"$f":"SUMIF('Base Datos'!$J$5:$J$30000,CONCATENATE(\"E\",B658),'Base Datos'!$I$5:$I$30000)","v":0},{"$f":"SUMIF('Base Datos'!$J$5:$J$30000,CONCATENATE(\"S\",B658),'Base Datos'!$I$5:$I$30000)","v":0},0,""]
[null,null,null,null,null,null,null,{"$f":"SUMIF('Base Datos'!$J$5:$J$30000,CONCATENATE(\"E\",B659),'Base Datos'!$I$5:$I$30000)","v":0},{"$f":"SUMIF('Base Datos'!$J$5:$J$30000,CONCATENATE(\"S\",B659),'Base Datos'!$I$5:$I$30000)","v":0},0,""]
[null,null,null,null,null,null,null,{"$f":"SUMIF('Base Datos'!$J$5:$J$30000,CONCATENATE(\"E\",B660),'Base Datos'!$I$5:$I$30000)","v":0},{"$f":"SUMIF('Base Datos'!$J$5:$J$30000,CONCATENATE(\"S\",B660),'Base Datos'!$I$5:$I$30000)","v":0},0,""]
[null,null,null,null,null,null,null,{"$f":"SUMIF('Base Datos'!$J$5:$J$30000,CONCATENATE(\"E\",B661),'Base Datos'!$I$5:$I$30000)","v":0},{"$f":"SUMIF('Base Datos'!$J$5:$J$30000,CONCATENATE(\"S\",B661),'Base Datos'!$I$5:$I$30000)","v":0},0,""]
[null,null,null,null,null,null,null,{"$f":"SUMIF('Base Datos'!$J$5:$J$30000,CONCATENATE(\"E\",B662),'Base Datos'!$I$5:$I$30000)","v":0},{"$f":"SUMIF('Base Datos'!$J$5:$J$30000,CONCATENATE(\"S\",B662),'Base Datos'!$I$5:$I$30000)","v":0},0,""]
[null,null,null,null,null,null,null,{"$f":"SUMIF('Base Datos'!$J$5:$J$30000,CONCATENATE(\"E\",B663),'Base Datos'!$I$5:$I$30000)","v":0},{"$f":"SUMIF('Base Datos'!$J$5:$J$30000,CONCATENATE(\"S\",B663),'Base Datos'!$I$5:$I$30000)","v":0},0,""]
[null,null,null,null,null,null,null,{"$f":"SUMIF('Base Datos'!$J$5:$J$30000,CONCATENATE(\"E\",B664),'Base Datos'!$I$5:$I$30000)","v":0},{"$f":"SUMIF('Base Datos'!$J$5:$J$30000,CONCATENATE(\"S\",B664),'Base Datos'!$I$5:$I$30000)","v":0},0,""]
[null,null,null,null,null,null,null,{"$f":"SUMIF('Base Datos'!$J$5:$J$30000,CONCATENATE(\"E\",B665),'Base Datos'!$I$5:$I$30000)","v":0},{"$f":"SUMIF('Base Datos'!$J$5:$J$30000,CONCATENATE(\"S\",B665),'Base Datos'!$I$5:$I$30000)","v":0},0,""]
[null,null,null,null,null,null,null,{"$f":"SUMIF('Base Datos'!$J$5:$J$30000,CONCATENATE(\"E\",B666),'Base Datos'!$I$5:$I$30000)","v":0},{"$f":"SUMIF('Base Datos'!$J$5:$J$30000,CONCATENATE(\"S\",B666),'Base Datos'!$I$5:$I$30000)","v":0},0,""]
[null,null,null,null,null,null,null,{"$f":"SUMIF('Base Datos'!$J$5:$J$30000,CONCATENATE(\"E\",B667),'Base Datos'!$I$5:$I$30000)","v":0},{"$f":"SUMIF('Base Datos'!$J$5:$J$30000,CONCATENATE(\"S\",B667),'Base Datos'!$I$5:$I$30000)","v":0},0,""]
[null,null,null,null,null,null,null,{"$f":"SUMIF('Base Datos'!$J$5:$J$30000,CONCATENATE(\"E\",B668),'Base Datos'!$I$5:$I$30000)","v":0},{"$f":"SUMIF('Base Datos'!$J$5:$J$30000,CONCATENATE(\"S\",B668),'Base Datos'!$I$5:$I$30000)","v":0},0,""]
[null,null,null,null,null,null,null,{"$f":"SUMIF('Base Datos'!$J$5:$J$30000,CONCATENATE(\"E\",B669),'Base Datos'!$I$5:$I$30000)","v":0},{"$f":"SUMIF('Base Datos'!$J$5:$J$30000,CONCATENATE(\"S\",B669),'Base Datos'!$I$5:$I$30000)","v":0},0,""]
[null,null,null,null,null,null,null,{"$f":"SUMIF('Base Datos'!$J$5:$J$30000,CONCATENATE(\"E\",B670),'Base Datos'!$I$5:$I$30000)","v":0},{"$f":"SUMIF('Base Datos'!$J$5:$J$30000,CONCATENATE(\"S\",B670),'Base Datos'!$I$5:$I$30000)","v":0},0,""]
[null,null,null,null,null,null,null,{"$f":"SUMIF('Base Datos'!$J$5:$J$30000,CONCATENATE(\"E\",B671),'Base Datos'!$I$5:$I$30000)","v":0},{"$f":"SUMIF('Base Datos'!$J$5:$J$30000,CONCATENATE(\"S\",B671),'Base Datos'!$I$5:$I$30000)","v":0},0,""]
[null,null,null,null,null,null,null,{"$f":"SUMIF('Base Datos'!$J$5:$J$30000,CONCATENATE(\"E\",B672),'Base Datos'!$I$5:$I$30000)","v":0},{"$f":"SUMIF('Base Datos'!$J$5:$J$30000,CONCATENATE(\"S\",B672),'Base Datos'!$I$5:$I$30000)","v":0},0,""]
[null,null,null,null,null,null,null,{"$f":"SUMIF('Base Datos'!$J$5:$J$30000,CONCATENATE(\"E\",B673),'Base Datos'!$I$5:$I$30000)","v":0},{"$f":"SUMIF('Base Datos'!$J$5:$J$30000,CONCATENATE(\"S\",B673),'Base Datos'!$I$5:$I$30000)","v":0},0,""]
[null,null,null,null,null,null,null,{"$f":"SUMIF('Base Datos'!$J$5:$J$30000,CONCATENATE(\"E\",B674),'Base Datos'!$I$5:$I$30000)","v":0},{"$f":"SUMIF('Base Datos'!$J$5:$J$30000,CONCATENATE(\"S\",B674),'Base Datos'!$I$5:$I$30000)","v":0},0,""]
[null,null,null,null,null,null,null,{"$f":"SUMIF('Base Datos'!$J$5:$J$30000,CONCATENATE(\"E\",B675),'Base Datos'!$I$5:$I$30000)","v":0},{"$f":"SUMIF('Base Datos'!$J$5:$J$30000,CONCATENATE(\"S\",B675),'Base Datos'!$I$5:$I$30000)","v":0},0,""]
[null,null,null,null,null,null,null,{"$f":"SUMIF('Base Datos'!$J$5:$J$30000,CONCATENATE(\"E\",B676),'Base Datos'!$I$5:$I$30000)","v":0},{"$f":"SUMIF('Base Datos'!$J$5:$J$30000,CONCATENATE(\"S\",B676),'Base Datos'!$I$5:$I$30000)","v":0},0,""]
[null,null,null,null,null,null,null,{"$f":"SUMIF('Base Datos'!$J$5:$J$30000,CONCATENATE(\"E\",B677),'Base Datos'!$I$5:$I$30000)","v":0},{"$f":"SUMIF('Base Datos'!$J$5:$J$30000,CONCATENATE(\"S\",B677),'Base Datos'!$I$5:$I$30000)","v":0},0,""]
[null,null,null,null,null,null,null,{"$f":"SUMIF('Base Datos'!$J$5:$J$30000,CONCATENATE(\"E\",B678),'Base Datos'!$I$5:$I$30000)","v":0},{"$f":"SUMIF('Base Datos'!$J$5:$J$30000,CONCATENATE(\"S\",B678),'Base Datos'!$I$5:$I$30000)","v":0},0,""]
[null,null,null,null,null,null,null,{"$f":"SUMIF('Base Datos'!$J$5:$J$30000,CONCATENATE(\"E\",B679),'Base Datos'!$I$5:$I$30000)","v":0},{"$f":"SUMIF('Base Datos'!$J$5:$J$30000,CONCATENATE(\"S\",B679),'Base Datos'!$I$5:$I$30000)","v":0},0,""]
[null,null,null,null,null,null,null,{"$f":"SUMIF('Base Datos'!$J$5:$J$30000,CONCATENATE(\"E\",B680),'Base Datos'!$I$5:$I$30000)","v":0},{"$f":"SUMIF('Base Datos'!$J$5:$J$30000,CONCATENATE(\"S\",B680),'Base Datos'!$I$5:$I$30000)","v":0},0,""]
[null,null,null,null,null,null,null,{"$f":"SUMIF('Base Datos'!$J$5:$J$30000,CONCATENATE(\"E\",B681),'Base Datos'!$I$5:$I$30000)","v":0},{"$f":"SUMIF('Base Datos'!$J$5:$J$30000,CONCATENATE(\"S\",B681),'Base Datos'!$I$5:$I$30000)","v":0},0,""]
[null,null,null,null,null,null,null,{"$f":"SUMIF('Base Datos'!$J$5:$J$30000,CONCATENATE(\"E\",B682),'Base Datos'!$I$5:$I$30000)","v":0},{"$f":"SUMIF('Base Datos'!$J$5:$J$30000,CONCATENATE(\"S\",B682),'Base Datos'!$I$5:$I$30000)","v":0},0,""]
[null,null,null,null,null,null,null,{"$f":"SUMIF('Base Datos'!$J$5:$J$30000,CONCATENATE(\"E\",B683),'Base Datos'!$I$5:$I$30000)","v":0},{"$f":"SUMIF('Base Datos'!$J$5:$J$30000,CONCATENATE(\"S\",B683),'Base Datos'!$I$5:$I$30000)","v":0},0,""]
[null,null,null,null,null,null,null,{"$f":"SUMIF('Base Datos'!$J$5:$J$30000,CONCATENATE(\"E\",B684),'Base Datos'!$I$5:$I$30000)","v":0},{"$f":"SUMIF('Base Datos'!$J$5:$J$30000,CONCATENATE(\"S\",B684),'Base Datos'!$I$5:$I$30000)","v":0},0,""]
[null,null,null,null,null,null,null,{"$f":"SUMIF('Base Datos'!$J$5:$J$30000,CONCATENATE(\"E\",B685),'Base Datos'!$I$5:$I$30000)","v":0},{"$f":"SUMIF('Base Datos'!$J$5:$J$30000,CONCATENATE(\"S\",B685),'Base Datos'!$I$5:$I$30000)","v":0},0,""]
[null,null,null,null,null,null,null,{"$f":"SUMIF('Base Datos'!$J$5:$J$30000,CONCATENATE(\"E\",B686),'Base Datos'!$I$5:$I$30000)","v":0},{"$f":"SUMIF('Base Datos'!$J$5:$J$30000,CONCATENATE(\"S\",B686),'Base Datos'!$I$5:$I$30000)","v":0},0,""]
[null,null,null,null,null,null,null,{"$f":"SUMIF('Base Datos'!$J$5:$J$30000,CONCATENATE(\"E\",B687),'Base Datos'!$I$5:$I$30000)","v":0},{"$f":"SUMIF('Base Datos'!$J$5:$J$30000,CONCATENATE(\"S\",B687),'Base Datos'!$I$5:$I$30000)","v":0},0,""]
[null,null,null,null,null,null,null,{"$f":"SUMIF('Base Datos'!$J$5:$J$30000,CONCATENATE(\"E\",B688),'Base Datos'!$I$5:$I$30000)","v":0},{"$f":"SUMIF('Base Datos'!$J$5:$J$30000,CONCATENATE(\"S\",B688),'Base Datos'!$I$5:$I$30000)","v":0},0,""]
[null,null,null,null,null,null,null,{"$f":"SUMIF('Base Datos'!$J$5:$J$30000,CONCATENATE(\"E\",B689),'Base Datos'!$I$5:$I$30000)","v":0},{"$f":"SUMIF('Base Datos'!$J$5:$J$30000,CONCATENATE(\"S\",B689),'Base Datos'!$I$5:$I$30000)","v":0},0,""]
[null,null,null,null,null,null,null,{"$f":"SUMIF('Base Datos'!$J$5:$J$30000,CONCATENATE(\"E\",B690),'Base Datos'!$I$5:$I$30000)","v":0},{"$f":"SUMIF('Base Datos'!$J$5:$J$30000,CONCATENATE(\"S\",B690),'Base Datos'!$I$5:$I$30000)","v":0},0,""]
[null,null,null,null,null,null,null,{"$f":"SUMIF('Base Datos'!$J$5:$J$30000,CONCATENATE(\"E\",B691),'Base Datos'!$I$5:$I$30000)","v":0},{"$f":"SUMIF('Base Datos'!$J$5:$J$30000,CONCATENATE(\"S\",B691),'Base Datos'!$I$5:$I$30000)","v":0},0,""]
[null,null,null,null,null,null,null,{"$f":"SUMIF('Base Datos'!$J$5:$J$30000,CONCATENATE(\"E\",B692),'Base Datos'!$I$5:$I$30000)","v":0},{"$f":"SUMIF('Base Datos'!$J$5:$J$30000,CONCATENATE(\"S\",B692),'Base Datos'!$I$5:$I$30000)","v":0},0,""]
[null,null,null,null,null,null,null,{"$f":"SUMIF('Base Datos'!$J$5:$J$30000,CONCATENATE(\"E\",B693),'Base Datos'!$I$5:$I$30000)","v":0},{"$f":"SUMIF('Base Datos'!$J$5:$J$30000,CONCATENATE(\"S\",B693),'Base Datos'!$I$5:$I$30000)","v":0},0,""]
[null,null,null,null,null,null,null,{"$f":"SUMIF('Base Datos'!$J$5:$J$30000,CONCATENATE(\"E\",B694),'Base Datos'!$I$5:$I$30000)","v":0},{"$f":"SUMIF('Base Datos'!$J$5:$J$30000,CONCATENATE(\"S\",B694),'Base Datos'!$I$5:$I$30000)","v":0},0,""]
[null,null,null,null,null,null,null,{"$f":"SUMIF('Base Datos'!$J$5:$J$30000,CONCATENATE(\"E\",B695),'Base Datos'!$I$5:$I$30000)","v":0},{"$f":"SUMIF('Base Datos'!$J$5:$J$30000,CONCATENATE(\"S\",B695),'Base Datos'!$I$5:$I$30000)","v":0},0,""]
[null,null,null,null,null,null,null,{"$f":"SUMIF('Base Datos'!$J$5:$J$30000,CONCATENATE(\"E\",B696),'Base Datos'!$I$5:$I$30000)","v":0},{"$f":"SUMIF('Base Datos'!$J$5:$J$30000,CONCATENATE(\"S\",B696),'Base Datos'!$I$5:$I$30000)","v":0},0,""]
[null,null,null,null,null,null,null,{"$f":"SUMIF('Base Datos'!$J$5:$J$30000,CONCATENATE(\"E\",B697),'Base Datos'!$I$5:$I$30000)","v":0},{"$f":"SUMIF('Base Datos'!$J$5:$J$30000,CONCATENATE(\"S\",B697),'Base Datos'!$I$5:$I$30000)","v":0},0,""]
[null,null,null,null,null,null,null,{"$f":"SUMIF('Base Datos'!$J$5:$J$30000,CONCATENATE(\"E\",B698),'Base Datos'!$I$5:$I$30000)","v":0},{"$f":"SUMIF('Base Datos'!$J$5:$J$30000,CONCATENATE(\"S\",B698),'Base Datos'!$I$5:$I$30000)","v":0},0,""]
[null,null,null,null,null,null,null,{"$f":"SUMIF('Base Datos'!$J$5:$J$30000,CONCATENATE(\"E\",B699),'Base Datos'!$I$5:$I$30000)","v":0},{"$f":"SUMIF('Base Datos'!$J$5:$J$30000,CONCATENATE(\"S\",B699),'Base Datos'!$I$5:$I$30000)","v":0},0,""]
[null,null,null,null,null,null,null,{"$f":"SUMIF('Base Datos'!$J$5:$J$30000,CONCATENATE(\"E\",B700),'Base Datos'!$I$5:$I$30000)","v":0},{"$f":"SUMIF('Base Datos'!$J$5:$J$30000,CONCATENATE(\"S\",B700),'Base Datos'!$I$5:$I$30000)","v":0},0,""]
[null,null,null,null,null,null,null,{"$f":"SUMIF('Base Datos'!$J$5:$J$30000,CONCATENATE(\"E\",B701),'Base Datos'!$I$5:$I$30000)","v":0},{"$f":"SUMIF('Base Datos'!$J$5:$J$30000,CONCATENATE(\"S\",B701),'Base Datos'!$I$5:$I$30000)","v":0},0,""]
[null,null,null,null,null,null,null,{"$f":"SUMIF('Base Datos'!$J$5:$J$30000,CONCATENATE(\"E\",B702),'Base Datos'!$I$5:$I$30000)","v":0},{"$f":"SUMIF('Base Datos'!$J$5:$J$30000,CONCATENATE(\"S\",B702),'Base Datos'!$I$5:$I$30000)","v":0},{"$f":"(G702+H702-I702)","v":0},""]
[null,null,null,null,null,null,null,{"$f":"SUMIF('Base Datos'!$J$5:$J$30000,CONCATENATE(\"E\",B703),'Base Datos'!$I$5:$I$30000)","v":0},{"$f":"SUMIF('Base Datos'!$J$5:$J$30000,CONCATENATE(\"S\",B703),'Base Datos'!$I$5:$I$30000)","v":0},0,""]
[null,null,null,null,null,null,null,{"$f":"SUMIF('Base Datos'!$J$5:$J$30000,CONCATENATE(\"E\",B704),'Base Datos'!$I$5:$I$30000)","v":0},{"$f":"SUMIF('Base Datos'!$J$5:$J$30000,CONCATENATE(\"S\",B704),'Base Datos'!$I$5:$I$30000)","v":0},0,""]
[null,null,null,null,null,null,null,{"$f":"SUMIF('Base Datos'!$J$5:$J$30000,CONCATENATE(\"E\",B705),'Base Datos'!$I$5:$I$30000)","v":0},{"$f":"SUMIF('Base Datos'!$J$5:$J$30000,CONCATENATE(\"S\",B705),'Base Datos'!$I$5:$I$30000)","v":0},0,""]
[null,null,null,null,null,null,null,{"$f":"SUMIF('Base Datos'!$J$5:$J$30000,CONCATENATE(\"E\",B706),'Base Datos'!$I$5:$I$30000)","v":0},{"$f":"SUMIF('Base Datos'!$J$5:$J$30000,CONCATENATE(\"S\",B706),'Base Datos'!$I$5:$I$30000)","v":0},0,""]
[null,null,null,null,null,null,null,{"$f":"SUMIF('Base Datos'!$J$5:$J$30000,CONCATENATE(\"E\",B707),'Base Datos'!$I$5:$I$30000)","v":0},{"$f":"SUMIF('Base Datos'!$J$5:$J$30000,CONCATENATE(\"S\",B707),'Base Datos'!$I$5:$I$30000)","v":0},0,""]
[null,null,null,null,null,null,null,{"$f":"SUMIF('Base Datos'!$J$5:$J$30000,CONCATENATE(\"E\",B708),'Base Datos'!$I$5:$I$30000)","v":0},{"$f":"SUMIF('Base Datos'!$J$5:$J$30000,CONCATENATE(\"S\",B708),'Base Datos'!$I$5:$I$30000)","v":0},0,""]
[null,null,null,null,null,null,null,{"$f":"SUMIF('Base Datos'!$J$5:$J$30000,CONCATENATE(\"E\",B709),'Base Datos'!$I$5:$I$30000)","v":0},{"$f":"SUMIF('Base Datos'!$J$5:$J$30000,CONCATENATE(\"S\",B709),'Base Datos'!$I$5:$I$30000)","v":0},0,""]
[null,null,null,null,null,null,null,{"$f":"SUMIF('Base Datos'!$J$5:$J$30000,CONCATENATE(\"E\",B710),'Base Datos'!$I$5:$I$30000)","v":0},{"$f":"SUMIF('Base Datos'!$J$5:$J$30000,CONCATENATE(\"S\",B710),'Base Datos'!$I$5:$I$30000)","v":0},0,""]
[null,null,null,null,null,null,null,{"$f":"SUMIF('Base Datos'!$J$5:$J$30000,CONCATENATE(\"E\",B711),'Base Datos'!$I$5:$I$30000)","v":0},{"$f":"SUMIF('Base Datos'!$J$5:$J$30000,CONCATENATE(\"S\",B711),'Base Datos'!$I$5:$I$30000)","v":0},0,{"$f":"IFERROR(ROUND(J711/F711,0),\"\")","v":""}]
[null,null,null,null,null,null,null,{"$f":"SUMIF('Base Datos'!$J$5:$J$30000,CONCATENATE(\"E\",B712),'Base Datos'!$I$5:$I$30000)","v":0},{"$f":"SUMIF('Base Datos'!$J$5:$J$30000,CONCATENATE(\"S\",B712),'Base Datos'!$I$5:$I$30000)","v":0},0,""]
[null,null,null,null,null,null,null,{"$f":"SUMIF('Base Datos'!$J$5:$J$30000,CONCATENATE(\"E\",B713),'Base Datos'!$I$5:$I$30000)","v":0},{"$f":"SUMIF('Base Datos'!$J$5:$J$30000,CONCATENATE(\"S\",B713),'Base Datos'!$I$5:$I$30000)","v":0},0,""]
[null,null,null,null,null,null,null,{"$f":"SUMIF('Base Datos'!$J$5:$J$30000,CONCATENATE(\"E\",B714),'Base Datos'!$I$5:$I$30000)","v":0},{"$f":"SUMIF('Base Datos'!$J$5:$J$30000,CONCATENATE(\"S\",B714),'Base Datos'!$I$5:$I$30000)","v":0},0,""]
[null,null,null,null,null,null,null,{"$f":"SUMIF('Base Datos'!$J$5:$J$30000,CONCATENATE(\"E\",B715),'Base Datos'!$I$5:$I$30000)","v":0},{"$f":"SUMIF('Base Datos'!$J$5:$J$30000,CONCATENATE(\"S\",B715),'Base Datos'!$I$5:$I$30000)","v":0},0,""]
[null,null,null,null,null,null,null,{"$f":"SUMIF('Base Datos'!$J$5:$J$30000,CONCATENATE(\"E\",B716),'Base Datos'!$I$5:$I$30000)","v":0},{"$f":"SUMIF('Base Datos'!$J$5:$J$30000,CONCATENATE(\"S\",B716),'Base Datos'!$I$5:$I$30000)","v":0},0,""]
[null,null,null,null,null,null,null,{"$f":"SUMIF('Base Datos'!$J$5:$J$30000,CONCATENATE(\"E\",B717),'Base Datos'!$I$5:$I$30000)","v":0},{"$f":"SUMIF('Base Datos'!$J$5:$J$30000,CONCATENATE(\"S\",B717),'Base Datos'!$I$5:$I$30000)","v":0},0,""]
[null,null,null,null,null,null,null,{"$f":"SUMIF('Base Datos'!$J$5:$J$30000,CONCATENATE(\"E\",B718),'Base Datos'!$I$5:$I$30000)","v":0},{"$f":"SUMIF('Base Datos'!$J$5:$J$30000,CONCATENATE(\"S\",B718),'Base Datos'!$I$5:$I$30000)","v":0},0,""]
[null,null,null,null,null,null,null,{"$f":"SUMIF('Base Datos'!$J$5:$J$30000,CONCATENATE(\"E\",B719),'Base Datos'!$I$5:$I$30000)","v":0},{"$f":"SUMIF('Base Datos'!$J$5:$J$30000,CONCATENATE(\"S\",B719),'Base Datos'!$I$5:$I$30000)","v":0},0,""]
[null,null,null,null,null,null,null,{"$f":"SUMIF('Base Datos'!$J$5:$J$30000,CONCATENATE(\"E\",B720),'Base Datos'!$I$5:$I$30000)","v":0},{"$f":"SUMIF('Base Datos'!$J$5:$J$30000,CONCATENATE(\"S\",B720),'Base Datos'!$I$5:$I$30000)","v":0},0,""]
[null,null,null,null,null,null,null,{"$f":"SUMIF('Base Datos'!$J$5:$J$30000,CONCATENATE(\"E\",B721),'Base Datos'!$I$5:$I$30000)","v":0},{"$f":"SUMIF('Base Datos'!$J$5:$J$30000,CONCATENATE(\"S\",B721),'Base Datos'!$I$5:$I$30000)","v":0},0,""]
[null,null,null,null,null,null,null,{"$f":"SUMIF('Base Datos'!$J$5:$J$30000,CONCATENATE(\"E\",B722),'Base Datos'!$I$5:$I$30000)","v":0},{"$f":"SUMIF('Base Datos'!$J$5:$J$30000,CONCATENATE(\"S\",B722),'Base Datos'!$I$5:$I$30000)","v":0},0,""]
[null,null,null,null,null,null,null,{"$f":"SUMIF('Base Datos'!$J$5:$J$30000,CONCATENATE(\"E\",B723),'Base Datos'!$I$5:$I$30000)","v":0},{"$f":"SUMIF('Base Datos'!$J$5:$J$30000,CONCATENATE(\"S\",B723),'Base Datos'!$I$5:$I$30000)","v":0},0,""]
[null,null,null,null,null,null,null,{"$f":"SUMIF('Base Datos'!$J$5:$J$30000,CONCATENATE(\"E\",B724),'Base Datos'!$I$5:$I$30000)","v":0},{"$f":"SUMIF('Base Datos'!$J$5:$J$30000,CONCATENATE(\"S\",B724),'Base Datos'!$I$5:$I$30000)","v":0},0,""]
[null,null,null,null,null,null,null,{"$f":"SUMIF('Base Datos'!$J$5:$J$30000,CONCATENATE(\"E\",B725),'Base Datos'!$I$5:$I$30000)","v":0},{"$f":"SUMIF('Base Datos'!$J$5:$J$30000,CONCATENATE(\"S\",B725),'Base Datos'!$I$5:$I$30000)","v":0},0,""]
[null,null,null,null,null,null,null,{"$f":"SUMIF('Base Datos'!$J$5:$J$30000,CONCATENATE(\"E\",B726),'Base Datos'!$I$5:$I$30000)","v":0},{"$f":"SUMIF('Base Datos'!$J$5:$J$30000,CONCATENATE(\"S\",B726),'Base Datos'!$I$5:$I$30000)","v":0},0,""]
[null,null,null,null,null,null,null,{"$f":"SUMIF('Base Datos'!$J$5:$J$30000,CONCATENATE(\"E\",B727),'Base Datos'!$I$5:$I$30000)","v":0},{"$f":"SUMIF('Base Datos'!$J$5:$J$30000,CONCATENATE(\"S\",B727),'Base Datos'!$I$5:$I$30000)","v":0},0,""]
[null,null,null,null,null,null,null,{"$f":"SUMIF('Base Datos'!$J$5:$J$30000,CONCATENATE(\"E\",B728),'Base Datos'!$I$5:$I$30000)","v":0},{"$f":"SUMIF('Base Datos'!$J$5:$J$30000,CONCATENATE(\"S\",B728),'Base Datos'!$I$5:$I$30000)","v":0},0,""]
[null,null,null,null,null,null,null,{"$f":"SUMIF('Base Datos'!$J$5:$J$30000,CONCATENATE(\"E\",B729),'Base Datos'!$I$5:$I$30000)","v":0},{"$f":"SUMIF('Base Datos'!$J$5:$J$30000,CONCATENATE(\"S\",B729),'Base Datos'!$I$5:$I$30000)","v":0},0,""]
[null,null,null,null,null,null,null,{"$f":"SUMIF('Base Datos'!$J$5:$J$30000,CONCATENATE(\"E\",B730),'Base Datos'!$I$5:$I$30000)","v":0},{"$f":"SUMIF('Base Datos'!$J$5:$J$30000,CONCATENATE(\"S\",B730),'Base Datos'!$I$5:$I$30000)","v":0},0,""]
[null,null,null,null,null,null,null,{"$f":"SUMIF('Base Datos'!$J$5:$J$30000,CONCATENATE(\"E\",B731),'Base Datos'!$I$5:$I$30000)","v":0},{"$f":"SUMIF('Base Datos'!$J$5:$J$30000,CONCATENATE(\"S\",B731),'Base Datos'!$I$5:$I$30000)","v":0},0,""]
[null,null,null,null,null,null,null,{"$f":"SUMIF('Base Datos'!$J$5:$J$30000,CONCATENATE(\"E\",B732),'Base Datos'!$I$5:$I$30000)","v":0},{"$f":"SUMIF('Base Datos'!$J$5:$J$30000,CONCATENATE(\"S\",B732),'Base Datos'!$I$5:$I$30000)","v":0},0,""]
[null,null,null,null,null,null,null,{"$f":"SUMIF('Base Datos'!$J$5:$J$30000,CONCATENATE(\"E\",B733),'Base Datos'!$I$5:$I$30000)","v":0},{"$f":"SUMIF('Base Datos'!$J$5:$J$30000,CONCATENATE(\"S\",B733),'Base Datos'!$I$5:$I$30000)","v":0},0,""]
[null,null,null,null,null,null,null,{"$f":"SUMIF('Base Datos'!$J$5:$J$30000,CONCATENATE(\"E\",B734),'Base Datos'!$I$5:$I$30000)","v":0},{"$f":"SUMIF('Base Datos'!$J$5:$J$30000,CONCATENATE(\"S\",B734),'Base Datos'!$I$5:$I$30000)","v":0},0,""]
[null,null,null,null,null,null,null,{"$f":"SUMIF('Base Datos'!$J$5:$J$30000,CONCATENATE(\"E\",B735),'Base Datos'!$I$5:$I$30000)","v":0},{"$f":"SUMIF('Base Datos'!$J$5:$J$30000,CONCATENATE(\"S\",B735),'Base Datos'!$I$5:$I$30000)","v":0},0,""]
[null,null,null,null,null,null,null,{"$f":"SUMIF('Base Datos'!$J$5:$J$30000,CONCATENATE(\"E\",B736),'Base Datos'!$I$5:$I$30000)","v":0},{"$f":"SUMIF('Base Datos'!$J$5:$J$30000,CONCATENATE(\"S\",B736),'Base Datos'!$I$5:$I$30000)","v":0},0,""]
[null,null,null,null,null,null,null,{"$f":"SUMIF('Base Datos'!$J$5:$J$30000,CONCATENATE(\"E\",B737),'Base Datos'!$I$5:$I$30000)","v":0},{"$f":"SUMIF('Base Datos'!$J$5:$J$30000,CONCATENATE(\"S\",B737),'Base Datos'!$I$5:$I$30000)","v":0},0,""]
[null,null,null,null,null,null,null,{"$f":"SUMIF('Base Datos'!$J$5:$J$30000,CONCATENATE(\"E\",B738),'Base Datos'!$I$5:$I$30000)","v":0},{"$f":"SUMIF('Base Datos'!$J$5:$J$30000,CONCATENATE(\"S\",B738),'Base Datos'!$I$5:$I$30000)","v":0},0,""]
[null,null,null,null,null,null,null,{"$f":"SUMIF('Base Datos'!$J$5:$J$30000,CONCATENATE(\"E\",B739),'Base Datos'!$I$5:$I$30000)","v":0},{"$f":"SUMIF('Base Datos'!$J$5:$J$30000,CONCATENATE(\"S\",B739),'Base Datos'!$I$5:$I$30000)","v":0},0,""]
[null,null,null,null,null,null,null,{"$f":"SUMIF('Base Datos'!$J$5:$J$30000,CONCATENATE(\"E\",B740),'Base Datos'!$I$5:$I$30000)","v":0},{"$f":"SUMIF('Base Datos'!$J$5:$J$30000,CONCATENATE(\"S\",B740),'Base Datos'!$I$5:$I$30000)","v":0},0,""]
[null,null,null,null,null,null,null,{"$f":"SUMIF('Base Datos'!$J$5:$J$30000,CONCATENATE(\"E\",B741),'Base Datos'!$I$5:$I$30000)","v":0},{"$f":"SUMIF('Base Datos'!$J$5:$J$30000,CONCATENATE(\"S\",B741),'Base Datos'!$I$5:$I$30000)","v":0},0,""]
[null,null,null,null,null,null,null,{"$f":"SUMIF('Base Datos'!$J$5:$J$30000,CONCATENATE(\"E\",B742),'Base Datos'!$I$5:$I$30000)","v":0},{"$f":"SUMIF('Base Datos'!$J$5:$J$30000,CONCATENATE(\"S\",B742),'Base Datos'!$I$5:$I$30000)","v":0},0,""]
[null,null,null,null,null,null,null,{"$f":"SUMIF('Base Datos'!$J$5:$J$30000,CONCATENATE(\"E\",B743),'Base Datos'!$I$5:$I$30000)","v":0},{"$f":"SUMIF('Base Datos'!$J$5:$J$30000,CONCATENATE(\"S\",B743),'Base Datos'!$I$5:$I$30000)","v":0},0,""]
[null,null,null,null,null,null,null,{"$f":"SUMIF('Base Datos'!$J$5:$J$30000,CONCATENATE(\"E\",B744),'Base Datos'!$I$5:$I$30000)","v":0},{"$f":"SUMIF('Base Datos'!$J$5:$J$30000,CONCATENATE(\"S\",B744),'Base Datos'!$I$5:$I$30000)","v":0},0,""]
[null,null,null,null,null,null,null,{"$f":"SUMIF('Base Datos'!$J$5:$J$30000,CONCATENATE(\"E\",B745),'Base Datos'!$I$5:$I$30000)","v":0},{"$f":"SUMIF('Base Datos'!$J$5:$J$30000,CONCATENATE(\"S\",B745),'Base Datos'!$I$5:$I$30000)","v":0},0,""]
[null,null,null,null,null,null,null,{"$f":"SUMIF('Base Datos'!$J$5:$J$30000,CONCATENATE(\"E\",B746),'Base Datos'!$I$5:$I$30000)","v":0},{"$f":"SUMIF('Base Datos'!$J$5:$J$30000,CONCATENATE(\"S\",B746),'Base Datos'!$I$5:$I$30000)","v":0},0,""]
[null,null,null,null,null,null,null,{"$f":"SUMIF('Base Datos'!$J$5:$J$30000,CONCATENATE(\"E\",B747),'Base Datos'!$I$5:$I$30000)","v":0},{"$f":"SUMIF('Base Datos'!$J$5:$J$30000,CONCATENATE(\"S\",B747),'Base Datos'!$I$5:$I$30000)","v":0},0,""]
[null,null,null,null,null,null,null,{"$f":"SUMIF('Base Datos'!$J$5:$J$30000,CONCATENATE(\"E\",B748),'Base Datos'!$I$5:$I$30000)","v":0},{"$f":"SUMIF('Base Datos'!$J$5:$J$30000,CONCATENATE(\"S\",B748),'Base Datos'!$I$5:$I$30000)","v":0},0,""]
[null,null,null,null,null,null,null,{"$f":"SUMIF('Base Datos'!$J$5:$J$30000,CONCATENATE(\"E\",B749),'Base Datos'!$I$5:$I$30000)","v":0},{"$f":"SUMIF('Base Datos'!$J$5:$J$30000,CONCATENATE(\"S\",B749),'Base Datos'!$I$5:$I$30000)","v":0},0,""]
[null,null,null,null,null,null,null,{"$f":"SUMIF('Base Datos'!$J$5:$J$30000,CONCATENATE(\"E\",B750),'Base Datos'!$I$5:$I$30000)","v":0},{"$f":"SUMIF('Base Datos'!$J$5:$J$30000,CONCATENATE(\"S\",B750),'Base Datos'!$I$5:$I$30000)","v":0},0,""]
[null,null,null,null,null,null,null,{"$f":"SUMIF('Base Datos'!$J$5:$J$30000,CONCATENATE(\"E\",B751),'Base Datos'!$I$5:$I$30000)","v":0},{"$f":"SUMIF('Base Datos'!$J$5:$J$30000,CONCATENATE(\"S\",B751),'Base Datos'!$I$5:$I$30000)","v":0},0,""]
[null,null,null,null,null,null,null,{"$f":"SUMIF('Base Datos'!$J$5:$J$30000,CONCATENATE(\"E\",B752),'Base Datos'!$I$5:$I$30000)","v":0},{"$f":"SUMIF('Base Datos'!$J$5:$J$30000,CONCATENATE(\"S\",B752),'Base Datos'!$I$5:$I$30000)","v":0},0,""]
[null,null,null,null,null,null,null,{"$f":"SUMIF('Base Datos'!$J$5:$J$30000,CONCATENATE(\"E\",B753),'Base Datos'!$I$5:$I$30000)","v":0},{"$f":"SUMIF('Base Datos'!$J$5:$J$30000,CONCATENATE(\"S\",B753),'Base Datos'!$I$5:$I$30000)","v":0},0,""]
[null,null,null,null,null,null,null,{"$f":"SUMIF('Base Datos'!$J$5:$J$30000,CONCATENATE(\"E\",B754),'Base Datos'!$I$5:$I$30000)","v":0},{"$f":"SUMIF('Base Datos'!$J$5:$J$30000,CONCATENATE(\"S\",B754),'Base Datos'!$I$5:$I$30000)","v":0},0,""]
[null,null,null,null,null,null,null,{"$f":"SUMIF('Base Datos'!$J$5:$J$30000,CONCATENATE(\"E\",B755),'Base Datos'!$I$5:$I$30000)","v":0},{"$f":"SUMIF('Base Datos'!$J$5:$J$30000,CONCATENATE(\"S\",B755),'Base Datos'!$I$5:$I$30000)","v":0},0,""]
[null,null,null,null,null,null,null,{"$f":"SUMIF('Base Datos'!$J$5:$J$30000,CONCATENATE(\"E\",B756),'Base Datos'!$I$5:$I$30000)","v":0},{"$f":"SUMIF('Base Datos'!$J$5:$J$30000,CONCATENATE(\"S\",B756),'Base Datos'!$I$5:$I$30000)","v":0},0,""]
[null,null,null,null,null,null,null,{"$f":"SUMIF('Base Datos'!$J$5:$J$30000,CONCATENATE(\"E\",B757),'Base Datos'!$I$5:$I$30000)","v":0},{"$f":"SUMIF('Base Datos'!$J$5:$J$30000,CONCATENATE(\"S\",B757),'Base Datos'!$I$5:$I$30000)","v":0},0,""]
[null,null,null,null,null,null,null,{"$f":"SUMIF('Base Datos'!$J$5:$J$30000,CONCATENATE(\"E\",B758),'Base Datos'!$I$5:$I$30000)","v":0},{"$f":"SUMIF('Base Datos'!$J$5:$J$30000,CONCATENATE(\"S\",B758),'Base Datos'!$I$5:$I$30000)","v":0},0,""]
[null,null,null,null,null,null,null,{"$f":"SUMIF('Base Datos'!$J$5:$J$30000,CONCATENATE(\"E\",B759),'Base Datos'!$I$5:$I$30000)","v":0},{"$f":"SUMIF('Base Datos'!$J$5:$J$30000,CONCATENATE(\"S\",B759),'Base Datos'!$I$5:$I$30000)","v":0},0,""]
[null,null,null,null,null,null,null,{"$f":"SUMIF('Base Datos'!$J$5:$J$30000,CONCATENATE(\"E\",B760),'Base Datos'!$I$5:$I$30000)","v":0},{"$f":"SUMIF('Base Datos'!$J$5:$J$30000,CONCATENATE(\"S\",B760),'Base Datos'!$I$5:$I$30000)","v":0},0,""]
[null,null,null,null,null,null,null,{"$f":"SUMIF('Base Datos'!$J$5:$J$30000,CONCATENATE(\"E\",B761),'Base Datos'!$I$5:$I$30000)","v":0},{"$f":"SUMIF('Base Datos'!$J$5:$J$30000,CONCATENATE(\"S\",B761),'Base Datos'!$I$5:$I$30000)","v":0},0,""]
[null,null,null,null,null,null,null,{"$f":"SUMIF('Base Datos'!$J$5:$J$30000,CONCATENATE(\"E\",B762),'Base Datos'!$I$5:$I$30000)","v":0},{"$f":"SUMIF('Base Datos'!$J$5:$J$30000,CONCATENATE(\"S\",B762),'Base Datos'!$I$5:$I$30000)","v":0},0,""]
[null,null,null,null,null,null,null,{"$f":"SUMIF('Base Datos'!$J$5:$J$30000,CONCATENATE(\"E\",B763),'Base Datos'!$I$5:$I$30000)","v":0},{"$f":"SUMIF('Base Datos'!$J$5:$J$30000,CONCATENATE(\"S\",B763),'Base Datos'!$I$5:$I$30000)","v":0},0,""]
[null,null,null,null,null,null,null,{"$f":"SUMIF('Base Datos'!$J$5:$J$30000,CONCATENATE(\"E\",B764),'Base Datos'!$I$5:$I$30000)","v":0},{"$f":"SUMIF('Base Datos'!$J$5:$J$30000,CONCATENATE(\"S\",B764),'Base Datos'!$I$5:$I$30000)","v":0},0,""]
[null,null,null,null,null,null,null,{"$f":"SUMIF('Base Datos'!$J$5:$J$30000,CONCATENATE(\"E\",B765),'Base Datos'!$I$5:$I$30000)","v":0},{"$f":"SUMIF('Base Datos'!$J$5:$J$30000,CONCATENATE(\"S\",B765),'Base Datos'!$I$5:$I$30000)","v":0},0,""]
[null,null,null,null,null,null,null,{"$f":"SUMIF('Base Datos'!$J$5:$J$30000,CONCATENATE(\"E\",B766),'Base Datos'!$I$5:$I$30000)","v":0},{"$f":"SUMIF('Base Datos'!$J$5:$J$30000,CONCATENATE(\"S\",B766),'Base Datos'!$I$5:$I$30000)","v":0},{"$f":"(G766+H766-I766)","v":0},""]
[null,null,null,null,null,null,null,{"$f":"SUMIF('Base Datos'!$J$5:$J$30000,CONCATENATE(\"E\",B767),'Base Datos'!$I$5:$I$30000)","v":0},{"$f":"SUMIF('Base Datos'!$J$5:$J$30000,CONCATENATE(\"S\",B767),'Base Datos'!$I$5:$I$30000)","v":0},0,""]
[null,null,null,null,null,null,null,{"$f":"SUMIF('Base Datos'!$J$5:$J$30000,CONCATENATE(\"E\",B768),'Base Datos'!$I$5:$I$30000)","v":0},{"$f":"SUMIF('Base Datos'!$J$5:$J$30000,CONCATENATE(\"S\",B768),'Base Datos'!$I$5:$I$30000)","v":0},0,""]
[null,null,null,null,null,null,null,{"$f":"SUMIF('Base Datos'!$J$5:$J$30000,CONCATENATE(\"E\",B769),'Base Datos'!$I$5:$I$30000)","v":0},{"$f":"SUMIF('Base Datos'!$J$5:$J$30000,CONCATENATE(\"S\",B769),'Base Datos'!$I$5:$I$30000)","v":0},0,""]
[null,null,null,null,null,null,null,{"$f":"SUMIF('Base Datos'!$J$5:$J$30000,CONCATENATE(\"E\",B770),'Base Datos'!$I$5:$I$30000)","v":0},{"$f":"SUMIF('Base Datos'!$J$5:$J$30000,CONCATENATE(\"S\",B770),'Base Datos'!$I$5:$I$30000)","v":0},0,""]
[null,null,null,null,null,null,null,{"$f":"SUMIF('Base Datos'!$J$5:$J$30000,CONCATENATE(\"E\",B771),'Base Datos'!$I$5:$I$30000)","v":0},{"$f":"SUMIF('Base Datos'!$J$5:$J$30000,CONCATENATE(\"S\",B771),'Base Datos'!$I$5:$I$30000)","v":0},0,""]
[null,null,null,null,null,null,null,{"$f":"SUMIF('Base Datos'!$J$5:$J$30000,CONCATENATE(\"E\",B772),'Base Datos'!$I$5:$I$30000)","v":0},{"$f":"SUMIF('Base Datos'!$J$5:$J$30000,CONCATENATE(\"S\",B772),'Base Datos'!$I$5:$I$30000)","v":0},0,""]
[null,null,null,null,null,null,null,{"$f":"SUMIF('Base Datos'!$J$5:$J$30000,CONCATENATE(\"E\",B773),'Base Datos'!$I$5:$I$30000)","v":0},{"$f":"SUMIF('Base Datos'!$J$5:$J$30000,CONCATENATE(\"S\",B773),'Base Datos'!$I$5:$I$30000)","v":0},0,""]
[null,null,null,null,null,null,null,{"$f":"SUMIF('Base Datos'!$J$5:$J$30000,CONCATENATE(\"E\",B774),'Base Datos'!$I$5:$I$30000)","v":0},{"$f":"SUMIF('Base Datos'!$J$5:$J$30000,CONCATENATE(\"S\",B774),'Base Datos'!$I$5:$I$30000)","v":0},0,""]
[null,null,null,null,null,null,null,{"$f":"SUMIF('Base Datos'!$J$5:$J$30000,CONCATENATE(\"E\",B775),'Base Datos'!$I$5:$I$30000)","v":0},{"$f":"SUMIF('Base Datos'!$J$5:$J$30000,CONCATENATE(\"S\",B775),'Base Datos'!$I$5:$I$30000)","v":0},0,{"$f":"IFERROR(ROUND(J775/F775,0),\"\")","v":""}]
[null,null,null,null,null,null,null,{"$f":"SUMIF('Base Datos'!$J$5:$J$30000,CONCATENATE(\"E\",B776),'Base Datos'!$I$5:$I$30000)","v":0},{"$f":"SUMIF('Base Datos'!$J$5:$J$30000,CONCATENATE(\"S\",B776),'Base Datos'!$I$5:$I$30000)","v":0},0,""]
[null,null,null,null,null,null,null,{"$f":"SUMIF('Base Datos'!$J$5:$J$30000,CONCATENATE(\"E\",B777),'Base Datos'!$I$5:$I$30000)","v":0},{"$f":"SUMIF('Base Datos'!$J$5:$J$30000,CONCATENATE(\"S\",B777),'Base Datos'!$I$5:$I$30000)","v":0},0,""]
[null,null,null,null,null,null,null,{"$f":"SUMIF('Base Datos'!$J$5:$J$30000,CONCATENATE(\"E\",B778),'Base Datos'!$I$5:$I$30000)","v":0},{"$f":"SUMIF('Base Datos'!$J$5:$J$30000,CONCATENATE(\"S\",B778),'Base Datos'!$I$5:$I$30000)","v":0},0,""]
[null,null,null,null,null,null,null,{"$f":"SUMIF('Base Datos'!$J$5:$J$30000,CONCATENATE(\"E\",B779),'Base Datos'!$I$5:$I$30000)","v":0},{"$f":"SUMIF('Base Datos'!$J$5:$J$30000,CONCATENATE(\"S\",B779),'Base Datos'!$I$5:$I$30000)","v":0},0,""]
[null,null,null,null,null,null,null,{"$f":"SUMIF('Base Datos'!$J$5:$J$30000,CONCATENATE(\"E\",B780),'Base Datos'!$I$5:$I$30000)","v":0},{"$f":"SUMIF('Base Datos'!$J$5:$J$30000,CONCATENATE(\"S\",B780),'Base Datos'!$I$5:$I$30000)","v":0},0,""]
[null,null,null,null,null,null,null,{"$f":"SUMIF('Base Datos'!$J$5:$J$30000,CONCATENATE(\"E\",B781),'Base Datos'!$I$5:$I$30000)","v":0},{"$f":"SUMIF('Base Datos'!$J$5:$J$30000,CONCATENATE(\"S\",B781),'Base Datos'!$I$5:$I$30000)","v":0},0,""]
[null,null,null,null,null,null,null,{"$f":"SUMIF('Base Datos'!$J$5:$J$30000,CONCATENATE(\"E\",B782),'Base Datos'!$I$5:$I$30000)","v":0},{"$f":"SUMIF('Base Datos'!$J$5:$J$30000,CONCATENATE(\"S\",B782),'Base Datos'!$I$5:$I$30000)","v":0},0,""]
[null,null,null,null,null,null,null,{"$f":"SUMIF('Base Datos'!$J$5:$J$30000,CONCATENATE(\"E\",B783),'Base Datos'!$I$5:$I$30000)","v":0},{"$f":"SUMIF('Base Datos'!$J$5:$J$30000,CONCATENATE(\"S\",B783),'Base Datos'!$I$5:$I$30000)","v":0},0,""]
[null,null,null,null,null,null,null,{"$f":"SUMIF('Base Datos'!$J$5:$J$30000,CONCATENATE(\"E\",B784),'Base Datos'!$I$5:$I$30000)","v":0},{"$f":"SUMIF('Base Datos'!$J$5:$J$30000,CONCATENATE(\"S\",B784),'Base Datos'!$I$5:$I$30000)","v":0},0,""]
[null,null,null,null,null,null,null,{"$f":"SUMIF('Base Datos'!$J$5:$J$30000,CONCATENATE(\"E\",B785),'Base Datos'!$I$5:$I$30000)","v":0},{"$f":"SUMIF('Base Datos'!$J$5:$J$30000,CONCATENATE(\"S\",B785),'Base Datos'!$I$5:$I$30000)","v":0},0,""]
[null,null,null,null,null,null,null,{"$f":"SUMIF('Base Datos'!$J$5:$J$30000,CONCATENATE(\"E\",B786),'Base Datos'!$I$5:$I$30000)","v":0},{"$f":"SUMIF('Base Datos'!$J$5:$J$30000,CONCATENATE(\"S\",B786),'Base Datos'!$I$5:$I$30000)","v":0},0,""]
[null,null,null,null,null,null,null,{"$f":"SUMIF('Base Datos'!$J$5:$J$30000,CONCATENATE(\"E\",B787),'Base Datos'!$I$5:$I$30000)","v":0},{"$f":"SUMIF('Base Datos'!$J$5:$J$30000,CONCATENATE(\"S\",B787),'Base Datos'!$I$5:$I$30000)","v":0},0,""]
[null,null,null,null,null,null,null,{"$f":"SUMIF('Base Datos'!$J$5:$J$30000,CONCATENATE(\"E\",B788),'Base Datos'!$I$5:$I$30000)","v":0},{"$f":"SUMIF('Base Datos'!$J$5:$J$30000,CONCATENATE(\"S\",B788),'Base Datos'!$I$5:$I$30000)","v":0},0,""]
[null,null,null,null,null,null,null,{"$f":"SUMIF('Base Datos'!$J$5:$J$30000,CONCATENATE(\"E\",B789),'Base Datos'!$I$5:$I$30000)","v":0},{"$f":"SUMIF('Base Datos'!$J$5:$J$30000,CONCATENATE(\"S\",B789),'Base Datos'!$I$5:$I$30000)","v":0},0,""]
[null,null,null,null,null,null,null,{"$f":"SUMIF('Base Datos'!$J$5:$J$30000,CONCATENATE(\"E\",B790),'Base Datos'!$I$5:$I$30000)","v":0},{"$f":"SUMIF('Base Datos'!$J$5:$J$30000,CONCATENATE(\"S\",B790),'Base Datos'!$I$5:$I$30000)","v":0},0,""]
[null,null,null,null,null,null,null,{"$f":"SUMIF('Base Datos'!$J$5:$J$30000,CONCATENATE(\"E\",B791),'Base Datos'!$I$5:$I$30000)","v":0},{"$f":"SUMIF('Base Datos'!$J$5:$J$30000,CONCATENATE(\"S\",B791),'Base Datos'!$I$5:$I$30000)","v":0},0,""]
[null,null,null,null,null,null,null,{"$f":"SUMIF('Base Datos'!$J$5:$J$30000,CONCATENATE(\"E\",B792),'Base Datos'!$I$5:$I$30000)","v":0},{"$f":"SUMIF('Base Datos'!$J$5:$J$30000,CONCATENATE(\"S\",B792),'Base Datos'!$I$5:$I$30000)","v":0},0,""]
[null,null,null,null,null,null,null,{"$f":"SUMIF('Base Datos'!$J$5:$J$30000,CONCATENATE(\"E\",B793),'Base Datos'!$I$5:$I$30000)","v":0},{"$f":"SUMIF('Base Datos'!$J$5:$J$30000,CONCATENATE(\"S\",B793),'Base Datos'!$I$5:$I$30000)","v":0},0,""]
[null,null,null,null,null,null,null,{"$f":"SUMIF('Base Datos'!$J$5:$J$30000,CONCATENATE(\"E\",B794),'Base Datos'!$I$5:$I$30000)","v":0},{"$f":"SUMIF('Base Datos'!$J$5:$J$30000,CONCATENATE(\"S\",B794),'Base Datos'!$I$5:$I$30000)","v":0},0,""]
[null,null,null,null,null,null,null,{"$f":"SUMIF('Base Datos'!$J$5:$J$30000,CONCATENATE(\"E\",B795),'Base Datos'!$I$5:$I$30000)","v":0},{"$f":"SUMIF('Base Datos'!$J$5:$J$30000,CONCATENATE(\"S\",B795),'Base Datos'!$I$5:$I$30000)","v":0},0,""]
[null,null,null,null,null,null,null,{"$f":"SUMIF('Base Datos'!$J$5:$J$30000,CONCATENATE(\"E\",B796),'Base Datos'!$I$5:$I$30000)","v":0},{"$f":"SUMIF('Base Datos'!$J$5:$J$30000,CONCATENATE(\"S\",B796),'Base Datos'!$I$5:$I$30000)","v":0},0,""]
[null,null,null,null,null,null,null,{"$f":"SUMIF('Base Datos'!$J$5:$J$30000,CONCATENATE(\"E\",B797),'Base Datos'!$I$5:$I$30000)","v":0},{"$f":"SUMIF('Base Datos'!$J$5:$J$30000,CONCATENATE(\"S\",B797),'Base Datos'!$I$5:$I$30000)","v":0},0,""]
[null,null,null,null,null,null,null,{"$f":"SUMIF('Base Datos'!$J$5:$J$30000,CONCATENATE(\"E\",B798),'Base Datos'!$I$5:$I$30000)","v":0},{"$f":"SUMIF('Base Datos'!$J$5:$J$30000,CONCATENATE(\"S\",B798),'Base Datos'!$I$5:$I$30000)","v":0},0,""]
[null,null,null,null,null,null,null,{"$f":"SUMIF('Base Datos'!$J$5:$J$30000,CONCATENATE(\"E\",B799),'Base Datos'!$I$5:$I$30000)","v":0},{"$f":"SUMIF('Base Datos'!$J$5:$J$30000,CONCATENATE(\"S\",B799),'Base Datos'!$I$5:$I$30000)","v":0},0,""]
[null,null,null,null,null,null,null,{"$f":"SUMIF('Base Datos'!$J$5:$J$30000,CONCATENATE(\"E\",B800),'Base Datos'!$I$5:$I$30000)","v":0},{"$f":"SUMIF('Base Datos'!$J$5:$J$30000,CONCATENATE(\"S\",B800),'Base Datos'!$I$5:$I$30000)","v":0},0,""]
[null,null,null,null,null,null,null,{"$f":"SUMIF('Base Datos'!$J$5:$J$30000,CONCATENATE(\"E\",B801),'Base Datos'!$I$5:$I$30000)","v":0},{"$f":"SUMIF('Base Datos'!$J$5:$J$30000,CONCATENATE(\"S\",B801),'Base Datos'!$I$5:$I$30000)","v":0},0,""]
[null,null,null,null,null,null,null,{"$f":"SUMIF('Base Datos'!$J$5:$J$30000,CONCATENATE(\"E\",B802),'Base Datos'!$I$5:$I$30000)","v":0},{"$f":"SUMIF('Base Datos'!$J$5:$J$30000,CONCATENATE(\"S\",B802),'Base Datos'!$I$5:$I$30000)","v":0},0,""]
[null,null,null,null,null,null,null,{"$f":"SUMIF('Base Datos'!$J$5:$J$30000,CONCATENATE(\"E\",B803),'Base Datos'!$I$5:$I$30000)","v":0},{"$f":"SUMIF('Base Datos'!$J$5:$J$30000,CONCATENATE(\"S\",B803),'Base Datos'!$I$5:$I$30000)","v":0},0,""]
[null,null,null,null,null,null,null,{"$f":"SUMIF('Base Datos'!$J$5:$J$30000,CONCATENATE(\"E\",B804),'Base Datos'!$I$5:$I$30000)","v":0},{"$f":"SUMIF('Base Datos'!$J$5:$J$30000,CONCATENATE(\"S\",B804),'Base Datos'!$I$5:$I$30000)","v":0},0,""]
[null,null,null,null,null,null,null,{"$f":"SUMIF('Base Datos'!$J$5:$J$30000,CONCATENATE(\"E\",B805),'Base Datos'!$I$5:$I$30000)","v":0},{"$f":"SUMIF('Base Datos'!$J$5:$J$30000,CONCATENATE(\"S\",B805),'Base Datos'!$I$5:$I$30000)","v":0},0,""]
[null,null,null,null,null,null,null,{"$f":"SUMIF('Base Datos'!$J$5:$J$30000,CONCATENATE(\"E\",B806),'Base Datos'!$I$5:$I$30000)","v":0},{"$f":"SUMIF('Base Datos'!$J$5:$J$30000,CONCATENATE(\"S\",B806),'Base Datos'!$I$5:$I$30000)","v":0},0,""]
[null,null,null,null,null,null,null,{"$f":"SUMIF('Base Datos'!$J$5:$J$30000,CONCATENATE(\"E\",B807),'Base Datos'!$I$5:$I$30000)","v":0},{"$f":"SUMIF('Base Datos'!$J$5:$J$30000,CONCATENATE(\"S\",B807),'Base Datos'!$I$5:$I$30000)","v":0},0,""]
[null,null,null,null,null,null,null,{"$f":"SUMIF('Base Datos'!$J$5:$J$30000,CONCATENATE(\"E\",B808),'Base Datos'!$I$5:$I$30000)","v":0},{"$f":"SUMIF('Base Datos'!$J$5:$J$30000,CONCATENATE(\"S\",B808),'Base Datos'!$I$5:$I$30000)","v":0},0,""]
[null,null,null,null,null,null,null,{"$f":"SUMIF('Base Datos'!$J$5:$J$30000,CONCATENATE(\"E\",B809),'Base Datos'!$I$5:$I$30000)","v":0},{"$f":"SUMIF('Base Datos'!$J$5:$J$30000,CONCATENATE(\"S\",B809),'Base Datos'!$I$5:$I$30000)","v":0},0,""]
[null,null,null,null,null,null,null,{"$f":"SUMIF('Base Datos'!$J$5:$J$30000,CONCATENATE(\"E\",B810),'Base Datos'!$I$5:$I$30000)","v":0},{"$f":"SUMIF('Base Datos'!$J$5:$J$30000,CONCATENATE(\"S\",B810),'Base Datos'!$I$5:$I$30000)","v":0},0,""]
[null,null,null,null,null,null,null,{"$f":"SUMIF('Base Datos'!$J$5:$J$30000,CONCATENATE(\"E\",B811),'Base Datos'!$I$5:$I$30000)","v":0},{"$f":"SUMIF('Base Datos'!$J$5:$J$30000,CONCATENATE(\"S\",B811),'Base Datos'!$I$5:$I$30000)","v":0},0,""]
[null,null,null,null,null,null,null,{"$f":"SUMIF('Base Datos'!$J$5:$J$30000,CONCATENATE(\"E\",B812),'Base Datos'!$I$5:$I$30000)","v":0},{"$f":"SUMIF('Base Datos'!$J$5:$J$30000,CONCATENATE(\"S\",B812),'Base Datos'!$I$5:$I$30000)","v":0},0,""]
[null,null,null,null,null,null,null,{"$f":"SUMIF('Base Datos'!$J$5:$J$30000,CONCATENATE(\"E\",B813),'Base Datos'!$I$5:$I$30000)","v":0},{"$f":"SUMIF('Base Datos'!$J$5:$J$30000,CONCATENATE(\"S\",B813),'Base Datos'!$I$5:$I$30000)","v":0},0,""]
[null,null,null,null,null,null,null,{"$f":"SUMIF('Base Datos'!$J$5:$J$30000,CONCATENATE(\"E\",B814),'Base Datos'!$I$5:$I$30000)","v":0},{"$f":"SUMIF('Base Datos'!$J$5:$J$30000,CONCATENATE(\"S\",B814),'Base Datos'!$I$5:$I$30000)","v":0},0,""]
[null,null,null,null,null,null,null,{"$f":"SUMIF('Base Datos'!$J$5:$J$30000,CONCATENATE(\"E\",B815),'Base Datos'!$I$5:$I$30000)","v":0},{"$f":"SUMIF('Base Datos'!$J$5:$J$30000,CONCATENATE(\"S\",B815),'Base Datos'!$I$5:$I$30000)","v":0},0,""]
[null,null,null,null,null,null,null,{"$f":"SUMIF('Base Datos'!$J$5:$J$30000,CONCATENATE(\"E\",B816),'Base Datos'!$I$5:$I$30000)","v":0},{"$f":"SUMIF('Base Datos'!$J$5:$J$30000,CONCATENATE(\"S\",B816),'Base Datos'!$I$5:$I$30000)","v":0},0,""]
[null,null,null,null,null,null,null,{"$f":"SUMIF('Base Datos'!$J$5:$J$30000,CONCATENATE(\"E\",B817),'Base Datos'!$I$5:$I$30000)","v":0},{"$f":"SUMIF('Base Datos'!$J$5:$J$30000,CONCATENATE(\"S\",B817),'Base Datos'!$I$5:$I$30000)","v":0},0,""]
[null,null,null,null,null,null,null,{"$f":"SUMIF('Base Datos'!$J$5:$J$30000,CONCATENATE(\"E\",B818),'Base Datos'!$I$5:$I$30000)","v":0},{"$f":"SUMIF('Base Datos'!$J$5:$J$30000,CONCATENATE(\"S\",B818),'Base Datos'!$I$5:$I$30000)","v":0},0,""]
[null,null,null,null,null,null,null,{"$f":"SUMIF('Base Datos'!$J$5:$J$30000,CONCATENATE(\"E\",B819),'Base Datos'!$I$5:$I$30000)","v":0},{"$f":"SUMIF('Base Datos'!$J$5:$J$30000,CONCATENATE(\"S\",B819),'Base Datos'!$I$5:$I$30000)","v":0},0,""]
[null,null,null,null,null,null,null,{"$f":"SUMIF('Base Datos'!$J$5:$J$30000,CONCATENATE(\"E\",B820),'Base Datos'!$I$5:$I$30000)","v":0},{"$f":"SUMIF('Base Datos'!$J$5:$J$30000,CONCATENATE(\"S\",B820),'Base Datos'!$I$5:$I$30000)","v":0},0,""]
[null,null,null,null,null,null,null,{"$f":"SUMIF('Base Datos'!$J$5:$J$30000,CONCATENATE(\"E\",B821),'Base Datos'!$I$5:$I$30000)","v":0},{"$f":"SUMIF('Base Datos'!$J$5:$J$30000,CONCATENATE(\"S\",B821),'Base Datos'!$I$5:$I$30000)","v":0},0,""]
[null,null,null,null,null,null,null,{"$f":"SUMIF('Base Datos'!$J$5:$J$30000,CONCATENATE(\"E\",B822),'Base Datos'!$I$5:$I$30000)","v":0},{"$f":"SUMIF('Base Datos'!$J$5:$J$30000,CONCATENATE(\"S\",B822),'Base Datos'!$I$5:$I$30000)","v":0},0,""]
[null,null,null,null,null,null,null,{"$f":"SUMIF('Base Datos'!$J$5:$J$30000,CONCATENATE(\"E\",B823),'Base Datos'!$I$5:$I$30000)","v":0},{"$f":"SUMIF('Base Datos'!$J$5:$J$30000,CONCATENATE(\"S\",B823),'Base Datos'!$I$5:$I$30000)","v":0},0,""]
[null,null,null,null,null,null,null,{"$f":"SUMIF('Base Datos'!$J$5:$J$30000,CONCATENATE(\"E\",B824),'Base Datos'!$I$5:$I$30000)","v":0},{"$f":"SUMIF('Base Datos'!$J$5:$J$30000,CONCATENATE(\"S\",B824),'Base Datos'!$I$5:$I$30000)","v":0},0,""]
[null,null,null,null,null,null,null,{"$f":"SUMIF('Base Datos'!$J$5:$J$30000,CONCATENATE(\"E\",B825),'Base Datos'!$I$5:$I$30000)","v":0},{"$f":"SUMIF('Base Datos'!$J$5:$J$30000,CONCATENATE(\"S\",B825),'Base Datos'!$I$5:$I$30000)","v":0},0,""]
[null,null,null,null,null,null,null,{"$f":"SUMIF('Base Datos'!$J$5:$J$30000,CONCATENATE(\"E\",B826),'Base Datos'!$I$5:$I$30000)","v":0},{"$f":"SUMIF('Base Datos'!$J$5:$J$30000,CONCATENATE(\"S\",B826),'Base Datos'!$I$5:$I$30000)","v":0},0,""]
[null,null,null,null,null,null,null,{"$f":"SUMIF('Base Datos'!$J$5:$J$30000,CONCATENATE(\"E\",B827),'Base Datos'!$I$5:$I$30000)","v":0},{"$f":"SUMIF('Base Datos'!$J$5:$J$30000,CONCATENATE(\"S\",B827),'Base Datos'!$I$5:$I$30000)","v":0},0,""]
[null,null,null,null,null,null,null,{"$f":"SUMIF('Base Datos'!$J$5:$J$30000,CONCATENATE(\"E\",B828),'Base Datos'!$I$5:$I$30000)","v":0},{"$f":"SUMIF('Base Datos'!$J$5:$J$30000,CONCATENATE(\"S\",B828),'Base Datos'!$I$5:$I$30000)","v":0},0,""]
[null,null,null,null,null,null,null,{"$f":"SUMIF('Base Datos'!$J$5:$J$30000,CONCATENATE(\"E\",B829),'Base Datos'!$I$5:$I$30000)","v":0},{"$f":"SUMIF('Base Datos'!$J$5:$J$30000,CONCATENATE(\"S\",B829),'Base Datos'!$I$5:$I$30000)","v":0},0,""]
[null,null,null,null,null,null,null,{"$f":"SUMIF('Base Datos'!$J$5:$J$30000,CONCATENATE(\"E\",B830),'Base Datos'!$I$5:$I$30000)","v":0},{"$f":"SUMIF('Base Datos'!$J$5:$J$30000,CONCATENATE(\"S\",B830),'Base Datos'!$I$5:$I$30000)","v":0},{"$f":"(G830+H830-I830)","v":0},""]
[null,null,null,null,null,null,null,{"$f":"SUMIF('Base Datos'!$J$5:$J$30000,CONCATENATE(\"E\",B831),'Base Datos'!$I$5:$I$30000)","v":0},{"$f":"SUMIF('Base Datos'!$J$5:$J$30000,CONCATENATE(\"S\",B831),'Base Datos'!$I$5:$I$30000)","v":0},0,""]
[null,null,null,null,null,null,null,{"$f":"SUMIF('Base Datos'!$J$5:$J$30000,CONCATENATE(\"E\",B832),'Base Datos'!$I$5:$I$30000)","v":0},{"$f":"SUMIF('Base Datos'!$J$5:$J$30000,CONCATENATE(\"S\",B832),'Base Datos'!$I$5:$I$30000)","v":0},0,""]
[null,null,null,null,null,null,null,{"$f":"SUMIF('Base Datos'!$J$5:$J$30000,CONCATENATE(\"E\",B833),'Base Datos'!$I$5:$I$30000)","v":0},{"$f":"SUMIF('Base Datos'!$J$5:$J$30000,CONCATENATE(\"S\",B833),'Base Datos'!$I$5:$I$30000)","v":0},0,""]
[null,null,null,null,null,null,null,{"$f":"SUMIF('Base Datos'!$J$5:$J$30000,CONCATENATE(\"E\",B834),'Base Datos'!$I$5:$I$30000)","v":0},{"$f":"SUMIF('Base Datos'!$J$5:$J$30000,CONCATENATE(\"S\",B834),'Base Datos'!$I$5:$I$30000)","v":0},0,""]
[null,null,null,null,null,null,null,{"$f":"SUMIF('Base Datos'!$J$5:$J$30000,CONCATENATE(\"E\",B835),'Base Datos'!$I$5:$I$30000)","v":0},{"$f":"SUMIF('Base Datos'!$J$5:$J$30000,CONCATENATE(\"S\",B835),'Base Datos'!$I$5:$I$30000)","v":0},0,""]
[null,null,null,null,null,null,null,{"$f":"SUMIF('Base Datos'!$J$5:$J$30000,CONCATENATE(\"E\",B836),'Base Datos'!$I$5:$I$30000)","v":0},{"$f":"SUMIF('Base Datos'!$J$5:$J$30000,CONCATENATE(\"S\",B836),'Base Datos'!$I$5:$I$30000)","v":0},0,""]
[null,null,null,null,null,null,null,{"$f":"SUMIF('Base Datos'!$J$5:$J$30000,CONCATENATE(\"E\",B837),'Base Datos'!$I$5:$I$30000)","v":0},{"$f":"SUMIF('Base Datos'!$J$5:$J$30000,CONCATENATE(\"S\",B837),'Base Datos'!$I$5:$I$30000)","v":0},0,""]
[null,null,null,null,null,null,null,{"$f":"SUMIF('Base Datos'!$J$5:$J$30000,CONCATENATE(\"E\",B838),'Base Datos'!$I$5:$I$30000)","v":0},{"$f":"SUMIF('Base Datos'!$J$5:$J$30000,CONCATENATE(\"S\",B838),'Base Datos'!$I$5:$I$30000)","v":0},0,""]
[null,null,null,null,null,null,null,{"$f":"SUMIF('Base Datos'!$J$5:$J$30000,CONCATENATE(\"E\",B839),'Base Datos'!$I$5:$I$30000)","v":0},{"$f":"SUMIF('Base Datos'!$J$5:$J$30000,CONCATENATE(\"S\",B839),'Base Datos'!$I$5:$I$30000)","v":0},0,{"$f":"IFERROR(ROUND(J839/F839,0),\"\")","v":""}]
[null,null,null,null,null,null,null,{"$f":"SUMIF('Base Datos'!$J$5:$J$30000,CONCATENATE(\"E\",B840),'Base Datos'!$I$5:$I$30000)","v":0},{"$f":"SUMIF('Base Datos'!$J$5:$J$30000,CONCATENATE(\"S\",B840),'Base Datos'!$I$5:$I$30000)","v":0},0,""]
[null,null,null,null,null,null,null,{"$f":"SUMIF('Base Datos'!$J$5:$J$30000,CONCATENATE(\"E\",B841),'Base Datos'!$I$5:$I$30000)","v":0},{"$f":"SUMIF('Base Datos'!$J$5:$J$30000,CONCATENATE(\"S\",B841),'Base Datos'!$I$5:$I$30000)","v":0},0,""]
[null,null,null,null,null,null,null,{"$f":"SUMIF('Base Datos'!$J$5:$J$30000,CONCATENATE(\"E\",B842),'Base Datos'!$I$5:$I$30000)","v":0},{"$f":"SUMIF('Base Datos'!$J$5:$J$30000,CONCATENATE(\"S\",B842),'Base Datos'!$I$5:$I$30000)","v":0},0,""]
[null,null,null,null,null,null,null,{"$f":"SUMIF('Base Datos'!$J$5:$J$30000,CONCATENATE(\"E\",B843),'Base Datos'!$I$5:$I$30000)","v":0},{"$f":"SUMIF('Base Datos'!$J$5:$J$30000,CONCATENATE(\"S\",B843),'Base Datos'!$I$5:$I$30000)","v":0},0,""]
[null,null,null,null,null,null,null,{"$f":"SUMIF('Base Datos'!$J$5:$J$30000,CONCATENATE(\"E\",B844),'Base Datos'!$I$5:$I$30000)","v":0},{"$f":"SUMIF('Base Datos'!$J$5:$J$30000,CONCATENATE(\"S\",B844),'Base Datos'!$I$5:$I$30000)","v":0},0,""]
[null,null,null,null,null,null,null,{"$f":"SUMIF('Base Datos'!$J$5:$J$30000,CONCATENATE(\"E\",B845),'Base Datos'!$I$5:$I$30000)","v":0},{"$f":"SUMIF('Base Datos'!$J$5:$J$30000,CONCATENATE(\"S\",B845),'Base Datos'!$I$5:$I$30000)","v":0},0,""]
[null,null,null,null,null,null,null,{"$f":"SUMIF('Base Datos'!$J$5:$J$30000,CONCATENATE(\"E\",B846),'Base Datos'!$I$5:$I$30000)","v":0},{"$f":"SUMIF('Base Datos'!$J$5:$J$30000,CONCATENATE(\"S\",B846),'Base Datos'!$I$5:$I$30000)","v":0},0,""]
[null,null,null,null,null,null,null,{"$f":"SUMIF('Base Datos'!$J$5:$J$30000,CONCATENATE(\"E\",B847),'Base Datos'!$I$5:$I$30000)","v":0},{"$f":"SUMIF('Base Datos'!$J$5:$J$30000,CONCATENATE(\"S\",B847),'Base Datos'!$I$5:$I$30000)","v":0},0,""]
[null,null,null,null,null,null,null,{"$f":"SUMIF('Base Datos'!$J$5:$J$30000,CONCATENATE(\"E\",B848),'Base Datos'!$I$5:$I$30000)","v":0},{"$f":"SUMIF('Base Datos'!$J$5:$J$30000,CONCATENATE(\"S\",B848),'Base Datos'!$I$5:$I$30000)","v":0},0,""]
[null,null,null,null,null,null,null,{"$f":"SUMIF('Base Datos'!$J$5:$J$30000,CONCATENATE(\"E\",B849),'Base Datos'!$I$5:$I$30000)","v":0},{"$f":"SUMIF('Base Datos'!$J$5:$J$30000,CONCATENATE(\"S\",B849),'Base Datos'!$I$5:$I$30000)","v":0},0,""]
[null,null,null,null,null,null,null,{"$f":"SUMIF('Base Datos'!$J$5:$J$30000,CONCATENATE(\"E\",B850),'Base Datos'!$I$5:$I$30000)","v":0},{"$f":"SUMIF('Base Datos'!$J$5:$J$30000,CONCATENATE(\"S\",B850),'Base Datos'!$I$5:$I$30000)","v":0},0,""]
[null,null,null,null,null,null,null,{"$f":"SUMIF('Base Datos'!$J$5:$J$30000,CONCATENATE(\"E\",B851),'Base Datos'!$I$5:$I$30000)","v":0},{"$f":"SUMIF('Base Datos'!$J$5:$J$30000,CONCATENATE(\"S\",B851),'Base Datos'!$I$5:$I$30000)","v":0},0,""]
[null,null,null,null,null,null,null,{"$f":"SUMIF('Base Datos'!$J$5:$J$30000,CONCATENATE(\"E\",B852),'Base Datos'!$I$5:$I$30000)","v":0},{"$f":"SUMIF('Base Datos'!$J$5:$J$30000,CONCATENATE(\"S\",B852),'Base Datos'!$I$5:$I$30000)","v":0},0,""]
[null,null,null,null,null,null,null,{"$f":"SUMIF('Base Datos'!$J$5:$J$30000,CONCATENATE(\"E\",B853),'Base Datos'!$I$5:$I$30000)","v":0},{"$f":"SUMIF('Base Datos'!$J$5:$J$30000,CONCATENATE(\"S\",B853),'Base Datos'!$I$5:$I$30000)","v":0},0,""]
[null,null,null,null,null,null,null,{"$f":"SUMIF('Base Datos'!$J$5:$J$30000,CONCATENATE(\"E\",B854),'Base Datos'!$I$5:$I$30000)","v":0},{"$f":"SUMIF('Base Datos'!$J$5:$J$30000,CONCATENATE(\"S\",B854),'Base Datos'!$I$5:$I$30000)","v":0},0,""]
[null,null,null,null,null,null,null,{"$f":"SUMIF('Base Datos'!$J$5:$J$30000,CONCATENATE(\"E\",B855),'Base Datos'!$I$5:$I$30000)","v":0},{"$f":"SUMIF('Base Datos'!$J$5:$J$30000,CONCATENATE(\"S\",B855),'Base Datos'!$I$5:$I$30000)","v":0},0,""]
[null,null,null,null,null,null,null,{"$f":"SUMIF('Base Datos'!$J$5:$J$30000,CONCATENATE(\"E\",B856),'Base Datos'!$I$5:$I$30000)","v":0},{"$f":"SUMIF('Base Datos'!$J$5:$J$30000,CONCATENATE(\"S\",B856),'Base Datos'!$I$5:$I$30000)","v":0},0,""]
[null,null,null,null,null,null,null,{"$f":"SUMIF('Base Datos'!$J$5:$J$30000,CONCATENATE(\"E\",B857),'Base Datos'!$I$5:$I$30000)","v":0},{"$f":"SUMIF('Base Datos'!$J$5:$J$30000,CONCATENATE(\"S\",B857),'Base Datos'!$I$5:$I$30000)","v":0},0,""]
[null,null,null,null,null,null,null,{"$f":"SUMIF('Base Datos'!$J$5:$J$30000,CONCATENATE(\"E\",B858),'Base Datos'!$I$5:$I$30000)","v":0},{"$f":"SUMIF('Base Datos'!$J$5:$J$30000,CONCATENATE(\"S\",B858),'Base Datos'!$I$5:$I$30000)","v":0},0,""]
[null,null,null,null,null,null,null,{"$f":"SUMIF('Base Datos'!$J$5:$J$30000,CONCATENATE(\"E\",B859),'Base Datos'!$I$5:$I$30000)","v":0},{"$f":"SUMIF('Base Datos'!$J$5:$J$30000,CONCATENATE(\"S\",B859),'Base Datos'!$I$5:$I$30000)","v":0},0,""]
[null,null,null,null,null,null,null,{"$f":"SUMIF('Base Datos'!$J$5:$J$30000,CONCATENATE(\"E\",B860),'Base Datos'!$I$5:$I$30000)","v":0},{"$f":"SUMIF('Base Datos'!$J$5:$J$30000,CONCATENATE(\"S\",B860),'Base Datos'!$I$5:$I$30000)","v":0},0,""]
[null,null,null,null,null,null,null,{"$f":"SUMIF('Base Datos'!$J$5:$J$30000,CONCATENATE(\"E\",B861),'Base Datos'!$I$5:$I$30000)","v":0},{"$f":"SUMIF('Base Datos'!$J$5:$J$30000,CONCATENATE(\"S\",B861),'Base Datos'!$I$5:$I$30000)","v":0},0,""]
[null,null,null,null,null,null,null,{"$f":"SUMIF('Base Datos'!$J$5:$J$30000,CONCATENATE(\"E\",B862),'Base Datos'!$I$5:$I$30000)","v":0},{"$f":"SUMIF('Base Datos'!$J$5:$J$30000,CONCATENATE(\"S\",B862),'Base Datos'!$I$5:$I$30000)","v":0},0,""]
[null,null,null,null,null,null,null,{"$f":"SUMIF('Base Datos'!$J$5:$J$30000,CONCATENATE(\"E\",B863),'Base Datos'!$I$5:$I$30000)","v":0},{"$f":"SUMIF('Base Datos'!$J$5:$J$30000,CONCATENATE(\"S\",B863),'Base Datos'!$I$5:$I$30000)","v":0},0,""]
[null,null,null,null,null,null,null,{"$f":"SUMIF('Base Datos'!$J$5:$J$30000,CONCATENATE(\"E\",B864),'Base Datos'!$I$5:$I$30000)","v":0},{"$f":"SUMIF('Base Datos'!$J$5:$J$30000,CONCATENATE(\"S\",B864),'Base Datos'!$I$5:$I$30000)","v":0},0,""]
[null,null,null,null,null,null,null,{"$f":"SUMIF('Base Datos'!$J$5:$J$30000,CONCATENATE(\"E\",B865),'Base Datos'!$I$5:$I$30000)","v":0},{"$f":"SUMIF('Base Datos'!$J$5:$J$30000,CONCATENATE(\"S\",B865),'Base Datos'!$I$5:$I$30000)","v":0},0,""]
[null,null,null,null,null,null,null,{"$f":"SUMIF('Base Datos'!$J$5:$J$30000,CONCATENATE(\"E\",B866),'Base Datos'!$I$5:$I$30000)","v":0},{"$f":"SUMIF('Base Datos'!$J$5:$J$30000,CONCATENATE(\"S\",B866),'Base Datos'!$I$5:$I$30000)","v":0},0,""]
[null,null,null,null,null,null,null,{"$f":"SUMIF('Base Datos'!$J$5:$J$30000,CONCATENATE(\"E\",B867),'Base Datos'!$I$5:$I$30000)","v":0},{"$f":"SUMIF('Base Datos'!$J$5:$J$30000,CONCATENATE(\"S\",B867),'Base Datos'!$I$5:$I$30000)","v":0},0,""]
[null,null,null,null,null,null,null,{"$f":"SUMIF('Base Datos'!$J$5:$J$30000,CONCATENATE(\"E\",B868),'Base Datos'!$I$5:$I$30000)","v":0},{"$f":"SUMIF('Base Datos'!$J$5:$J$30000,CONCATENATE(\"S\",B868),'Base Datos'!$I$5:$I$30000)","v":0},0,""]
[null,null,null,null,null,null,null,{"$f":"SUMIF('Base Datos'!$J$5:$J$30000,CONCATENATE(\"E\",B869),'Base Datos'!$I$5:$I$30000)","v":0},{"$f":"SUMIF('Base Datos'!$J$5:$J$30000,CONCATENATE(\"S\",B869),'Base Datos'!$I$5:$I$30000)","v":0},0,""]
[null,null,null,null,null,null,null,{"$f":"SUMIF('Base Datos'!$J$5:$J$30000,CONCATENATE(\"E\",B870),'Base Datos'!$I$5:$I$30000)","v":0},{"$f":"SUMIF('Base Datos'!$J$5:$J$30000,CONCATENATE(\"S\",B870),'Base Datos'!$I$5:$I$30000)","v":0},0,""]
[null,null,null,null,null,null,null,{"$f":"SUMIF('Base Datos'!$J$5:$J$30000,CONCATENATE(\"E\",B871),'Base Datos'!$I$5:$I$30000)","v":0},{"$f":"SUMIF('Base Datos'!$J$5:$J$30000,CONCATENATE(\"S\",B871),'Base Datos'!$I$5:$I$30000)","v":0},0,""]
[null,null,null,null,null,null,null,{"$f":"SUMIF('Base Datos'!$J$5:$J$30000,CONCATENATE(\"E\",B872),'Base Datos'!$I$5:$I$30000)","v":0},{"$f":"SUMIF('Base Datos'!$J$5:$J$30000,CONCATENATE(\"S\",B872),'Base Datos'!$I$5:$I$30000)","v":0},0,""]
[null,null,null,null,null,null,null,{"$f":"SUMIF('Base Datos'!$J$5:$J$30000,CONCATENATE(\"E\",B873),'Base Datos'!$I$5:$I$30000)","v":0},{"$f":"SUMIF('Base Datos'!$J$5:$J$30000,CONCATENATE(\"S\",B873),'Base Datos'!$I$5:$I$30000)","v":0},0,""]
[null,null,null,null,null,null,null,{"$f":"SUMIF('Base Datos'!$J$5:$J$30000,CONCATENATE(\"E\",B874),'Base Datos'!$I$5:$I$30000)","v":0},{"$f":"SUMIF('Base Datos'!$J$5:$J$30000,CONCATENATE(\"S\",B874),'Base Datos'!$I$5:$I$30000)","v":0},0,""]
[null,null,null,null,null,null,null,{"$f":"SUMIF('Base Datos'!$J$5:$J$30000,CONCATENATE(\"E\",B875),'Base Datos'!$I$5:$I$30000)","v":0},{"$f":"SUMIF('Base Datos'!$J$5:$J$30000,CONCATENATE(\"S\",B875),'Base Datos'!$I$5:$I$30000)","v":0},0,""]
[null,null,null,null,null,null,null,{"$f":"SUMIF('Base Datos'!$J$5:$J$30000,CONCATENATE(\"E\",B876),'Base Datos'!$I$5:$I$30000)","v":0},{"$f":"SUMIF('Base Datos'!$J$5:$J$30000,CONCATENATE(\"S\",B876),'Base Datos'!$I$5:$I$30000)","v":0},0,""]
[null,null,null,null,null,null,null,{"$f":"SUMIF('Base Datos'!$J$5:$J$30000,CONCATENATE(\"E\",B877),'Base Datos'!$I$5:$I$30000)","v":0},{"$f":"SUMIF('Base Datos'!$J$5:$J$30000,CONCATENATE(\"S\",B877),'Base Datos'!$I$5:$I$30000)","v":0},0,""]
[null,null,null,null,null,null,null,{"$f":"SUMIF('Base Datos'!$J$5:$J$30000,CONCATENATE(\"E\",B878),'Base Datos'!$I$5:$I$30000)","v":0},{"$f":"SUMIF('Base Datos'!$J$5:$J$30000,CONCATENATE(\"S\",B878),'Base Datos'!$I$5:$I$30000)","v":0},0,""]
[null,null,null,null,null,null,null,{"$f":"SUMIF('Base Datos'!$J$5:$J$30000,CONCATENATE(\"E\",B879),'Base Datos'!$I$5:$I$30000)","v":0},{"$f":"SUMIF('Base Datos'!$J$5:$J$30000,CONCATENATE(\"S\",B879),'Base Datos'!$I$5:$I$30000)","v":0},0,""]
[null,null,null,null,null,null,null,{"$f":"SUMIF('Base Datos'!$J$5:$J$30000,CONCATENATE(\"E\",B880),'Base Datos'!$I$5:$I$30000)","v":0},{"$f":"SUMIF('Base Datos'!$J$5:$J$30000,CONCATENATE(\"S\",B880),'Base Datos'!$I$5:$I$30000)","v":0},0,""]
[null,null,null,null,null,null,null,{"$f":"SUMIF('Base Datos'!$J$5:$J$30000,CONCATENATE(\"E\",B881),'Base Datos'!$I$5:$I$30000)","v":0},{"$f":"SUMIF('Base Datos'!$J$5:$J$30000,CONCATENATE(\"S\",B881),'Base Datos'!$I$5:$I$30000)","v":0},0,""]
[null,null,null,null,null,null,null,{"$f":"SUMIF('Base Datos'!$J$5:$J$30000,CONCATENATE(\"E\",B882),'Base Datos'!$I$5:$I$30000)","v":0},{"$f":"SUMIF('Base Datos'!$J$5:$J$30000,CONCATENATE(\"S\",B882),'Base Datos'!$I$5:$I$30000)","v":0},0,""]
[null,null,null,null,null,null,null,{"$f":"SUMIF('Base Datos'!$J$5:$J$30000,CONCATENATE(\"E\",B883),'Base Datos'!$I$5:$I$30000)","v":0},{"$f":"SUMIF('Base Datos'!$J$5:$J$30000,CONCATENATE(\"S\",B883),'Base Datos'!$I$5:$I$30000)","v":0},0,""]
[null,null,null,null,null,null,null,{"$f":"SUMIF('Base Datos'!$J$5:$J$30000,CONCATENATE(\"E\",B884),'Base Datos'!$I$5:$I$30000)","v":0},{"$f":"SUMIF('Base Datos'!$J$5:$J$30000,CONCATENATE(\"S\",B884),'Base Datos'!$I$5:$I$30000)","v":0},0,""]
[null,null,null,null,null,null,null,{"$f":"SUMIF('Base Datos'!$J$5:$J$30000,CONCATENATE(\"E\",B885),'Base Datos'!$I$5:$I$30000)","v":0},{"$f":"SUMIF('Base Datos'!$J$5:$J$30000,CONCATENATE(\"S\",B885),'Base Datos'!$I$5:$I$30000)","v":0},0,""]
[null,null,null,null,null,null,null,{"$f":"SUMIF('Base Datos'!$J$5:$J$30000,CONCATENATE(\"E\",B886),'Base Datos'!$I$5:$I$30000)","v":0},{"$f":"SUMIF('Base Datos'!$J$5:$J$30000,CONCATENATE(\"S\",B886),'Base Datos'!$I$5:$I$30000)","v":0},0,""]
[null,null,null,null,null,null,null,{"$f":"SUMIF('Base Datos'!$J$5:$J$30000,CONCATENATE(\"E\",B887),'Base Datos'!$I$5:$I$30000)","v":0},{"$f":"SUMIF('Base Datos'!$J$5:$J$30000,CONCATENATE(\"S\",B887),'Base Datos'!$I$5:$I$30000)","v":0},0,""]
[null,null,null,null,null,null,null,{"$f":"SUMIF('Base Datos'!$J$5:$J$30000,CONCATENATE(\"E\",B888),'Base Datos'!$I$5:$I$30000)","v":0},{"$f":"SUMIF('Base Datos'!$J$5:$J$30000,CONCATENATE(\"S\",B888),'Base Datos'!$I$5:$I$30000)","v":0},0,""]
[null,null,null,null,null,null,null,{"$f":"SUMIF('Base Datos'!$J$5:$J$30000,CONCATENATE(\"E\",B889),'Base Datos'!$I$5:$I$30000)","v":0},{"$f":"SUMIF('Base Datos'!$J$5:$J$30000,CONCATENATE(\"S\",B889),'Base Datos'!$I$5:$I$30000)","v":0},0,""]
[null,null,null,null,null,null,null,{"$f":"SUMIF('Base Datos'!$J$5:$J$30000,CONCATENATE(\"E\",B890),'Base Datos'!$I$5:$I$30000)","v":0},{"$f":"SUMIF('Base Datos'!$J$5:$J$30000,CONCATENATE(\"S\",B890),'Base Datos'!$I$5:$I$30000)","v":0},0,""]
[null,null,null,null,null,null,null,{"$f":"SUMIF('Base Datos'!$J$5:$J$30000,CONCATENATE(\"E\",B891),'Base Datos'!$I$5:$I$30000)","v":0},{"$f":"SUMIF('Base Datos'!$J$5:$J$30000,CONCATENATE(\"S\",B891),'Base Datos'!$I$5:$I$30000)","v":0},0,""]
[null,null,null,null,null,null,null,{"$f":"SUMIF('Base Datos'!$J$5:$J$30000,CONCATENATE(\"E\",B892),'Base Datos'!$I$5:$I$30000)","v":0},{"$f":"SUMIF('Base Datos'!$J$5:$J$30000,CONCATENATE(\"S\",B892),'Base Datos'!$I$5:$I$30000)","v":0},0,""]
[null,null,null,null,null,null,null,{"$f":"SUMIF('Base Datos'!$J$5:$J$30000,CONCATENATE(\"E\",B893),'Base Datos'!$I$5:$I$30000)","v":0},{"$f":"SUMIF('Base Datos'!$J$5:$J$30000,CONCATENATE(\"S\",B893),'Base Datos'!$I$5:$I$30000)","v":0},0,""]
[null,null,null,null,null,null,null,{"$f":"SUMIF('Base Datos'!$J$5:$J$30000,CONCATENATE(\"E\",B894),'Base Datos'!$I$5:$I$30000)","v":0},{"$f":"SUMIF('Base Datos'!$J$5:$J$30000,CONCATENATE(\"S\",B894),'Base Datos'!$I$5:$I$30000)","v":0},{"$f":"(G894+H894-I894)","v":0},""]
[null,null,null,null,null,null,null,{"$f":"SUMIF('Base Datos'!$J$5:$J$30000,CONCATENATE(\"E\",B895),'Base Datos'!$I$5:$I$30000)","v":0},{"$f":"SUMIF('Base Datos'!$J$5:$J$30000,CONCATENATE(\"S\",B895),'Base Datos'!$I$5:$I$30000)","v":0},0,""]
[null,null,null,null,null,null,null,{"$f":"SUMIF('Base Datos'!$J$5:$J$30000,CONCATENATE(\"E\",B896),'Base Datos'!$I$5:$I$30000)","v":0},{"$f":"SUMIF('Base Datos'!$J$5:$J$30000,CONCATENATE(\"S\",B896),'Base Datos'!$I$5:$I$30000)","v":0},0,""]
[null,null,null,null,null,null,null,{"$f":"SUMIF('Base Datos'!$J$5:$J$30000,CONCATENATE(\"E\",B897),'Base Datos'!$I$5:$I$30000)","v":0},{"$f":"SUMIF('Base Datos'!$J$5:$J$30000,CONCATENATE(\"S\",B897),'Base Datos'!$I$5:$I$30000)","v":0},0,""]
[null,null,null,null,null,null,null,{"$f":"SUMIF('Base Datos'!$J$5:$J$30000,CONCATENATE(\"E\",B898),'Base Datos'!$I$5:$I$30000)","v":0},{"$f":"SUMIF('Base Datos'!$J$5:$J$30000,CONCATENATE(\"S\",B898),'Base Datos'!$I$5:$I$30000)","v":0},0,""]
[null,null,null,null,null,null,null,{"$f":"SUMIF('Base Datos'!$J$5:$J$30000,CONCATENATE(\"E\",B899),'Base Datos'!$I$5:$I$30000)","v":0},{"$f":"SUMIF('Base Datos'!$J$5:$J$30000,CONCATENATE(\"S\",B899),'Base Datos'!$I$5:$I$30000)","v":0},0,""]
[null,null,null,null,null,null,null,{"$f":"SUMIF('Base Datos'!$J$5:$J$30000,CONCATENATE(\"E\",B900),'Base Datos'!$I$5:$I$30000)","v":0},{"$f":"SUMIF('Base Datos'!$J$5:$J$30000,CONCATENATE(\"S\",B900),'Base Datos'!$I$5:$I$30000)","v":0},0,""]
[null,null,null,null,null,null,null,{"$f":"SUMIF('Base Datos'!$J$5:$J$30000,CONCATENATE(\"E\",B901),'Base Datos'!$I$5:$I$30000)","v":0},{"$f":"SUMIF('Base Datos'!$J$5:$J$30000,CONCATENATE(\"S\",B901),'Base Datos'!$I$5:$I$30000)","v":0},0,""]
[null,null,null,null,null,null,null,{"$f":"SUMIF('Base Datos'!$J$5:$J$30000,CONCATENATE(\"E\",B902),'Base Datos'!$I$5:$I$30000)","v":0},{"$f":"SUMIF('Base Datos'!$J$5:$J$30000,CONCATENATE(\"S\",B902),'Base Datos'!$I$5:$I$30000)","v":0},0,""]
[null,null,null,null,null,null,null,{"$f":"SUMIF('Base Datos'!$J$5:$J$30000,CONCATENATE(\"E\",B903),'Base Datos'!$I$5:$I$30000)","v":0},{"$f":"SUMIF('Base Datos'!$J$5:$J$30000,CONCATENATE(\"S\",B903),'Base Datos'!$I$5:$I$30000)","v":0},0,{"$f":"IFERROR(ROUND(J903/F903,0),\"\")","v":""}]
[null,null,null,null,null,null,null,{"$f":"SUMIF('Base Datos'!$J$5:$J$30000,CONCATENATE(\"E\",B904),'Base Datos'!$I$5:$I$30000)","v":0},{"$f":"SUMIF('Base Datos'!$J$5:$J$30000,CONCATENATE(\"S\",B904),'Base Datos'!$I$5:$I$30000)","v":0},0,""]
[null,null,null,null,null,null,null,{"$f":"SUMIF('Base Datos'!$J$5:$J$30000,CONCATENATE(\"E\",B905),'Base Datos'!$I$5:$I$30000)","v":0},{"$f":"SUMIF('Base Datos'!$J$5:$J$30000,CONCATENATE(\"S\",B905),'Base Datos'!$I$5:$I$30000)","v":0},0,""]
[null,null,null,null,null,null,null,{"$f":"SUMIF('Base Datos'!$J$5:$J$30000,CONCATENATE(\"E\",B906),'Base Datos'!$I$5:$I$30000)","v":0},{"$f":"SUMIF('Base Datos'!$J$5:$J$30000,CONCATENATE(\"S\",B906),'Base Datos'!$I$5:$I$30000)","v":0},0,""]
[null,null,null,null,null,null,null,{"$f":"SUMIF('Base Datos'!$J$5:$J$30000,CONCATENATE(\"E\",B907),'Base Datos'!$I$5:$I$30000)","v":0},{"$f":"SUMIF('Base Datos'!$J$5:$J$30000,CONCATENATE(\"S\",B907),'Base Datos'!$I$5:$I$30000)","v":0},0,""]
[null,null,null,null,null,null,null,{"$f":"SUMIF('Base Datos'!$J$5:$J$30000,CONCATENATE(\"E\",B908),'Base Datos'!$I$5:$I$30000)","v":0},{"$f":"SUMIF('Base Datos'!$J$5:$J$30000,CONCATENATE(\"S\",B908),'Base Datos'!$I$5:$I$30000)","v":0},0,""]
[null,null,null,null,null,null,null,{"$f":"SUMIF('Base Datos'!$J$5:$J$30000,CONCATENATE(\"E\",B909),'Base Datos'!$I$5:$I$30000)","v":0},{"$f":"SUMIF('Base Datos'!$J$5:$J$30000,CONCATENATE(\"S\",B909),'Base Datos'!$I$5:$I$30000)","v":0},0,""]
[null,null,null,null,null,null,null,{"$f":"SUMIF('Base Datos'!$J$5:$J$30000,CONCATENATE(\"E\",B910),'Base Datos'!$I$5:$I$30000)","v":0},{"$f":"SUMIF('Base Datos'!$J$5:$J$30000,CONCATENATE(\"S\",B910),'Base Datos'!$I$5:$I$30000)","v":0},0,""]
[null,null,null,null,null,null,null,{"$f":"SUMIF('Base Datos'!$J$5:$J$30000,CONCATENATE(\"E\",B911),'Base Datos'!$I$5:$I$30000)","v":0},{"$f":"SUMIF('Base Datos'!$J$5:$J$30000,CONCATENATE(\"S\",B911),'Base Datos'!$I$5:$I$30000)","v":0},0,""]
[null,null,null,null,null,null,null,{"$f":"SUMIF('Base Datos'!$J$5:$J$30000,CONCATENATE(\"E\",B912),'Base Datos'!$I$5:$I$30000)","v":0},{"$f":"SUMIF('Base Datos'!$J$5:$J$30000,CONCATENATE(\"S\",B912),'Base Datos'!$I$5:$I$30000)","v":0},0,""]
[null,null,null,null,null,null,null,{"$f":"SUMIF('Base Datos'!$J$5:$J$30000,CONCATENATE(\"E\",B913),'Base Datos'!$I$5:$I$30000)","v":0},{"$f":"SUMIF('Base Datos'!$J$5:$J$30000,CONCATENATE(\"S\",B913),'Base Datos'!$I$5:$I$30000)","v":0},0,""]
[null,null,null,null,null,null,null,{"$f":"SUMIF('Base Datos'!$J$5:$J$30000,CONCATENATE(\"E\",B914),'Base Datos'!$I$5:$I$30000)","v":0},{"$f":"SUMIF('Base Datos'!$J$5:$J$30000,CONCATENATE(\"S\",B914),'Base Datos'!$I$5:$I$30000)","v":0},0,""]
[null,null,null,null,null,null,null,{"$f":"SUMIF('Base Datos'!$J$5:$J$30000,CONCATENATE(\"E\",B915),'Base Datos'!$I$5:$I$30000)","v":0},{"$f":"SUMIF('Base Datos'!$J$5:$J$30000,CONCATENATE(\"S\",B915),'Base Datos'!$I$5:$I$30000)","v":0},0,""]
[null,null,null,null,null,null,null,{"$f":"SUMIF('Base Datos'!$J$5:$J$30000,CONCATENATE(\"E\",B916),'Base Datos'!$I$5:$I$30000)","v":0},{"$f":"SUMIF('Base Datos'!$J$5:$J$30000,CONCATENATE(\"S\",B916),'Base Datos'!$I$5:$I$30000)","v":0},0,""]
[null,null,null,null,null,null,null,{"$f":"SUMIF('Base Datos'!$J$5:$J$30000,CONCATENATE(\"E\",B917),'Base Datos'!$I$5:$I$30000)","v":0},{"$f":"SUMIF('Base Datos'!$J$5:$J$30000,CONCATENATE(\"S\",B917),'Base Datos'!$I$5:$I$30000)","v":0},0,""]
[null,null,null,null,null,null,null,{"$f":"SUMIF('Base Datos'!$J$5:$J$30000,CONCATENATE(\"E\",B918),'Base Datos'!$I$5:$I$30000)","v":0},{"$f":"SUMIF('Base Datos'!$J$5:$J$30000,CONCATENATE(\"S\",B918),'Base Datos'!$I$5:$I$30000)","v":0},0,""]
[null,null,null,null,null,null,null,{"$f":"SUMIF('Base Datos'!$J$5:$J$30000,CONCATENATE(\"E\",B919),'Base Datos'!$I$5:$I$30000)","v":0},{"$f":"SUMIF('Base Datos'!$J$5:$J$30000,CONCATENATE(\"S\",B919),'Base Datos'!$I$5:$I$30000)","v":0},0,""]
[null,null,null,null,null,null,null,{"$f":"SUMIF('Base Datos'!$J$5:$J$30000,CONCATENATE(\"E\",B920),'Base Datos'!$I$5:$I$30000)","v":0},{"$f":"SUMIF('Base Datos'!$J$5:$J$30000,CONCATENATE(\"S\",B920),'Base Datos'!$I$5:$I$30000)","v":0},0,""]
[null,null,null,null,null,null,null,{"$f":"SUMIF('Base Datos'!$J$5:$J$30000,CONCATENATE(\"E\",B921),'Base Datos'!$I$5:$I$30000)","v":0},{"$f":"SUMIF('Base Datos'!$J$5:$J$30000,CONCATENATE(\"S\",B921),'Base Datos'!$I$5:$I$30000)","v":0},0,""]
[null,null,null,null,null,null,null,{"$f":"SUMIF('Base Datos'!$J$5:$J$30000,CONCATENATE(\"E\",B922),'Base Datos'!$I$5:$I$30000)","v":0},{"$f":"SUMIF('Base Datos'!$J$5:$J$30000,CONCATENATE(\"S\",B922),'Base Datos'!$I$5:$I$30000)","v":0},0,""]
[null,null,null,null,null,null,null,{"$f":"SUMIF('Base Datos'!$J$5:$J$30000,CONCATENATE(\"E\",B923),'Base Datos'!$I$5:$I$30000)","v":0},{"$f":"SUMIF('Base Datos'!$J$5:$J$30000,CONCATENATE(\"S\",B923),'Base Datos'!$I$5:$I$30000)","v":0},0,""]
[null,null,null,null,null,null,null,{"$f":"SUMIF('Base Datos'!$J$5:$J$30000,CONCATENATE(\"E\",B924),'Base Datos'!$I$5:$I$30000)","v":0},{"$f":"SUMIF('Base Datos'!$J$5:$J$30000,CONCATENATE(\"S\",B924),'Base Datos'!$I$5:$I$30000)","v":0},0,""]
[null,null,null,null,null,null,null,{"$f":"SUMIF('Base Datos'!$J$5:$J$30000,CONCATENATE(\"E\",B925),'Base Datos'!$I$5:$I$30000)","v":0},{"$f":"SUMIF('Base Datos'!$J$5:$J$30000,CONCATENATE(\"S\",B925),'Base Datos'!$I$5:$I$30000)","v":0},0,""]
[null,null,null,null,null,null,null,{"$f":"SUMIF('Base Datos'!$J$5:$J$30000,CONCATENATE(\"E\",B926),'Base Datos'!$I$5:$I$30000)","v":0},{"$f":"SUMIF('Base Datos'!$J$5:$J$30000,CONCATENATE(\"S\",B926),'Base Datos'!$I$5:$I$30000)","v":0},0,""]
[null,null,null,null,null,null,null,{"$f":"SUMIF('Base Datos'!$J$5:$J$30000,CONCATENATE(\"E\",B927),'Base Datos'!$I$5:$I$30000)","v":0},{"$f":"SUMIF('Base Datos'!$J$5:$J$30000,CONCATENATE(\"S\",B927),'Base Datos'!$I$5:$I$30000)","v":0},0,""]
[null,null,null,null,null,null,null,{"$f":"SUMIF('Base Datos'!$J$5:$J$30000,CONCATENATE(\"E\",B928),'Base Datos'!$I$5:$I$30000)","v":0},{"$f":"SUMIF('Base Datos'!$J$5:$J$30000,CONCATENATE(\"S\",B928),'Base Datos'!$I$5:$I$30000)","v":0},0,""]
[null,null,null,null,null,null,null,{"$f":"SUMIF('Base Datos'!$J$5:$J$30000,CONCATENATE(\"E\",B929),'Base Datos'!$I$5:$I$30000)","v":0},{"$f":"SUMIF('Base Datos'!$J$5:$J$30000,CONCATENATE(\"S\",B929),'Base Datos'!$I$5:$I$30000)","v":0},0,""]
[null,null,null,null,null,null,null,{"$f":"SUMIF('Base Datos'!$J$5:$J$30000,CONCATENATE(\"E\",B930),'Base Datos'!$I$5:$I$30000)","v":0},{"$f":"SUMIF('Base Datos'!$J$5:$J$30000,CONCATENATE(\"S\",B930),'Base Datos'!$I$5:$I$30000)","v":0},0,""]
[null,null,null,null,null,null,null,{"$f":"SUMIF('Base Datos'!$J$5:$J$30000,CONCATENATE(\"E\",B931),'Base Datos'!$I$5:$I$30000)","v":0},{"$f":"SUMIF('Base Datos'!$J$5:$J$30000,CONCATENATE(\"S\",B931),'Base Datos'!$I$5:$I$30000)","v":0},0,""]
[null,null,null,null,null,null,null,{"$f":"SUMIF('Base Datos'!$J$5:$J$30000,CONCATENATE(\"E\",B932),'Base Datos'!$I$5:$I$30000)","v":0},{"$f":"SUMIF('Base Datos'!$J$5:$J$30000,CONCATENATE(\"S\",B932),'Base Datos'!$I$5:$I$30000)","v":0},0,""]
[null,null,null,null,null,null,null,{"$f":"SUMIF('Base Datos'!$J$5:$J$30000,CONCATENATE(\"E\",B933),'Base Datos'!$I$5:$I$30000)","v":0},{"$f":"SUMIF('Base Datos'!$J$5:$J$30000,CONCATENATE(\"S\",B933),'Base Datos'!$I$5:$I$30000)","v":0},0,""]
[null,null,null,null,null,null,null,{"$f":"SUMIF('Base Datos'!$J$5:$J$30000,CONCATENATE(\"E\",B934),'Base Datos'!$I$5:$I$30000)","v":0},{"$f":"SUMIF('Base Datos'!$J$5:$J$30000,CONCATENATE(\"S\",B934),'Base Datos'!$I$5:$I$30000)","v":0},0,""]
[null,null,null,null,null,null,null,{"$f":"SUMIF('Base Datos'!$J$5:$J$30000,CONCATENATE(\"E\",B935),'Base Datos'!$I$5:$I$30000)","v":0},{"$f":"SUMIF('Base Datos'!$J$5:$J$30000,CONCATENATE(\"S\",B935),'Base Datos'!$I$5:$I$30000)","v":0},0,""]
[null,null,null,null,null,null,null,{"$f":"SUMIF('Base Datos'!$J$5:$J$30000,CONCATENATE(\"E\",B936),'Base Datos'!$I$5:$I$30000)","v":0},{"$f":"SUMIF('Base Datos'!$J$5:$J$30000,CONCATENATE(\"S\",B936),'Base Datos'!$I$5:$I$30000)","v":0},0,""]
[null,null,null,null,null,null,null,{"$f":"SUMIF('Base Datos'!$J$5:$J$30000,CONCATENATE(\"E\",B937),'Base Datos'!$I$5:$I$30000)","v":0},{"$f":"SUMIF('Base Datos'!$J$5:$J$30000,CONCATENATE(\"S\",B937),'Base Datos'!$I$5:$I$30000)","v":0},0,""]
[null,null,null,null,null,null,null,{"$f":"SUMIF('Base Datos'!$J$5:$J$30000,CONCATENATE(\"E\",B938),'Base Datos'!$I$5:$I$30000)","v":0},{"$f":"SUMIF('Base Datos'!$J$5:$J$30000,CONCATENATE(\"S\",B938),'Base Datos'!$I$5:$I$30000)","v":0},0,""]
[null,null,null,null,null,null,null,{"$f":"SUMIF('Base Datos'!$J$5:$J$30000,CONCATENATE(\"E\",B939),'Base Datos'!$I$5:$I$30000)","v":0},{"$f":"SUMIF('Base Datos'!$J$5:$J$30000,CONCATENATE(\"S\",B939),'Base Datos'!$I$5:$I$30000)","v":0},0,""]
[null,null,null,null,null,null,null,{"$f":"SUMIF('Base Datos'!$J$5:$J$30000,CONCATENATE(\"E\",B940),'Base Datos'!$I$5:$I$30000)","v":0},{"$f":"SUMIF('Base Datos'!$J$5:$J$30000,CONCATENATE(\"S\",B940),'Base Datos'!$I$5:$I$30000)","v":0},0,""]
[null,null,null,null,null,null,null,{"$f":"SUMIF('Base Datos'!$J$5:$J$30000,CONCATENATE(\"E\",B941),'Base Datos'!$I$5:$I$30000)","v":0},{"$f":"SUMIF('Base Datos'!$J$5:$J$30000,CONCATENATE(\"S\",B941),'Base Datos'!$I$5:$I$30000)","v":0},0,""]
[null,null,null,null,null,null,null,{"$f":"SUMIF('Base Datos'!$J$5:$J$30000,CONCATENATE(\"E\",B942),'Base Datos'!$I$5:$I$30000)","v":0},{"$f":"SUMIF('Base Datos'!$J$5:$J$30000,CONCATENATE(\"S\",B942),'Base Datos'!$I$5:$I$30000)","v":0},0,""]
[null,null,null,null,null,null,null,{"$f":"SUMIF('Base Datos'!$J$5:$J$30000,CONCATENATE(\"E\",B943),'Base Datos'!$I$5:$I$30000)","v":0},{"$f":"SUMIF('Base Datos'!$J$5:$J$30000,CONCATENATE(\"S\",B943),'Base Datos'!$I$5:$I$30000)","v":0},0,""]
[null,null,null,null,null,null,null,{"$f":"SUMIF('Base Datos'!$J$5:$J$30000,CONCATENATE(\"E\",B944),'Base Datos'!$I$5:$I$30000)","v":0},{"$f":"SUMIF('Base Datos'!$J$5:$J$30000,CONCATENATE(\"S\",B944),'Base Datos'!$I$5:$I$30000)","v":0},0,""]
[null,null,null,null,null,null,null,{"$f":"SUMIF('Base Datos'!$J$5:$J$30000,CONCATENATE(\"E\",B945),'Base Datos'!$I$5:$I$30000)","v":0},{"$f":"SUMIF('Base Datos'!$J$5:$J$30000,CONCATENATE(\"S\",B945),'Base Datos'!$I$5:$I$30000)","v":0},0,""]
[null,null,null,null,null,null,null,{"$f":"SUMIF('Base Datos'!$J$5:$J$30000,CONCATENATE(\"E\",B946),'Base Datos'!$I$5:$I$30000)","v":0},{"$f":"SUMIF('Base Datos'!$J$5:$J$30000,CONCATENATE(\"S\",B946),'Base Datos'!$I$5:$I$30000)","v":0},0,""]
[null,null,null,null,null,null,null,{"$f":"SUMIF('Base Datos'!$J$5:$J$30000,CONCATENATE(\"E\",B947),'Base Datos'!$I$5:$I$30000)","v":0},{"$f":"SUMIF('Base Datos'!$J$5:$J$30000,CONCATENATE(\"S\",B947),'Base Datos'!$I$5:$I$30000)","v":0},0,""]
[null,null,null,null,null,null,null,{"$f":"SUMIF('Base Datos'!$J$5:$J$30000,CONCATENATE(\"E\",B948),'Base Datos'!$I$5:$I$30000)","v":0},{"$f":"SUMIF('Base Datos'!$J$5:$J$30000,CONCATENATE(\"S\",B948),'Base Datos'!$I$5:$I$30000)","v":0},0,""]
[null,null,null,null,null,null,null,{"$f":"SUMIF('Base Datos'!$J$5:$J$30000,CONCATENATE(\"E\",B949),'Base Datos'!$I$5:$I$30000)","v":0},{"$f":"SUMIF('Base Datos'!$J$5:$J$30000,CONCATENATE(\"S\",B949),'Base Datos'!$I$5:$I$30000)","v":0},0,""]
[null,null,null,null,null,null,null,{"$f":"SUMIF('Base Datos'!$J$5:$J$30000,CONCATENATE(\"E\",B950),'Base Datos'!$I$5:$I$30000)","v":0},{"$f":"SUMIF('Base Datos'!$J$5:$J$30000,CONCATENATE(\"S\",B950),'Base Datos'!$I$5:$I$30000)","v":0},0,""]
[null,null,null,null,null,null,null,{"$f":"SUMIF('Base Datos'!$J$5:$J$30000,CONCATENATE(\"E\",B951),'Base Datos'!$I$5:$I$30000)","v":0},{"$f":"SUMIF('Base Datos'!$J$5:$J$30000,CONCATENATE(\"S\",B951),'Base Datos'!$I$5:$I$30000)","v":0},0,""]
[null,null,null,null,null,null,null,{"$f":"SUMIF('Base Datos'!$J$5:$J$30000,CONCATENATE(\"E\",B952),'Base Datos'!$I$5:$I$30000)","v":0},{"$f":"SUMIF('Base Datos'!$J$5:$J$30000,CONCATENATE(\"S\",B952),'Base Datos'!$I$5:$I$30000)","v":0},0,""]
[null,null,null,null,null,null,null,{"$f":"SUMIF('Base Datos'!$J$5:$J$30000,CONCATENATE(\"E\",B953),'Base Datos'!$I$5:$I$30000)","v":0},{"$f":"SUMIF('Base Datos'!$J$5:$J$30000,CONCATENATE(\"S\",B953),'Base Datos'!$I$5:$I$30000)","v":0},0,""]
[null,null,null,null,null,null,null,{"$f":"SUMIF('Base Datos'!$J$5:$J$30000,CONCATENATE(\"E\",B954),'Base Datos'!$I$5:$I$30000)","v":0},{"$f":"SUMIF('Base Datos'!$J$5:$J$30000,CONCATENATE(\"S\",B954),'Base Datos'!$I$5:$I$30000)","v":0},0,""]
[null,null,null,null,null,null,null,{"$f":"SUMIF('Base Datos'!$J$5:$J$30000,CONCATENATE(\"E\",B955),'Base Datos'!$I$5:$I$30000)","v":0},{"$f":"SUMIF('Base Datos'!$J$5:$J$30000,CONCATENATE(\"S\",B955),'Base Datos'!$I$5:$I$30000)","v":0},0,""]
[null,null,null,null,null,null,null,{"$f":"SUMIF('Base Datos'!$J$5:$J$30000,CONCATENATE(\"E\",B956),'Base Datos'!$I$5:$I$30000)","v":0},{"$f":"SUMIF('Base Datos'!$J$5:$J$30000,CONCATENATE(\"S\",B956),'Base Datos'!$I$5:$I$30000)","v":0},0,""]
[null,null,null,null,null,null,null,{"$f":"SUMIF('Base Datos'!$J$5:$J$30000,CONCATENATE(\"E\",B957),'Base Datos'!$I$5:$I$30000)","v":0},{"$f":"SUMIF('Base Datos'!$J$5:$J$30000,CONCATENATE(\"S\",B957),'Base Datos'!$I$5:$I$30000)","v":0},0,""]
[null,null,null,null,null,null,null,{"$f":"SUMIF('Base Datos'!$J$5:$J$30000,CONCATENATE(\"E\",B958),'Base Datos'!$I$5:$I$30000)","v":0},{"$f":"SUMIF('Base Datos'!$J$5:$J$30000,CONCATENATE(\"S\",B958),'Base Datos'!$I$5:$I$30000)","v":0},{"$f":"(G958+H958-I958)","v":0},""]
[null,null,null,null,null,null,null,{"$f":"SUMIF('Base Datos'!$J$5:$J$30000,CONCATENATE(\"E\",B959),'Base Datos'!$I$5:$I$30000)","v":0},{"$f":"SUMIF('Base Datos'!$J$5:$J$30000,CONCATENATE(\"S\",B959),'Base Datos'!$I$5:$I$30000)","v":0},0,""]
[null,null,null,null,null,null,null,{"$f":"SUMIF('Base Datos'!$J$5:$J$30000,CONCATENATE(\"E\",B960),'Base Datos'!$I$5:$I$30000)","v":0},{"$f":"SUMIF('Base Datos'!$J$5:$J$30000,CONCATENATE(\"S\",B960),'Base Datos'!$I$5:$I$30000)","v":0},0,""]
[null,null,null,null,null,null,null,{"$f":"SUMIF('Base Datos'!$J$5:$J$30000,CONCATENATE(\"E\",B961),'Base Datos'!$I$5:$I$30000)","v":0},{"$f":"SUMIF('Base Datos'!$J$5:$J$30000,CONCATENATE(\"S\",B961),'Base Datos'!$I$5:$I$30000)","v":0},0,""]
[null,null,null,null,null,null,null,{"$f":"SUMIF('Base Datos'!$J$5:$J$30000,CONCATENATE(\"E\",B962),'Base Datos'!$I$5:$I$30000)","v":0},{"$f":"SUMIF('Base Datos'!$J$5:$J$30000,CONCATENATE(\"S\",B962),'Base Datos'!$I$5:$I$30000)","v":0},0,""]
[null,null,null,null,null,null,null,{"$f":"SUMIF('Base Datos'!$J$5:$J$30000,CONCATENATE(\"E\",B963),'Base Datos'!$I$5:$I$30000)","v":0},{"$f":"SUMIF('Base Datos'!$J$5:$J$30000,CONCATENATE(\"S\",B963),'Base Datos'!$I$5:$I$30000)","v":0},0,""]
[null,null,null,null,null,null,null,{"$f":"SUMIF('Base Datos'!$J$5:$J$30000,CONCATENATE(\"E\",B964),'Base Datos'!$I$5:$I$30000)","v":0},{"$f":"SUMIF('Base Datos'!$J$5:$J$30000,CONCATENATE(\"S\",B964),'Base Datos'!$I$5:$I$30000)","v":0},0,""]
[null,null,null,null,null,null,null,{"$f":"SUMIF('Base Datos'!$J$5:$J$30000,CONCATENATE(\"E\",B965),'Base Datos'!$I$5:$I$30000)","v":0},{"$f":"SUMIF('Base Datos'!$J$5:$J$30000,CONCATENATE(\"S\",B965),'Base Datos'!$I$5:$I$30000)","v":0},0,""]
[null,null,null,null,null,null,null,{"$f":"SUMIF('Base Datos'!$J$5:$J$30000,CONCATENATE(\"E\",B966),'Base Datos'!$I$5:$I$30000)","v":0},{"$f":"SUMIF('Base Datos'!$J$5:$J$30000,CONCATENATE(\"S\",B966),'Base Datos'!$I$5:$I$30000)","v":0},0,""]
[null,null,null,null,null,null,null,{"$f":"SUMIF('Base Datos'!$J$5:$J$30000,CONCATENATE(\"E\",B967),'Base Datos'!$I$5:$I$30000)","v":0},{"$f":"SUMIF('Base Datos'!$J$5:$J$30000,CONCATENATE(\"S\",B967),'Base Datos'!$I$5:$I$30000)","v":0},0,{"$f":"IFERROR(ROUND(J967/F967,0),\"\")","v":""}]
[null,null,null,null,null,null,null,{"$f":"SUMIF('Base Datos'!$J$5:$J$30000,CONCATENATE(\"E\",B968),'Base Datos'!$I$5:$I$30000)","v":0},{"$f":"SUMIF('Base Datos'!$J$5:$J$30000,CONCATENATE(\"S\",B968),'Base Datos'!$I$5:$I$30000)","v":0},0,""]
[null,null,null,null,null,null,null,{"$f":"SUMIF('Base Datos'!$J$5:$J$30000,CONCATENATE(\"E\",B969),'Base Datos'!$I$5:$I$30000)","v":0},{"$f":"SUMIF('Base Datos'!$J$5:$J$30000,CONCATENATE(\"S\",B969),'Base Datos'!$I$5:$I$30000)","v":0},0,""]
[null,null,null,null,null,null,null,{"$f":"SUMIF('Base Datos'!$J$5:$J$30000,CONCATENATE(\"E\",B970),'Base Datos'!$I$5:$I$30000)","v":0},{"$f":"SUMIF('Base Datos'!$J$5:$J$30000,CONCATENATE(\"S\",B970),'Base Datos'!$I$5:$I$30000)","v":0},0,""]
[null,null,null,null,null,null,null,{"$f":"SUMIF('Base Datos'!$J$5:$J$30000,CONCATENATE(\"E\",B971),'Base Datos'!$I$5:$I$30000)","v":0},{"$f":"SUMIF('Base Datos'!$J$5:$J$30000,CONCATENATE(\"S\",B971),'Base Datos'!$I$5:$I$30000)","v":0},0,""]
[null,null,null,null,null,null,null,{"$f":"SUMIF('Base Datos'!$J$5:$J$30000,CONCATENATE(\"E\",B972),'Base Datos'!$I$5:$I$30000)","v":0},{"$f":"SUMIF('Base Datos'!$J$5:$J$30000,CONCATENATE(\"S\",B972),'Base Datos'!$I$5:$I$30000)","v":0},0,""]
[null,null,null,null,null,null,null,{"$f":"SUMIF('Base Datos'!$J$5:$J$30000,CONCATENATE(\"E\",B973),'Base Datos'!$I$5:$I$30000)","v":0},{"$f":"SUMIF('Base Datos'!$J$5:$J$30000,CONCATENATE(\"S\",B973),'Base Datos'!$I$5:$I$30000)","v":0},0,""]
[null,null,null,null,null,null,null,{"$f":"SUMIF('Base Datos'!$J$5:$J$30000,CONCATENATE(\"E\",B974),'Base Datos'!$I$5:$I$30000)","v":0},{"$f":"SUMIF('Base Datos'!$J$5:$J$30000,CONCATENATE(\"S\",B974),'Base Datos'!$I$5:$I$30000)","v":0},0,""]
[null,null,null,null,null,null,null,{"$f":"SUMIF('Base Datos'!$J$5:$J$30000,CONCATENATE(\"E\",B975),'Base Datos'!$I$5:$I$30000)","v":0},{"$f":"SUMIF('Base Datos'!$J$5:$J$30000,CONCATENATE(\"S\",B975),'Base Datos'!$I$5:$I$30000)","v":0},0,""]
[null,null,null,null,null,null,null,{"$f":"SUMIF('Base Datos'!$J$5:$J$30000,CONCATENATE(\"E\",B976),'Base Datos'!$I$5:$I$30000)","v":0},{"$f":"SUMIF('Base Datos'!$J$5:$J$30000,CONCATENATE(\"S\",B976),'Base Datos'!$I$5:$I$30000)","v":0},0,""]
[null,null,null,null,null,null,null,{"$f":"SUMIF('Base Datos'!$J$5:$J$30000,CONCATENATE(\"E\",B977),'Base Datos'!$I$5:$I$30000)","v":0},{"$f":"SUMIF('Base Datos'!$J$5:$J$30000,CONCATENATE(\"S\",B977),'Base Datos'!$I$5:$I$30000)","v":0},0,""]
[null,null,null,null,null,null,null,{"$f":"SUMIF('Base Datos'!$J$5:$J$30000,CONCATENATE(\"E\",B978),'Base Datos'!$I$5:$I$30000)","v":0},{"$f":"SUMIF('Base Datos'!$J$5:$J$30000,CONCATENATE(\"S\",B978),'Base Datos'!$I$5:$I$30000)","v":0},0,""]
[null,null,null,null,null,null,null,{"$f":"SUMIF('Base Datos'!$J$5:$J$30000,CONCATENATE(\"E\",B979),'Base Datos'!$I$5:$I$30000)","v":0},{"$f":"SUMIF('Base Datos'!$J$5:$J$30000,CONCATENATE(\"S\",B979),'Base Datos'!$I$5:$I$30000)","v":0},0,""]
[null,null,null,null,null,null,null,{"$f":"SUMIF('Base Datos'!$J$5:$J$30000,CONCATENATE(\"E\",B980),'Base Datos'!$I$5:$I$30000)","v":0},{"$f":"SUMIF('Base Datos'!$J$5:$J$30000,CONCATENATE(\"S\",B980),'Base Datos'!$I$5:$I$30000)","v":0},0,""]
[null,null,null,null,null,null,null,{"$f":"SUMIF('Base Datos'!$J$5:$J$30000,CONCATENATE(\"E\",B981),'Base Datos'!$I$5:$I$30000)","v":0},{"$f":"SUMIF('Base Datos'!$J$5:$J$30000,CONCATENATE(\"S\",B981),'Base Datos'!$I$5:$I$30000)","v":0},0,""]
[null,null,null,null,null,null,null,{"$f":"SUMIF('Base Datos'!$J$5:$J$30000,CONCATENATE(\"E\",B982),'Base Datos'!$I$5:$I$30000)","v":0},{"$f":"SUMIF('Base Datos'!$J$5:$J$30000,CONCATENATE(\"S\",B982),'Base Datos'!$I$5:$I$30000)","v":0},0,""]
[null,null,null,null,null,null,null,{"$f":"SUMIF('Base Datos'!$J$5:$J$30000,CONCATENATE(\"E\",B983),'Base Datos'!$I$5:$I$30000)","v":0},{"$f":"SUMIF('Base Datos'!$J$5:$J$30000,CONCATENATE(\"S\",B983),'Base Datos'!$I$5:$I$30000)","v":0},0,""]
[null,null,null,null,null,null,null,{"$f":"SUMIF('Base Datos'!$J$5:$J$30000,CONCATENATE(\"E\",B984),'Base Datos'!$I$5:$I$30000)","v":0},{"$f":"SUMIF('Base Datos'!$J$5:$J$30000,CONCATENATE(\"S\",B984),'Base Datos'!$I$5:$I$30000)","v":0},0,""]
[null,null,null,null,null,null,null,{"$f":"SUMIF('Base Datos'!$J$5:$J$30000,CONCATENATE(\"E\",B985),'Base Datos'!$I$5:$I$30000)","v":0},{"$f":"SUMIF('Base Datos'!$J$5:$J$30000,CONCATENATE(\"S\",B985),'Base Datos'!$I$5:$I$30000)","v":0},0,""]
[null,null,null,null,null,null,null,{"$f":"SUMIF('Base Datos'!$J$5:$J$30000,CONCATENATE(\"E\",B986),'Base Datos'!$I$5:$I$30000)","v":0},{"$f":"SUMIF('Base Datos'!$J$5:$J$30000,CONCATENATE(\"S\",B986),'Base Datos'!$I$5:$I$30000)","v":0},0,""]
[null,null,null,null,null,null,null,{"$f":"SUMIF('Base Datos'!$J$5:$J$30000,CONCATENATE(\"E\",B987),'Base Datos'!$I$5:$I$30000)","v":0},{"$f":"SUMIF('Base Datos'!$J$5:$J$30000,CONCATENATE(\"S\",B987),'Base Datos'!$I$5:$I$30000)","v":0},0,""]
[null,null,null,null,null,null,null,{"$f":"SUMIF('Base Datos'!$J$5:$J$30000,CONCATENATE(\"E\",B988),'Base Datos'!$I$5:$I$30000)","v":0},{"$f":"SUMIF('Base Datos'!$J$5:$J$30000,CONCATENATE(\"S\",B988),'Base Datos'!$I$5:$I$30000)","v":0},0,""]
[null,null,null,null,null,null,null,{"$f":"SUMIF('Base Datos'!$J$5:$J$30000,CONCATENATE(\"E\",B989),'Base Datos'!$I$5:$I$30000)","v":0},{"$f":"SUMIF('Base Datos'!$J$5:$J$30000,CONCATENATE(\"S\",B989),'Base Datos'!$I$5:$I$30000)","v":0},0,""]
[null,null,null,null,null,null,null,{"$f":"SUMIF('Base Datos'!$J$5:$J$30000,CONCATENATE(\"E\",B990),'Base Datos'!$I$5:$I$30000)","v":0},{"$f":"SUMIF('Base Datos'!$J$5:$J$30000,CONCATENATE(\"S\",B990),'Base Datos'!$I$5:$I$30000)","v":0},0,""]
[null,null,null,null,null,null,null,{"$f":"SUMIF('Base Datos'!$J$5:$J$30000,CONCATENATE(\"E\",B991),'Base Datos'!$I$5:$I$30000)","v":0},{"$f":"SUMIF('Base Datos'!$J$5:$J$30000,CONCATENATE(\"S\",B991),'Base Datos'!$I$5:$I$30000)","v":0},0,""]
[null,null,null,null,null,null,null,{"$f":"SUMIF('Base Datos'!$J$5:$J$30000,CONCATENATE(\"E\",B992),'Base Datos'!$I$5:$I$30000)","v":0},{"$f":"SUMIF('Base Datos'!$J$5:$J$30000,CONCATENATE(\"S\",B992),'Base Datos'!$I$5:$I$30000)","v":0},0,""]
[null,null,null,null,null,null,null,{"$f":"SUMIF('Base Datos'!$J$5:$J$30000,CONCATENATE(\"E\",B993),'Base Datos'!$I$5:$I$30000)","v":0},{"$f":"SUMIF('Base Datos'!$J$5:$J$30000,CONCATENATE(\"S\",B993),'Base Datos'!$I$5:$I$30000)","v":0},0,""]
[null,null,null,null,null,null,null,{"$f":"SUMIF('Base Datos'!$J$5:$J$30000,CONCATENATE(\"E\",B994),'Base Datos'!$I$5:$I$30000)","v":0},{"$f":"SUMIF('Base Datos'!$J$5:$J$30000,CONCATENATE(\"S\",B994),'Base Datos'!$I$5:$I$30000)","v":0},0,""]
[null,null,null,null,null,null,null,{"$f":"SUMIF('Base Datos'!$J$5:$J$30000,CONCATENATE(\"E\",B995),'Base Datos'!$I$5:$I$30000)","v":0},{"$f":"SUMIF('Base Datos'!$J$5:$J$30000,CONCATENATE(\"S\",B995),'Base Datos'!$I$5:$I$30000)","v":0},0,""]
[null,null,null,null,null,null,null,{"$f":"SUMIF('Base Datos'!$J$5:$J$30000,CONCATENATE(\"E\",B996),'Base Datos'!$I$5:$I$30000)","v":0},{"$f":"SUMIF('Base Datos'!$J$5:$J$30000,CONCATENATE(\"S\",B996),'Base Datos'!$I$5:$I$30000)","v":0},0,""]
[null,null,null,null,null,null,null,{"$f":"SUMIF('Base Datos'!$J$5:$J$30000,CONCATENATE(\"E\",B997),'Base Datos'!$I$5:$I$30000)","v":0},{"$f":"SUMIF('Base Datos'!$J$5:$J$30000,CONCATENATE(\"S\",B997),'Base Datos'!$I$5:$I$30000)","v":0},0,""]
[null,null,null,null,null,null,null,{"$f":"SUMIF('Base Datos'!$J$5:$J$30000,CONCATENATE(\"E\",B998),'Base Datos'!$I$5:$I$30000)","v":0},{"$f":"SUMIF('Base Datos'!$J$5:$J$30000,CONCATENATE(\"S\",B998),'Base Datos'!$I$5:$I$30000)","v":0},0,""]
[null,null,null,null,null,null,null,{"$f":"SUMIF('Base Datos'!$J$5:$J$30000,CONCATENATE(\"E\",B999),'Base Datos'!$I$5:$I$30000)","v":0},{"$f":"SUMIF('Base Datos'!$J$5:$J$30000,CONCATENATE(\"S\",B999),'Base Datos'!$I$5:$I$30000)","v":0},0,""]
[null,null,null,null,null,null,null,{"$f":"SUMIF('Base Datos'!$J$5:$J$30000,CONCATENATE(\"E\",B1000),'Base Datos'!$I$5:$I$30000)","v":0},{"$f":"SUMIF('Base Datos'!$J$5:$J$30000,CONCATENATE(\"S\",B1000),'Base Datos'!$I$5:$I$30000)","v":0},0,""]
[]
[null,null,92]
[null,null,{"$f":"INDEX(C6:C1000,C1002)","v":0}]

{"sheet":"Indices","index":3,"n_rows":13,"n_cols":8,"rows_kept":13,"cut":false,"hidden":false,"merged":[[3,2,3,3]]}
[]
[null,"INDICES DE CONTROL"]
[]
[null,null,"Rango Días",null,null,"Ref.",null,"% Partic."]
[null,"Cantidad de referencias agotadas",0,"<=",null,{"$f":"COUNTIF('Control Inv'!$K$6:$K$1000,\"<=\"&C5)","v":0},null,{"$f":"IFERROR(F5/$F$13,0)","v":0}]
[]
[null,"Cantidad de referencias estado critico",1,5,null,{"$f":"COUNTIFS('Control Inv'!$K$6:$K$1000,\">=\"&C7,'Control Inv'!$K$6:$K$1000,\"<=\"&D7)","v":1},null,{"$f":"IFERROR(F7/$F$13,0)","v":0.16666666666666666}]
[]
[null,"Cantidad de referencias inventario optimo",6,30,null,{"$f":"COUNTIFS('Control Inv'!$K$6:$K$1000,\">=\"&C9,'Control Inv'!$K$6:$K$1000,\"<=\"&D9)","v":3},null,{"$f":"IFERROR(F9/$F$13,0)","v":0.5}]
[]
[null,"Cantidad de referencias exceso de inventario",31,">=",null,{"$f":"COUNTIF('Control Inv'!$K$6:$K$1000,\">=\"&C11)","v":2},null,{"$f":"IFERROR(F11/$F$13,0)","v":0.33333333333333331}]
[]
[null,"Total de referencias en inventario",null,null,null,{"$f":"SUM(F5:F11)","v":6},null,{"$f":"SUM(H5:H11)","v":1}]

{"sheet":"Consultas","index":4,"n_rows":47,"n_cols":10,"rows_kept":47,"cut":false,"hidden":true,"merged":[[39,1,39,2],[40,1,40,2],[39,3,39,5],[40,3,40,5],[1,1,1,4],[5,3,5,4],[6,1,6,4],[3,2,3,4],[26,2,26,4],[37,2,37,4]]}
[]
[null,"Consulta de información"]
[]
[null,null,"Consulta de Cartera Clientes"]
[]
[null,"Salida:","S001",{"$f":"IF(C6<>0,(INDEX(#REF!,MATCH($C$6,#REF!,0),1)),\"\")","v":{"$error":"#REF!"}}]
[null,{"$f":"IF(C6<>0,(INDEX(#REF!,MATCH($C$6,#REF!,0),3)),\"\")","v":{"$error":"#REF!"}}]
[]
[null,"Codigo","Producto","Marca","Talla","Cantidad","$$  Und.","$$  Total","Abonos","Saldo"]
[null,0,null,null,0]
[null,0,null,null,0]
[null,0,null,null,0]
[null,0,null,null,0]
[null,0,null,null,0]
[null,0,null,null,0]
[null,0,null,null,0]
[null,0,null,null,0]
[null,0,0,0,0]
[null,0,0,0,0,0,0,0,0,0]
[null,0,0,0,0,0,0,0,0,0]
[null,0,0,0,0,0,0,0,0,0]
[null,0,0,0,0,0,0,0,0,0]
[null,0,0,0,0,0,0,0,0,0]
[null,0,0,0,0,0,0,0,0,0]
[null,null,null,null,null,null,null,{"$f":"SUM(H10:H24)","v":0},{"$f":"SUM(I10:I24)","v":0},{"$f":"SUM(J10:J24)","v":0}]
[]
[null,null,"Consulta de Productos en Inventario"]
[]
[null,"Codigo","Producto","Marca","Talla","$ Costo","$ Venta","% Utili."]
[null,{"$f":"(INDEX('Control Inv'!$B$6:$J$1000,MATCH('Control Inv'!$C$1003,'Control Inv'!$C$6:$C$1000,0),1))","v":{"$error":"#N/A"}},null,{"$f":"(INDEX('Control Inv'!$B$6:$J$1000,MATCH('Control Inv'!$C$1003,'Control Inv'!$C$6:$C$1000,0),3))","v":{"$error":"#N/A"}},{"$f":"(INDEX('Control Inv'!$B$6:$J$1000,MATCH('Control Inv'!$C$1003,'Control Inv'!$C$6:$C$1000,0),4))","v":{"$error":"#N/A"}},{"$f":"(INDEX('Control Inv'!$B$6:$J$1000,MATCH('Control Inv'!$C$1003,'Control Inv'!$C$6:$C$1000,0),5))","v":{"$error":"#N/A"}},{"$f":"(INDEX('Control Inv'!$B$6:$J$1000,MATCH('Control Inv'!$C$1003,'Control Inv'!$C$6:$C$1000,0),6))","v":{"$error":"#N/A"}},{"$f":"(INDEX('Control Inv'!$B$6:$J$1000,MATCH('Control Inv'!$C$1003,'Control Inv'!$C$6:$C$1000,0),7))","v":{"$error":"#N/A"}}]
[]
[null,null,null,"Saldo Inicial","Entradas","Salidas","Saldo Act."]
[null,null,"Movimiento en Unidades",{"$f":"(INDEX('Control Inv'!$B$6:$J$1000,MATCH('Control Inv'!$C$1003,'Control Inv'!$C$6:$C$1000,0),8))","v":{"$error":"#N/A"}},{"$f":"(INDEX('Control Inv'!$B$6:$J$1000,MATCH('Control Inv'!$C$1003,'Control Inv'!$C$6:$C$1000,0),9))","v":{"$error":"#N/A"}},{"$f":"(INDEX('Control Inv'!$B$6:$J$1000,MATCH('Control Inv'!$C$1003,'Control Inv'!$C$6:$C$1000,0),10))","v":{"$error":"#N/A"}},{"$f":"(INDEX('Control Inv'!$B$6:$J$1000,MATCH('Control Inv'!$C$1003,'Control Inv'!$C$6:$C$1000,0),11))","v":{"$error":"#N/A"}}]
[null,null,"Movimiento en $ Costos",null,{"$f":"(INDEX('Control Inv'!$B$6:$J$1000,MATCH('Control Inv'!$C$1003,'Control Inv'!$C$6:$C$1000,0),12))","v":{"$error":"#N/A"}},{"$f":"(INDEX('Control Inv'!$B$6:$J$1000,MATCH('Control Inv'!$C$1003,'Control Inv'!$C$6:$C$1000,0),13))","v":{"$error":"#N/A"}},{"$f":"(INDEX('Control Inv'!$B$6:$J$1000,MATCH('Control Inv'!$C$1003,'Control Inv'!$C$6:$C$1000,0),14))","v":{"$error":"#N/A"}}]
[null,null,"Movimiento en $ Venta",null,{"$f":"(INDEX('Control Inv'!$B$6:$J$1000,MATCH('Control Inv'!$C$1003,'Control Inv'!$C$6:$C$1000,0),15))","v":{"$error":"#N/A"}},{"$f":"(INDEX('Control Inv'!$B$6:$J$1000,MATCH('Control Inv'!$C$1003,'Control Inv'!$C$6:$C$1000,0),16))","v":{"$error":"#N/A"}},{"$f":"(INDEX('Control Inv'!$B$6:$J$1000,MATCH('Control Inv'!$C$1003,'Control Inv'!$C$6:$C$1000,0),16))","v":{"$error":"#N/A"}}]
[]
[]
[null,null,"Consulta Financiera por Periodo"]
[]
[null,"Ingrese fecha Inicial del Periodo a Consultar",null,"2007-12-01"]
[null,"  Ingrese fecha Final del Periodo a Consultar",null,"2007-12-31"]
[]
[null,null,"Valor de Venta de la Mercancia",{"$f":"SUMIF(#REF!,\"=1\",#REF!)","v":{"$error":"#REF!"}}]
[null,null,"Costo Compra de la Mercancia",{"$f":"SUMIF('Base Datos'!#REF!,\"=1\",'Base Datos'!#REF!)","v":{"$error":"#REF!"}}]
[null,null,"Utilidad Neta Teorica",{"$f":"(D43-D44)","v":{"$error":"#REF!"}}]
[]
[null,null,"Recaudos del Periodo",{"$f":"SUMIF(#REF!,\"=1\",#REF!)","v":{"$error":"#REF!"}},{"$f":"D47/D43","v":{"$error":"#REF!"}}]